BEGIN:VCALENDAR
VERSION:2.0
PRODID:-//Tonbridge School Centre - ECPv6.15.18//NONSGML v1.0//EN
CALSCALE:GREGORIAN
METHOD:PUBLISH
X-WR-CALNAME:Tonbridge School Centre
X-ORIGINAL-URL:https://www.tonbridgeschoolcentre.co.uk
X-WR-CALDESC:Events for Tonbridge School Centre
REFRESH-INTERVAL;VALUE=DURATION:PT1H
X-Robots-Tag:noindex
X-PUBLISHED-TTL:PT1H
BEGIN:VTIMEZONE
TZID:Europe/London
BEGIN:DAYLIGHT
TZOFFSETFROM:+0000
TZOFFSETTO:+0100
TZNAME:BST
DTSTART:20240331T010000
END:DAYLIGHT
BEGIN:STANDARD
TZOFFSETFROM:+0100
TZOFFSETTO:+0000
TZNAME:GMT
DTSTART:20241027T010000
END:STANDARD
BEGIN:DAYLIGHT
TZOFFSETFROM:+0000
TZOFFSETTO:+0100
TZNAME:BST
DTSTART:20250330T010000
END:DAYLIGHT
BEGIN:STANDARD
TZOFFSETFROM:+0100
TZOFFSETTO:+0000
TZNAME:GMT
DTSTART:20251026T010000
END:STANDARD
BEGIN:DAYLIGHT
TZOFFSETFROM:+0000
TZOFFSETTO:+0100
TZNAME:BST
DTSTART:20260329T010000
END:DAYLIGHT
BEGIN:STANDARD
TZOFFSETFROM:+0100
TZOFFSETTO:+0000
TZNAME:GMT
DTSTART:20261025T010000
END:STANDARD
END:VTIMEZONE
BEGIN:VEVENT
DTSTART;TZID=Europe/London:20250924T083000
DTEND;TZID=Europe/London:20250924T091500
DTSTAMP:20260423T141511
CREATED:20250903T130557Z
LAST-MODIFIED:20250923T074329Z
UID:10001238-1758702600-1758705300@www.tonbridgeschoolcentre.co.uk
SUMMARY:Class: Deep Water Aqua
DESCRIPTION:Instructor: Ian.
URL:https://www.tonbridgeschoolcentre.co.uk/event/class-deep-water-aqua-8/
CATEGORIES:Classes,Deep Water Aqua,Water Based
END:VEVENT
BEGIN:VEVENT
DTSTART;TZID=Europe/London:20250924T070000
DTEND;TZID=Europe/London:20250924T140000
DTSTAMP:20260423T141511
CREATED:20250904T101008Z
LAST-MODIFIED:20250922T163640Z
UID:10001447-1758697200-1758722400@www.tonbridgeschoolcentre.co.uk
SUMMARY:Clay Tennis Courts
DESCRIPTION:Tennis courts can be booked online or via the TSC reception.
URL:https://www.tonbridgeschoolcentre.co.uk/event/clay-tennis-courts-118/
CATEGORIES:Clay Tennis Courts
END:VEVENT
BEGIN:VEVENT
DTSTART;TZID=Europe/London:20250924T070000
DTEND;TZID=Europe/London:20250924T134500
DTSTAMP:20260423T141511
CREATED:20250904T100013Z
LAST-MODIFIED:20250922T154701Z
UID:10001407-1758697200-1758721500@www.tonbridgeschoolcentre.co.uk
SUMMARY:Sauna
DESCRIPTION:
URL:https://www.tonbridgeschoolcentre.co.uk/event/sauna-130/
CATEGORIES:Sauna
END:VEVENT
BEGIN:VEVENT
DTSTART;TZID=Europe/London:20250924T070000
DTEND;TZID=Europe/London:20250924T133000
DTSTAMP:20260423T141511
CREATED:20250904T100704Z
LAST-MODIFIED:20250922T163239Z
UID:10001437-1758697200-1758720600@www.tonbridgeschoolcentre.co.uk
SUMMARY:Athletics Track
DESCRIPTION:Inside two lanes of the Track are not to be used.
URL:https://www.tonbridgeschoolcentre.co.uk/event/athletics-track-78/
CATEGORIES:Athletics Track
END:VEVENT
BEGIN:VEVENT
DTSTART;TZID=Europe/London:20250924T070000
DTEND;TZID=Europe/London:20250924T083000
DTSTAMP:20260423T141511
CREATED:20250903T191403Z
LAST-MODIFIED:20250922T150009Z
UID:10001377-1758697200-1758702600@www.tonbridgeschoolcentre.co.uk
SUMMARY:Double Lane Swimming
DESCRIPTION:Lane swimming is for both adults and children in a double lane. Children must be competent swimmers who can confidently swim lengths. \nPlease note on Tuesday morning 11:30am – 1:30pm the swimming pool and Fitness Suite is shared with Active Life Members.
URL:https://www.tonbridgeschoolcentre.co.uk/event/double-lane-swimming-56/
CATEGORIES:Double Lane Swimming,Swimming
END:VEVENT
BEGIN:VEVENT
DTSTART;TZID=Europe/London:20250924T060000
DTEND;TZID=Europe/London:20250924T094500
DTSTAMP:20260423T141511
CREATED:20250904T100620Z
LAST-MODIFIED:20250922T155426Z
UID:10001423-1758693600-1758707100@www.tonbridgeschoolcentre.co.uk
SUMMARY:Fitness Suite
DESCRIPTION:Please note on Tuesday morning 11:30am – 1:30pm the swimming pool and Fitness Suite is shared with Active Life Members.
URL:https://www.tonbridgeschoolcentre.co.uk/event/fitness-suite-137/
CATEGORIES:Fitness Suite
END:VEVENT
BEGIN:VEVENT
DTSTART;TZID=Europe/London:20250924T060000
DTEND;TZID=Europe/London:20250924T070000
DTSTAMP:20260423T141511
CREATED:20250903T191403Z
LAST-MODIFIED:20250922T150008Z
UID:10001376-1758693600-1758697200@www.tonbridgeschoolcentre.co.uk
SUMMARY:Lane Swimming
DESCRIPTION:Lane Swimming in the pool for adults and children in a single lane with another activity in the other side of the pool. \nPlease note on Tuesday morning 11:30am – 1:30pm the swimming pool and Fitness Suite is shared with Active Life Members.
URL:https://www.tonbridgeschoolcentre.co.uk/event/lane-swimming-36/
CATEGORIES:Lane Swimming,Swimming
END:VEVENT
BEGIN:VEVENT
DTSTART;TZID=Europe/London:20250923T201500
DTEND;TZID=Europe/London:20250923T210000
DTSTAMP:20260423T141511
CREATED:20250904T100949Z
LAST-MODIFIED:20250922T163640Z
UID:10001446-1758658500-1758661200@www.tonbridgeschoolcentre.co.uk
SUMMARY:Clay Tennis Courts
DESCRIPTION:Tennis courts can be booked online or via the TSC reception.
URL:https://www.tonbridgeschoolcentre.co.uk/event/clay-tennis-courts-117/
CATEGORIES:Clay Tennis Courts
END:VEVENT
BEGIN:VEVENT
DTSTART;TZID=Europe/London:20250923T200000
DTEND;TZID=Europe/London:20250923T210000
DTSTAMP:20260423T141511
CREATED:20250903T130557Z
LAST-MODIFIED:20250923T074329Z
UID:10001237-1758657600-1758661200@www.tonbridgeschoolcentre.co.uk
SUMMARY:Class: Yin Yoga
DESCRIPTION:Instructor: Katya.
URL:https://www.tonbridgeschoolcentre.co.uk/event/class-yin-yoga-8/
CATEGORIES:Classes,Mind & Body,Yin Yoga
END:VEVENT
BEGIN:VEVENT
DTSTART;TZID=Europe/London:20250923T190000
DTEND;TZID=Europe/London:20250923T200000
DTSTAMP:20260423T141511
CREATED:20250903T130557Z
LAST-MODIFIED:20250923T074329Z
UID:10001236-1758654000-1758657600@www.tonbridgeschoolcentre.co.uk
SUMMARY:Class: Vinyasa Yoga
DESCRIPTION:Instructor: Monica.
URL:https://www.tonbridgeschoolcentre.co.uk/event/class-vinyasa-yoga-43/
CATEGORIES:Classes,Mind & Body,Vinyasa Yoga
END:VEVENT
BEGIN:VEVENT
DTSTART;TZID=Europe/London:20250923T180000
DTEND;TZID=Europe/London:20250923T210000
DTSTAMP:20260423T141511
CREATED:20250904T100620Z
LAST-MODIFIED:20250922T155318Z
UID:10001422-1758650400-1758661200@www.tonbridgeschoolcentre.co.uk
SUMMARY:Fitness Suite
DESCRIPTION:Please note on Tuesday morning 11:30am – 1:30pm the swimming pool and Fitness Suite is shared with Active Life Members.
URL:https://www.tonbridgeschoolcentre.co.uk/event/fitness-suite-136/
CATEGORIES:Fitness Suite
END:VEVENT
BEGIN:VEVENT
DTSTART;TZID=Europe/London:20250923T180000
DTEND;TZID=Europe/London:20250923T185500
DTSTAMP:20260423T141511
CREATED:20250903T130556Z
LAST-MODIFIED:20250923T074325Z
UID:10001235-1758650400-1758653700@www.tonbridgeschoolcentre.co.uk
SUMMARY:Class: Box Fit
DESCRIPTION:Instructor: Jade.
URL:https://www.tonbridgeschoolcentre.co.uk/event/class-box-fit-8/
CATEGORIES:Box Fit,Classes,Strength
END:VEVENT
BEGIN:VEVENT
DTSTART;TZID=Europe/London:20250923T180000
DTEND;TZID=Europe/London:20250923T184500
DTSTAMP:20260423T141511
CREATED:20250903T130457Z
LAST-MODIFIED:20250923T074325Z
UID:10001234-1758650400-1758653100@www.tonbridgeschoolcentre.co.uk
SUMMARY:Class: Barre Fit
DESCRIPTION:Instructor: Monica.
URL:https://www.tonbridgeschoolcentre.co.uk/event/class-barre-fit-12/
CATEGORIES:Barre Fit,Classes,Strength
END:VEVENT
BEGIN:VEVENT
DTSTART;TZID=Europe/London:20250923T173000
DTEND;TZID=Europe/London:20250923T210000
DTSTAMP:20260423T141511
CREATED:20250904T100013Z
LAST-MODIFIED:20250922T154701Z
UID:10001406-1758648600-1758661200@www.tonbridgeschoolcentre.co.uk
SUMMARY:Sauna
DESCRIPTION:
URL:https://www.tonbridgeschoolcentre.co.uk/event/sauna-129/
CATEGORIES:Sauna
END:VEVENT
BEGIN:VEVENT
DTSTART;TZID=Europe/London:20250923T173000
DTEND;TZID=Europe/London:20250923T193000
DTSTAMP:20260423T141511
CREATED:20250903T191354Z
LAST-MODIFIED:20250922T150008Z
UID:10001375-1758648600-1758655800@www.tonbridgeschoolcentre.co.uk
SUMMARY:Members Swim
DESCRIPTION:Lane Swimming in half the pool and casual swimming in half the pool\, for Adult and Children Members. \nPlease note on Tuesday morning 11:30am – 1:30pm the swimming pool and Fitness Suite is shared with Active Life Members.
URL:https://www.tonbridgeschoolcentre.co.uk/event/members-swim-148/
CATEGORIES:Members Swim,Swimming
END:VEVENT
BEGIN:VEVENT
DTSTART;TZID=Europe/London:20250923T130000
DTEND;TZID=Europe/London:20250923T140000
DTSTAMP:20260423T141511
CREATED:20250903T130457Z
LAST-MODIFIED:20250923T074325Z
UID:10001233-1758632400-1758636000@www.tonbridgeschoolcentre.co.uk
SUMMARY:Class: Vinyasa Yoga
DESCRIPTION:Instructor: Sumiko.
URL:https://www.tonbridgeschoolcentre.co.uk/event/class-vinyasa-yoga-42/
CATEGORIES:Classes,Mind & Body,Vinyasa Yoga
END:VEVENT
BEGIN:VEVENT
DTSTART;TZID=Europe/London:20250923T130000
DTEND;TZID=Europe/London:20250923T134500
DTSTAMP:20260423T141511
CREATED:20250903T130457Z
LAST-MODIFIED:20250923T074325Z
UID:10001232-1758632400-1758635100@www.tonbridgeschoolcentre.co.uk
SUMMARY:Class: Core Classics
DESCRIPTION:Instructor: Josh V.
URL:https://www.tonbridgeschoolcentre.co.uk/event/class-core-classics-11/
CATEGORIES:Classes,Core Classics,Flexibility & Core
END:VEVENT
BEGIN:VEVENT
DTSTART;TZID=Europe/London:20250923T113000
DTEND;TZID=Europe/London:20250923T133000
DTSTAMP:20260423T141511
CREATED:20250922T115735Z
LAST-MODIFIED:20250922T164545Z
UID:10001473-1758627000-1758634200@www.tonbridgeschoolcentre.co.uk
SUMMARY:Active Life: Sports Hall (Badminton & Table Tennis)
DESCRIPTION:Instructor: Angela
URL:https://www.tonbridgeschoolcentre.co.uk/event/active-life-sports-hall-badminton-table-tennis-9/
CATEGORIES:Active Life
END:VEVENT
BEGIN:VEVENT
DTSTART;TZID=Europe/London:20250923T113000
DTEND;TZID=Europe/London:20250923T133000
DTSTAMP:20260423T141511
CREATED:20250922T115735Z
LAST-MODIFIED:20250922T164545Z
UID:10001474-1758627000-1758634200@www.tonbridgeschoolcentre.co.uk
SUMMARY:Active Life: Whole Pool & Sauna
DESCRIPTION:Instructor: Angela
URL:https://www.tonbridgeschoolcentre.co.uk/event/active-life-whole-pool-sauna-9/
CATEGORIES:Active Life
END:VEVENT
BEGIN:VEVENT
DTSTART;TZID=Europe/London:20250923T113000
DTEND;TZID=Europe/London:20250923T133000
DTSTAMP:20260423T141511
CREATED:20250922T115735Z
LAST-MODIFIED:20250922T164745Z
UID:10001475-1758627000-1758634200@www.tonbridgeschoolcentre.co.uk
SUMMARY:Active Life: Clay Tennis Courts
DESCRIPTION:Instructor: Angela
URL:https://www.tonbridgeschoolcentre.co.uk/event/active-life-clay-tennis-courts-9/
CATEGORIES:Active Life
END:VEVENT
BEGIN:VEVENT
DTSTART;TZID=Europe/London:20250923T113000
DTEND;TZID=Europe/London:20250923T133000
DTSTAMP:20260423T141511
CREATED:20250922T115735Z
LAST-MODIFIED:20250922T164745Z
UID:10001476-1758627000-1758634200@www.tonbridgeschoolcentre.co.uk
SUMMARY:Active Life: Gym
DESCRIPTION:Instructor: Angela
URL:https://www.tonbridgeschoolcentre.co.uk/event/active-life-gym-9/
CATEGORIES:Active Life
END:VEVENT
BEGIN:VEVENT
DTSTART;TZID=Europe/London:20250923T113000
DTEND;TZID=Europe/London:20250923T123000
DTSTAMP:20260423T141511
CREATED:20250922T115735Z
LAST-MODIFIED:20250922T164746Z
UID:10001477-1758627000-1758630600@www.tonbridgeschoolcentre.co.uk
SUMMARY:Active Life: Yoga (Studio)
DESCRIPTION:Instructor: Angela
URL:https://www.tonbridgeschoolcentre.co.uk/event/active-life-yoga-studio-9/
CATEGORIES:Active Life
END:VEVENT
BEGIN:VEVENT
DTSTART;TZID=Europe/London:20250923T110000
DTEND;TZID=Europe/London:20250923T140000
DTSTAMP:20260423T141511
CREATED:20250904T100620Z
LAST-MODIFIED:20250922T155318Z
UID:10001421-1758625200-1758636000@www.tonbridgeschoolcentre.co.uk
SUMMARY:Fitness Suite
DESCRIPTION:Please note on Tuesday morning 11:30am – 1:30pm the swimming pool and Fitness Suite is shared with Active Life Members.
URL:https://www.tonbridgeschoolcentre.co.uk/event/fitness-suite-135/
CATEGORIES:Fitness Suite
END:VEVENT
BEGIN:VEVENT
DTSTART;TZID=Europe/London:20250923T100000
DTEND;TZID=Europe/London:20250923T110000
DTSTAMP:20260423T141511
CREATED:20250903T130457Z
LAST-MODIFIED:20250923T074325Z
UID:10001231-1758621600-1758625200@www.tonbridgeschoolcentre.co.uk
SUMMARY:Class: Tai Chi
DESCRIPTION:Instructor: Angela.
URL:https://www.tonbridgeschoolcentre.co.uk/event/class-tai-chi-8/
CATEGORIES:Classes,Flexibility & Core,Tai Chi
END:VEVENT
BEGIN:VEVENT
DTSTART;TZID=Europe/London:20250923T093000
DTEND;TZID=Europe/London:20250923T140000
DTSTAMP:20260423T141511
CREATED:20250903T191353Z
LAST-MODIFIED:20250922T150008Z
UID:10001374-1758619800-1758636000@www.tonbridgeschoolcentre.co.uk
SUMMARY:Members Swim
DESCRIPTION:Lane Swimming in half the pool and casual swimming in half the pool\, for Adult and Children Members. \nPlease note on Tuesday morning 11:30am – 1:30pm the swimming pool and Fitness Suite is shared with Active Life Members.
URL:https://www.tonbridgeschoolcentre.co.uk/event/members-swim-147/
CATEGORIES:Members Swim,Swimming
END:VEVENT
BEGIN:VEVENT
DTSTART;TZID=Europe/London:20250923T084500
DTEND;TZID=Europe/London:20250923T093000
DTSTAMP:20260423T141511
CREATED:20250903T191353Z
LAST-MODIFIED:20250922T150008Z
UID:10001373-1758617100-1758619800@www.tonbridgeschoolcentre.co.uk
SUMMARY:Adult Only Lane Swimming
DESCRIPTION:Lane Swimming in the pool for Adult Members only (aged 16+) in a single lane with another activity in the other side of the pool. \nPlease note on Tuesday morning 11:30am – 1:30pm the swimming pool and Fitness Suite is shared with Active Life Members.
URL:https://www.tonbridgeschoolcentre.co.uk/event/adult-only-lane-swimming-67/
CATEGORIES:Adult Only Lane Swimming,Swimming
END:VEVENT
BEGIN:VEVENT
DTSTART;TZID=Europe/London:20250923T084500
DTEND;TZID=Europe/London:20250923T093000
DTSTAMP:20260423T141511
CREATED:20250903T130457Z
LAST-MODIFIED:20250923T074251Z
UID:10001230-1758617100-1758619800@www.tonbridgeschoolcentre.co.uk
SUMMARY:Class: Cycle
DESCRIPTION:Instructor: Josh V.
URL:https://www.tonbridgeschoolcentre.co.uk/event/class-cycle-47/
CATEGORIES:Aerobic,Classes,Cycle
END:VEVENT
BEGIN:VEVENT
DTSTART;TZID=Europe/London:20250923T084500
DTEND;TZID=Europe/London:20250923T093000
DTSTAMP:20260423T141511
CREATED:20250903T130256Z
LAST-MODIFIED:20250923T074251Z
UID:10001229-1758617100-1758619800@www.tonbridgeschoolcentre.co.uk
SUMMARY:Class: Aqua
DESCRIPTION:Instructor: Monica.
URL:https://www.tonbridgeschoolcentre.co.uk/event/class-aqua-14/
CATEGORIES:Aqua,Classes,Water Based
END:VEVENT
BEGIN:VEVENT
DTSTART;TZID=Europe/London:20250923T073000
DTEND;TZID=Europe/London:20250923T084500
DTSTAMP:20260423T141511
CREATED:20250903T191353Z
LAST-MODIFIED:20250922T145907Z
UID:10001372-1758612600-1758617100@www.tonbridgeschoolcentre.co.uk
SUMMARY:Members Swim
DESCRIPTION:Lane Swimming in half the pool and casual swimming in half the pool\, for Adult and Children Members. \nPlease note on Tuesday morning 11:30am – 1:30pm the swimming pool and Fitness Suite is shared with Active Life Members.
URL:https://www.tonbridgeschoolcentre.co.uk/event/members-swim-146/
CATEGORIES:Members Swim,Swimming
END:VEVENT
BEGIN:VEVENT
DTSTART;TZID=Europe/London:20250923T070000
DTEND;TZID=Europe/London:20250923T140000
DTSTAMP:20260423T141511
CREATED:20250904T100949Z
LAST-MODIFIED:20250922T163640Z
UID:10001445-1758610800-1758636000@www.tonbridgeschoolcentre.co.uk
SUMMARY:Clay Tennis Courts
DESCRIPTION:Tennis courts can be booked online or via the TSC reception.
URL:https://www.tonbridgeschoolcentre.co.uk/event/clay-tennis-courts-116/
CATEGORIES:Clay Tennis Courts
END:VEVENT
END:VCALENDAR