BEGIN:VCALENDAR
VERSION:2.0
PRODID:-//Tonbridge School Centre - ECPv6.15.18//NONSGML v1.0//EN
CALSCALE:GREGORIAN
METHOD:PUBLISH
X-ORIGINAL-URL:https://www.tonbridgeschoolcentre.co.uk
X-WR-CALDESC:Events for Tonbridge School Centre
REFRESH-INTERVAL;VALUE=DURATION:PT1H
X-Robots-Tag:noindex
X-PUBLISHED-TTL:PT1H
BEGIN:VTIMEZONE
TZID:Europe/London
BEGIN:DAYLIGHT
TZOFFSETFROM:+0000
TZOFFSETTO:+0100
TZNAME:BST
DTSTART:20240331T010000
END:DAYLIGHT
BEGIN:STANDARD
TZOFFSETFROM:+0100
TZOFFSETTO:+0000
TZNAME:GMT
DTSTART:20241027T010000
END:STANDARD
BEGIN:DAYLIGHT
TZOFFSETFROM:+0000
TZOFFSETTO:+0100
TZNAME:BST
DTSTART:20250330T010000
END:DAYLIGHT
BEGIN:STANDARD
TZOFFSETFROM:+0100
TZOFFSETTO:+0000
TZNAME:GMT
DTSTART:20251026T010000
END:STANDARD
BEGIN:DAYLIGHT
TZOFFSETFROM:+0000
TZOFFSETTO:+0100
TZNAME:BST
DTSTART:20260329T010000
END:DAYLIGHT
BEGIN:STANDARD
TZOFFSETFROM:+0100
TZOFFSETTO:+0000
TZNAME:GMT
DTSTART:20261025T010000
END:STANDARD
END:VTIMEZONE
BEGIN:VEVENT
DTSTART;TZID=Europe/London:20251002T061500
DTEND;TZID=Europe/London:20251002T070000
DTSTAMP:20260423T075221
CREATED:20250923T075413Z
LAST-MODIFIED:20250923T075413Z
UID:10001616-1759385700-1759388400@www.tonbridgeschoolcentre.co.uk
SUMMARY:Class: Circuits
DESCRIPTION:Instructor: Ellie.
URL:https://www.tonbridgeschoolcentre.co.uk/event/class-circuits-16/
CATEGORIES:Circuits,Classes,Strength
END:VEVENT
BEGIN:VEVENT
DTSTART;TZID=Europe/London:20251002T070000
DTEND;TZID=Europe/London:20251002T140000
DTSTAMP:20260423T075221
CREATED:20250922T154915Z
LAST-MODIFIED:20250922T154915Z
UID:10001534-1759388400-1759413600@www.tonbridgeschoolcentre.co.uk
SUMMARY:Sauna
DESCRIPTION:
URL:https://www.tonbridgeschoolcentre.co.uk/event/sauna-148/
CATEGORIES:Sauna
END:VEVENT
BEGIN:VEVENT
DTSTART;TZID=Europe/London:20251002T070000
DTEND;TZID=Europe/London:20251002T140000
DTSTAMP:20260423T075221
CREATED:20250922T163540Z
LAST-MODIFIED:20250922T163540Z
UID:10001564-1759388400-1759413600@www.tonbridgeschoolcentre.co.uk
SUMMARY:Athletics Track
DESCRIPTION:Inside two lanes of the Track are not to be used.
URL:https://www.tonbridgeschoolcentre.co.uk/event/athletics-track-90/
CATEGORIES:Athletics Track
END:VEVENT
BEGIN:VEVENT
DTSTART;TZID=Europe/London:20251002T070000
DTEND;TZID=Europe/London:20251002T140000
DTSTAMP:20260423T075221
CREATED:20250922T164344Z
LAST-MODIFIED:20250922T164344Z
UID:10001574-1759388400-1759413600@www.tonbridgeschoolcentre.co.uk
SUMMARY:Clay Tennis Courts
DESCRIPTION:Tennis courts can be booked online or via the TSC reception.
URL:https://www.tonbridgeschoolcentre.co.uk/event/clay-tennis-courts-135/
CATEGORIES:Clay Tennis Courts
END:VEVENT
BEGIN:VEVENT
DTSTART;TZID=Europe/London:20251002T084500
DTEND;TZID=Europe/London:20251002T093000
DTSTAMP:20260423T075221
CREATED:20250923T075536Z
LAST-MODIFIED:20250923T075536Z
UID:10001617-1759394700-1759397400@www.tonbridgeschoolcentre.co.uk
SUMMARY:Class: Aqua
DESCRIPTION:Instructor: Alex.
URL:https://www.tonbridgeschoolcentre.co.uk/event/class-aqua-17/
CATEGORIES:Aqua,Classes,Water Based
END:VEVENT
BEGIN:VEVENT
DTSTART;TZID=Europe/London:20251002T084500
DTEND;TZID=Europe/London:20251002T114500
DTSTAMP:20260423T075221
CREATED:20250922T153404Z
LAST-MODIFIED:20250922T153404Z
UID:10001509-1759394700-1759405500@www.tonbridgeschoolcentre.co.uk
SUMMARY:Adult Only Lane Swimming
DESCRIPTION:Lane Swimming in the pool for Adult Members only (aged 16+) in a single lane with another activity in the other side of the pool. \nPlease note on Tuesday morning 11:30am – 1:30pm the swimming pool and Fitness Suite is shared with Active Life Members.
URL:https://www.tonbridgeschoolcentre.co.uk/event/adult-only-lane-swimming-77/
CATEGORIES:Adult Only Lane Swimming,Swimming
END:VEVENT
BEGIN:VEVENT
DTSTART;TZID=Europe/London:20251002T090000
DTEND;TZID=Europe/London:20251002T101500
DTSTAMP:20260423T075221
CREATED:20250923T075536Z
LAST-MODIFIED:20250923T075536Z
UID:10001618-1759395600-1759400100@www.tonbridgeschoolcentre.co.uk
SUMMARY:Class: Hatha Yoga
DESCRIPTION:Instructor: Leila.
URL:https://www.tonbridgeschoolcentre.co.uk/event/class-hatha-yoga-17/
CATEGORIES:Classes,Hatha Yoga,Mind & Body
END:VEVENT
BEGIN:VEVENT
DTSTART;TZID=Europe/London:20251002T104500
DTEND;TZID=Europe/London:20251002T113000
DTSTAMP:20260423T075221
CREATED:20250923T075536Z
LAST-MODIFIED:20250923T075536Z
UID:10001619-1759401900-1759404600@www.tonbridgeschoolcentre.co.uk
SUMMARY:Class: Core Classics
DESCRIPTION:Instructor: Ellie.
URL:https://www.tonbridgeschoolcentre.co.uk/event/class-core-classics-14/
CATEGORIES:Classes,Core Classics,Flexibility & Core
END:VEVENT
BEGIN:VEVENT
DTSTART;TZID=Europe/London:20251002T114500
DTEND;TZID=Europe/London:20251002T124500
DTSTAMP:20260423T075221
CREATED:20250923T075536Z
LAST-MODIFIED:20250923T075536Z
UID:10001620-1759405500-1759409100@www.tonbridgeschoolcentre.co.uk
SUMMARY:Class: Strength & Stretch
DESCRIPTION:Instructor: Ellie.
URL:https://www.tonbridgeschoolcentre.co.uk/event/class-strength-stretch-9/
CATEGORIES:Classes,Strength,Strength & Stretch
END:VEVENT
BEGIN:VEVENT
DTSTART;TZID=Europe/London:20251002T114500
DTEND;TZID=Europe/London:20251002T140000
DTSTAMP:20260423T075221
CREATED:20250922T153405Z
LAST-MODIFIED:20250922T153405Z
UID:10001510-1759405500-1759413600@www.tonbridgeschoolcentre.co.uk
SUMMARY:Members Swim
DESCRIPTION:Lane Swimming in half the pool and casual swimming in half the pool\, for Adult and Children Members. \nPlease note on Tuesday morning 11:30am – 1:30pm the swimming pool and Fitness Suite is shared with Active Life Members.
URL:https://www.tonbridgeschoolcentre.co.uk/event/members-swim-172/
CATEGORIES:Members Swim,Swimming
END:VEVENT
BEGIN:VEVENT
DTSTART;TZID=Europe/London:20251002T130000
DTEND;TZID=Europe/London:20251002T140000
DTSTAMP:20260423T075221
CREATED:20250922T162837Z
LAST-MODIFIED:20250922T162837Z
UID:10001551-1759410000-1759413600@www.tonbridgeschoolcentre.co.uk
SUMMARY:Fitness Suite
DESCRIPTION:Please note on Tuesday morning 11:30am – 1:30pm the swimming pool and Fitness Suite is shared with Active Life Members.
URL:https://www.tonbridgeschoolcentre.co.uk/event/fitness-suite-163/
CATEGORIES:Fitness Suite
END:VEVENT
BEGIN:VEVENT
DTSTART;TZID=Europe/London:20251002T173000
DTEND;TZID=Europe/London:20251002T190000
DTSTAMP:20260423T075221
CREATED:20250922T153405Z
LAST-MODIFIED:20250922T153405Z
UID:10001511-1759426200-1759431600@www.tonbridgeschoolcentre.co.uk
SUMMARY:Members Swim
DESCRIPTION:Lane Swimming in half the pool and casual swimming in half the pool\, for Adult and Children Members. \nPlease note on Tuesday morning 11:30am – 1:30pm the swimming pool and Fitness Suite is shared with Active Life Members.
URL:https://www.tonbridgeschoolcentre.co.uk/event/members-swim-173/
CATEGORIES:Members Swim,Swimming
END:VEVENT
BEGIN:VEVENT
DTSTART;TZID=Europe/London:20251002T173000
DTEND;TZID=Europe/London:20251002T210000
DTSTAMP:20260423T075221
CREATED:20250922T154916Z
LAST-MODIFIED:20250922T154916Z
UID:10001535-1759426200-1759438800@www.tonbridgeschoolcentre.co.uk
SUMMARY:Sauna
DESCRIPTION:
URL:https://www.tonbridgeschoolcentre.co.uk/event/sauna-149/
CATEGORIES:Sauna
END:VEVENT
BEGIN:VEVENT
DTSTART;TZID=Europe/London:20251002T180000
DTEND;TZID=Europe/London:20251002T184500
DTSTAMP:20260423T075221
CREATED:20250923T075536Z
LAST-MODIFIED:20250923T075536Z
UID:10001621-1759428000-1759430700@www.tonbridgeschoolcentre.co.uk
SUMMARY:Class: Cycle
DESCRIPTION:Instructor: Graham.
URL:https://www.tonbridgeschoolcentre.co.uk/event/class-cycle-56/
CATEGORIES:Aerobic,Classes,Cycle
END:VEVENT
BEGIN:VEVENT
DTSTART;TZID=Europe/London:20251002T180000
DTEND;TZID=Europe/London:20251002T184500
DTSTAMP:20260423T075221
CREATED:20250923T075612Z
LAST-MODIFIED:20250923T075612Z
UID:10001622-1759428000-1759430700@www.tonbridgeschoolcentre.co.uk
SUMMARY:Class: Remix
DESCRIPTION:Instructor: Marie.
URL:https://www.tonbridgeschoolcentre.co.uk/event/class-remix-9/
CATEGORIES:Classes,Dance,Remix
END:VEVENT
BEGIN:VEVENT
DTSTART;TZID=Europe/London:20251002T180000
DTEND;TZID=Europe/London:20251002T210000
DTSTAMP:20260423T075221
CREATED:20250922T162837Z
LAST-MODIFIED:20250922T162837Z
UID:10001552-1759428000-1759438800@www.tonbridgeschoolcentre.co.uk
SUMMARY:Fitness Suite
DESCRIPTION:Please note on Tuesday morning 11:30am – 1:30pm the swimming pool and Fitness Suite is shared with Active Life Members.
URL:https://www.tonbridgeschoolcentre.co.uk/event/fitness-suite-164/
CATEGORIES:Fitness Suite
END:VEVENT
BEGIN:VEVENT
DTSTART;TZID=Europe/London:20251002T190000
DTEND;TZID=Europe/London:20251002T194500
DTSTAMP:20260423T075221
CREATED:20250923T075612Z
LAST-MODIFIED:20250923T075612Z
UID:10001623-1759431600-1759434300@www.tonbridgeschoolcentre.co.uk
SUMMARY:Class: Circuits
DESCRIPTION:Instructor: Jade.
URL:https://www.tonbridgeschoolcentre.co.uk/event/class-circuits-17/
CATEGORIES:Circuits,Classes,Strength
END:VEVENT
BEGIN:VEVENT
DTSTART;TZID=Europe/London:20251002T190000
DTEND;TZID=Europe/London:20251002T200000
DTSTAMP:20260423T075221
CREATED:20250922T153405Z
LAST-MODIFIED:20250922T153405Z
UID:10001512-1759431600-1759435200@www.tonbridgeschoolcentre.co.uk
SUMMARY:Adult Only Members Swim
DESCRIPTION:Lane Swimming in half the pool and casual swimming in half the pool\, for Adult Members only (aged 16+). \nPlease note on Tuesday morning 11:30am – 1:30pm the swimming pool and Fitness Suite is shared with Active Life Members.
URL:https://www.tonbridgeschoolcentre.co.uk/event/adult-only-members-swim-36/
CATEGORIES:Adult Only Members Swim,Swimming
END:VEVENT
BEGIN:VEVENT
DTSTART;TZID=Europe/London:20251002T201500
DTEND;TZID=Europe/London:20251002T210000
DTSTAMP:20260423T075221
CREATED:20250922T164344Z
LAST-MODIFIED:20250922T164344Z
UID:10001575-1759436100-1759438800@www.tonbridgeschoolcentre.co.uk
SUMMARY:Clay Tennis Courts
DESCRIPTION:Tennis courts can be booked online or via the TSC reception.
URL:https://www.tonbridgeschoolcentre.co.uk/event/clay-tennis-courts-136/
CATEGORIES:Clay Tennis Courts
END:VEVENT
BEGIN:VEVENT
DTSTART;TZID=Europe/London:20251003T060000
DTEND;TZID=Europe/London:20251003T073000
DTSTAMP:20260423T075221
CREATED:20250922T153605Z
LAST-MODIFIED:20250922T153605Z
UID:10001513-1759471200-1759476600@www.tonbridgeschoolcentre.co.uk
SUMMARY:Lane Swimming
DESCRIPTION:Lane Swimming in the pool for adults and children in a single lane with another activity in the other side of the pool. \nPlease note on Tuesday morning 11:30am – 1:30pm the swimming pool and Fitness Suite is shared with Active Life Members.
URL:https://www.tonbridgeschoolcentre.co.uk/event/lane-swimming-41/
CATEGORIES:Lane Swimming,Swimming
END:VEVENT
BEGIN:VEVENT
DTSTART;TZID=Europe/London:20251003T060000
DTEND;TZID=Europe/London:20251003T163000
DTSTAMP:20260423T075221
CREATED:20250922T162837Z
LAST-MODIFIED:20250922T162837Z
UID:10001553-1759471200-1759509000@www.tonbridgeschoolcentre.co.uk
SUMMARY:Fitness Suite
DESCRIPTION:Please note on Tuesday morning 11:30am – 1:30pm the swimming pool and Fitness Suite is shared with Active Life Members.
URL:https://www.tonbridgeschoolcentre.co.uk/event/fitness-suite-165/
CATEGORIES:Fitness Suite
END:VEVENT
BEGIN:VEVENT
DTSTART;TZID=Europe/London:20251003T061500
DTEND;TZID=Europe/London:20251003T070000
DTSTAMP:20260423T075221
CREATED:20250923T075612Z
LAST-MODIFIED:20250923T075612Z
UID:10001624-1759472100-1759474800@www.tonbridgeschoolcentre.co.uk
SUMMARY:Class: Freestyle Fitness Yoga
DESCRIPTION:Instructor: Sumiko.
URL:https://www.tonbridgeschoolcentre.co.uk/event/class-freestyle-fitness-yoga-8/
CATEGORIES:Classes,Freestyle Fitness Yoga,Mind & Body
END:VEVENT
BEGIN:VEVENT
DTSTART;TZID=Europe/London:20251003T070000
DTEND;TZID=Europe/London:20251003T140000
DTSTAMP:20260423T075221
CREATED:20250922T154916Z
LAST-MODIFIED:20250922T154916Z
UID:10001536-1759474800-1759500000@www.tonbridgeschoolcentre.co.uk
SUMMARY:Sauna
DESCRIPTION:
URL:https://www.tonbridgeschoolcentre.co.uk/event/sauna-150/
CATEGORIES:Sauna
END:VEVENT
BEGIN:VEVENT
DTSTART;TZID=Europe/London:20251003T070000
DTEND;TZID=Europe/London:20251003T160000
DTSTAMP:20260423T075221
CREATED:20250922T163540Z
LAST-MODIFIED:20250922T163540Z
UID:10001565-1759474800-1759507200@www.tonbridgeschoolcentre.co.uk
SUMMARY:Athletics Track
DESCRIPTION:Inside two lanes of the Track are not to be used.
URL:https://www.tonbridgeschoolcentre.co.uk/event/athletics-track-91/
CATEGORIES:Athletics Track
END:VEVENT
BEGIN:VEVENT
DTSTART;TZID=Europe/London:20251003T070000
DTEND;TZID=Europe/London:20251003T160000
DTSTAMP:20260423T075221
CREATED:20250922T164344Z
LAST-MODIFIED:20250922T164344Z
UID:10001576-1759474800-1759507200@www.tonbridgeschoolcentre.co.uk
SUMMARY:Clay Tennis Courts
DESCRIPTION:Tennis courts can be booked online or via the TSC reception.
URL:https://www.tonbridgeschoolcentre.co.uk/event/clay-tennis-courts-137/
CATEGORIES:Clay Tennis Courts
END:VEVENT
BEGIN:VEVENT
DTSTART;TZID=Europe/London:20251003T073000
DTEND;TZID=Europe/London:20251003T103000
DTSTAMP:20260423T075221
CREATED:20250922T153605Z
LAST-MODIFIED:20250922T153605Z
UID:10001514-1759476600-1759487400@www.tonbridgeschoolcentre.co.uk
SUMMARY:Members Swim
DESCRIPTION:Lane Swimming in half the pool and casual swimming in half the pool\, for Adult and Children Members. \nPlease note on Tuesday morning 11:30am – 1:30pm the swimming pool and Fitness Suite is shared with Active Life Members.
URL:https://www.tonbridgeschoolcentre.co.uk/event/members-swim-174/
CATEGORIES:Members Swim,Swimming
END:VEVENT
BEGIN:VEVENT
DTSTART;TZID=Europe/London:20251003T084500
DTEND;TZID=Europe/London:20251003T094500
DTSTAMP:20260423T075221
CREATED:20250923T075613Z
LAST-MODIFIED:20250923T075613Z
UID:10001625-1759481100-1759484700@www.tonbridgeschoolcentre.co.uk
SUMMARY:Class: Triple Threat
DESCRIPTION:Instructor: Ellie.
URL:https://www.tonbridgeschoolcentre.co.uk/event/class-triple-threat-26/
CATEGORIES:Aerobic,Classes,Triple Threat
END:VEVENT
BEGIN:VEVENT
DTSTART;TZID=Europe/London:20251003T094500
DTEND;TZID=Europe/London:20251003T104500
DTSTAMP:20260423T075221
CREATED:20250923T075613Z
LAST-MODIFIED:20250923T075613Z
UID:10001626-1759484700-1759488300@www.tonbridgeschoolcentre.co.uk
SUMMARY:Class: Vinyasa Yoga
DESCRIPTION:Instructor: Sumiko.
URL:https://www.tonbridgeschoolcentre.co.uk/event/class-vinyasa-yoga-51/
CATEGORIES:Classes,Mind & Body,Vinyasa Yoga
END:VEVENT
BEGIN:VEVENT
DTSTART;TZID=Europe/London:20251003T113000
DTEND;TZID=Europe/London:20251003T123000
DTSTAMP:20260423T075221
CREATED:20250922T153606Z
LAST-MODIFIED:20250922T153606Z
UID:10001515-1759491000-1759494600@www.tonbridgeschoolcentre.co.uk
SUMMARY:Members Swim
DESCRIPTION:Lane Swimming in half the pool and casual swimming in half the pool\, for Adult and Children Members. \nPlease note on Tuesday morning 11:30am – 1:30pm the swimming pool and Fitness Suite is shared with Active Life Members.
URL:https://www.tonbridgeschoolcentre.co.uk/event/members-swim-175/
CATEGORIES:Members Swim,Swimming
END:VEVENT
BEGIN:VEVENT
DTSTART;TZID=Europe/London:20251003T114500
DTEND;TZID=Europe/London:20251003T124500
DTSTAMP:20260423T075221
CREATED:20250923T075728Z
LAST-MODIFIED:20250923T075728Z
UID:10001627-1759491900-1759495500@www.tonbridgeschoolcentre.co.uk
SUMMARY:Class: Fitness Pilates
DESCRIPTION:Instructor: Chris.
URL:https://www.tonbridgeschoolcentre.co.uk/event/class-fitness-pilates-8/
CATEGORIES:Classes,Fitness Pilates,Flexibility & Core
END:VEVENT
END:VCALENDAR