BEGIN:VCALENDAR
VERSION:2.0
PRODID:-//Tonbridge School Centre - ECPv6.15.18//NONSGML v1.0//EN
CALSCALE:GREGORIAN
METHOD:PUBLISH
X-WR-CALNAME:Tonbridge School Centre
X-ORIGINAL-URL:https://www.tonbridgeschoolcentre.co.uk
X-WR-CALDESC:Events for Tonbridge School Centre
REFRESH-INTERVAL;VALUE=DURATION:PT1H
X-Robots-Tag:noindex
X-PUBLISHED-TTL:PT1H
BEGIN:VTIMEZONE
TZID:Europe/London
BEGIN:DAYLIGHT
TZOFFSETFROM:+0000
TZOFFSETTO:+0100
TZNAME:BST
DTSTART:20240331T010000
END:DAYLIGHT
BEGIN:STANDARD
TZOFFSETFROM:+0100
TZOFFSETTO:+0000
TZNAME:GMT
DTSTART:20241027T010000
END:STANDARD
BEGIN:DAYLIGHT
TZOFFSETFROM:+0000
TZOFFSETTO:+0100
TZNAME:BST
DTSTART:20250330T010000
END:DAYLIGHT
BEGIN:STANDARD
TZOFFSETFROM:+0100
TZOFFSETTO:+0000
TZNAME:GMT
DTSTART:20251026T010000
END:STANDARD
BEGIN:DAYLIGHT
TZOFFSETFROM:+0000
TZOFFSETTO:+0100
TZNAME:BST
DTSTART:20260329T010000
END:DAYLIGHT
BEGIN:STANDARD
TZOFFSETFROM:+0100
TZOFFSETTO:+0000
TZNAME:GMT
DTSTART:20261025T010000
END:STANDARD
END:VTIMEZONE
BEGIN:VEVENT
DTSTART;TZID=Europe/London:20251008T160000
DTEND;TZID=Europe/London:20251008T180000
DTSTAMP:20260423T022109
CREATED:20251003T141006Z
LAST-MODIFIED:20251020T142646Z
UID:10001700-1759939200-1759946400@www.tonbridgeschoolcentre.co.uk
SUMMARY:Adult Only Lane Swimming
DESCRIPTION:Lane Swimming in the pool for Adult Members only (aged 16+) in a single lane with another activity in the other side of the pool. \nPlease note on Tuesday morning 11:30am – 1:30pm the swimming pool and Fitness Suite is shared with Active Life Members.
URL:https://www.tonbridgeschoolcentre.co.uk/event/adult-only-lane-swimming-84/
CATEGORIES:Adult Only Lane Swimming,Swimming
END:VEVENT
BEGIN:VEVENT
DTSTART;TZID=Europe/London:20251008T160000
DTEND;TZID=Europe/London:20251008T210000
DTSTAMP:20260423T022109
CREATED:20251003T144026Z
LAST-MODIFIED:20251020T150802Z
UID:10001766-1759939200-1759957200@www.tonbridgeschoolcentre.co.uk
SUMMARY:Sauna
DESCRIPTION:
URL:https://www.tonbridgeschoolcentre.co.uk/event/sauna-162/
CATEGORIES:Sauna
END:VEVENT
BEGIN:VEVENT
DTSTART;TZID=Europe/London:20251008T163000
DTEND;TZID=Europe/London:20251008T180000
DTSTAMP:20260423T022109
CREATED:20251003T145226Z
LAST-MODIFIED:20251024T112348Z
UID:10001822-1759941000-1759946400@www.tonbridgeschoolcentre.co.uk
SUMMARY:Athletics Track
DESCRIPTION:Inside two lanes of the Track are not to be used.
URL:https://www.tonbridgeschoolcentre.co.uk/event/athletics-track-97/
CATEGORIES:Athletics Track
END:VEVENT
BEGIN:VEVENT
DTSTART;TZID=Europe/London:20251008T163000
DTEND;TZID=Europe/London:20251008T210000
DTSTAMP:20260423T022109
CREATED:20251003T144626Z
LAST-MODIFIED:20251020T151703Z
UID:10001795-1759941000-1759957200@www.tonbridgeschoolcentre.co.uk
SUMMARY:Fitness Suite
DESCRIPTION:Please note on Tuesday morning 11:30am – 1:30pm the swimming pool and Fitness Suite is shared with Active Life Members.
URL:https://www.tonbridgeschoolcentre.co.uk/event/fitness-suite-177/
CATEGORIES:Fitness Suite
END:VEVENT
BEGIN:VEVENT
DTSTART;TZID=Europe/London:20251008T170000
DTEND;TZID=Europe/London:20251008T210000
DTSTAMP:20260423T022109
CREATED:20251003T145526Z
LAST-MODIFIED:20251024T113158Z
UID:10001841-1759942800-1759957200@www.tonbridgeschoolcentre.co.uk
SUMMARY:Clay Tennis Courts
DESCRIPTION:Tennis courts can be booked online or via the TSC reception.
URL:https://www.tonbridgeschoolcentre.co.uk/event/clay-tennis-courts-148/
CATEGORIES:Clay Tennis Courts
END:VEVENT
BEGIN:VEVENT
DTSTART;TZID=Europe/London:20251008T180000
DTEND;TZID=Europe/London:20251008T184500
DTSTAMP:20260423T022109
CREATED:20250923T080530Z
LAST-MODIFIED:20251020T155959Z
UID:10001669-1759946400-1759949100@www.tonbridgeschoolcentre.co.uk
SUMMARY:Class: Cycle
DESCRIPTION:Instructor: Graham.  \nThis low-impact\, high-energy indoor cycling workout is set to motivating music and designed to boost cardiovascular fitness and endurance. Choose from a 45-minute endurance ride\, a Beginner/Family Cycle for newcomers\, or Cycle & Abs\, which adds core exercises for extra strength.
URL:https://www.tonbridgeschoolcentre.co.uk/event/class-cycle-62/
CATEGORIES:Aerobic,Classes,Cycle
END:VEVENT
BEGIN:VEVENT
DTSTART;TZID=Europe/London:20251008T180000
DTEND;TZID=Europe/London:20251008T190000
DTSTAMP:20260423T022109
CREATED:20250923T080530Z
LAST-MODIFIED:20251020T155959Z
UID:10001668-1759946400-1759950000@www.tonbridgeschoolcentre.co.uk
SUMMARY:Class: Vinyasa Yoga
DESCRIPTION:Instructor: Monica.  \nVinyasa Yoga is a dynamic and flowing style of yoga that links breath with movement in a seamless sequence of postures. This energising practice builds strength\, flexibility\, and endurance while promoting mindfulness and stress relief. Suitable for all levels\, Vinyasa encourages fluidity and creativity on the mat\, helping you connect body and mind.
URL:https://www.tonbridgeschoolcentre.co.uk/event/class-vinyasa-yoga-56/
CATEGORIES:Classes,Mind & Body,Vinyasa Yoga
END:VEVENT
BEGIN:VEVENT
DTSTART;TZID=Europe/London:20251008T180000
DTEND;TZID=Europe/London:20251008T193000
DTSTAMP:20260423T022109
CREATED:20251003T141007Z
LAST-MODIFIED:20251020T142647Z
UID:10001701-1759946400-1759951800@www.tonbridgeschoolcentre.co.uk
SUMMARY:Members Swim
DESCRIPTION:Lane Swimming in half the pool and casual swimming in half the pool\, for Adult and Children Members. \nPlease note on Tuesday morning 11:30am – 1:30pm the swimming pool and Fitness Suite is shared with Active Life Members.
URL:https://www.tonbridgeschoolcentre.co.uk/event/members-swim-188/
CATEGORIES:Members Swim,Swimming
END:VEVENT
BEGIN:VEVENT
DTSTART;TZID=Europe/London:20251008T190000
DTEND;TZID=Europe/London:20251008T194500
DTSTAMP:20260423T022109
CREATED:20250923T080531Z
LAST-MODIFIED:20251020T160000Z
UID:10001670-1759950000-1759952700@www.tonbridgeschoolcentre.co.uk
SUMMARY:Class: Outdoor Fitness
DESCRIPTION:Instructor: Graham.  \nThis intense cardio workout takes place outdoors\, no matter the weather\, pushing you to improve your agility\, endurance\, and strength through a variety of dynamic drills and exercises. Embrace the elements while challenging your body and building overall fitness in a fresh\, motivating environment.
URL:https://www.tonbridgeschoolcentre.co.uk/event/class-outdoor-fitness-20/
CATEGORIES:Aerobic,Classes,Outdoor Fitness
END:VEVENT
BEGIN:VEVENT
DTSTART;TZID=Europe/London:20251008T190000
DTEND;TZID=Europe/London:20251008T195500
DTSTAMP:20260423T022109
CREATED:20250923T080531Z
LAST-MODIFIED:20251020T160000Z
UID:10001671-1759950000-1759953300@www.tonbridgeschoolcentre.co.uk
SUMMARY:Class: Dance Fit
DESCRIPTION:Instructor: Monica.  \nChannel your love for dance into a dynamic fitness workout featuring fast-paced moves and steps. This class blends various dance styles to boost cardiovascular endurance through a series of tracks that alternate between high and low intensity\, keeping your energy up and your heart pumping.
URL:https://www.tonbridgeschoolcentre.co.uk/event/class-dance-fit-34/
CATEGORIES:Classes,Dance,Dance Fit
END:VEVENT
BEGIN:VEVENT
DTSTART;TZID=Europe/London:20251009T060000
DTEND;TZID=Europe/London:20251009T084500
DTSTAMP:20260423T022109
CREATED:20251003T141106Z
LAST-MODIFIED:20251020T142747Z
UID:10001702-1759989600-1759999500@www.tonbridgeschoolcentre.co.uk
SUMMARY:Members Swim
DESCRIPTION:Lane Swimming in half the pool and casual swimming in half the pool\, for Adult and Children Members. \nPlease note on Tuesday morning 11:30am – 1:30pm the swimming pool and Fitness Suite is shared with Active Life Members.
URL:https://www.tonbridgeschoolcentre.co.uk/event/members-swim-189/
CATEGORIES:Members Swim,Swimming
END:VEVENT
BEGIN:VEVENT
DTSTART;TZID=Europe/London:20251009T060000
DTEND;TZID=Europe/London:20251009T140000
DTSTAMP:20260423T022109
CREATED:20251003T144626Z
LAST-MODIFIED:20251020T151703Z
UID:10001796-1759989600-1760018400@www.tonbridgeschoolcentre.co.uk
SUMMARY:Fitness Suite
DESCRIPTION:Please note on Tuesday morning 11:30am – 1:30pm the swimming pool and Fitness Suite is shared with Active Life Members.
URL:https://www.tonbridgeschoolcentre.co.uk/event/fitness-suite-178/
CATEGORIES:Fitness Suite
END:VEVENT
BEGIN:VEVENT
DTSTART;TZID=Europe/London:20251009T061500
DTEND;TZID=Europe/London:20251009T070000
DTSTAMP:20260423T022109
CREATED:20250923T080632Z
LAST-MODIFIED:20251020T160000Z
UID:10001672-1759990500-1759993200@www.tonbridgeschoolcentre.co.uk
SUMMARY:Class: Circuits
DESCRIPTION:Instructor: Josh G.  \nCircuit training is a fast-paced workout that combines strength and cardio exercises in a series of timed stations. Designed to boost endurance\, build muscle\, and burn calories\, this class keeps you moving with varied exercises that challenge your whole body. Perfect for all fitness levels looking for a dynamic and effective workout.
URL:https://www.tonbridgeschoolcentre.co.uk/event/class-circuits-18/
CATEGORIES:Circuits,Classes,Strength
END:VEVENT
BEGIN:VEVENT
DTSTART;TZID=Europe/London:20251009T070000
DTEND;TZID=Europe/London:20251009T140000
DTSTAMP:20260423T022109
CREATED:20251003T144125Z
LAST-MODIFIED:20251020T150901Z
UID:10001767-1759993200-1760018400@www.tonbridgeschoolcentre.co.uk
SUMMARY:Sauna
DESCRIPTION:
URL:https://www.tonbridgeschoolcentre.co.uk/event/sauna-163/
CATEGORIES:Sauna
END:VEVENT
BEGIN:VEVENT
DTSTART;TZID=Europe/London:20251009T070000
DTEND;TZID=Europe/London:20251009T140000
DTSTAMP:20260423T022109
CREATED:20251003T145226Z
LAST-MODIFIED:20251024T112348Z
UID:10001823-1759993200-1760018400@www.tonbridgeschoolcentre.co.uk
SUMMARY:Athletics Track
DESCRIPTION:Inside two lanes of the Track are not to be used.
URL:https://www.tonbridgeschoolcentre.co.uk/event/athletics-track-98/
CATEGORIES:Athletics Track
END:VEVENT
BEGIN:VEVENT
DTSTART;TZID=Europe/London:20251009T070000
DTEND;TZID=Europe/London:20251009T140000
DTSTAMP:20260423T022109
CREATED:20251003T145625Z
LAST-MODIFIED:20251024T113158Z
UID:10001842-1759993200-1760018400@www.tonbridgeschoolcentre.co.uk
SUMMARY:Clay Tennis Courts
DESCRIPTION:Tennis courts can be booked online or via the TSC reception.
URL:https://www.tonbridgeschoolcentre.co.uk/event/clay-tennis-courts-149/
CATEGORIES:Clay Tennis Courts
END:VEVENT
BEGIN:VEVENT
DTSTART;TZID=Europe/London:20251009T084500
DTEND;TZID=Europe/London:20251009T093000
DTSTAMP:20260423T022109
CREATED:20250923T080632Z
LAST-MODIFIED:20251020T160059Z
UID:10001673-1759999500-1760002200@www.tonbridgeschoolcentre.co.uk
SUMMARY:Class: Aqua
DESCRIPTION:Instructor: Ian.  \nAqua is a low-impact workout performed in the water that combines cardio\, strength\, and flexibility training. The water’s natural resistance helps tone muscles while reducing stress on joints\, making it suitable for all fitness levels. This refreshing and fun class improves endurance\, balance\, and overall fitness.
URL:https://www.tonbridgeschoolcentre.co.uk/event/class-aqua-19/
CATEGORIES:Aqua,Classes,Water Based
END:VEVENT
BEGIN:VEVENT
DTSTART;TZID=Europe/London:20251009T084500
DTEND;TZID=Europe/London:20251009T114500
DTSTAMP:20260423T022109
CREATED:20251003T141106Z
LAST-MODIFIED:20251020T142747Z
UID:10001703-1759999500-1760010300@www.tonbridgeschoolcentre.co.uk
SUMMARY:Adult Only Lane Swimming
DESCRIPTION:Lane Swimming in the pool for Adult Members only (aged 16+) in a single lane with another activity in the other side of the pool. \nPlease note on Tuesday morning 11:30am – 1:30pm the swimming pool and Fitness Suite is shared with Active Life Members.
URL:https://www.tonbridgeschoolcentre.co.uk/event/adult-only-lane-swimming-85/
CATEGORIES:Adult Only Lane Swimming,Swimming
END:VEVENT
BEGIN:VEVENT
DTSTART;TZID=Europe/London:20251009T090000
DTEND;TZID=Europe/London:20251009T101500
DTSTAMP:20260423T022109
CREATED:20250923T080632Z
LAST-MODIFIED:20251020T160059Z
UID:10001674-1760000400-1760004900@www.tonbridgeschoolcentre.co.uk
SUMMARY:Class: Hatha Yoga
DESCRIPTION:Instructor: Sumiko.  \nA gentle yet energising practice that combines physical postures (asanas)\, breath control (pranayama)\, and meditation to cultivate balance\, flexibility\, and inner calm. Suitable for all levels\, this class helps build strength\, improve posture\, and reduce stress\, providing a holistic approach to both physical and mental well-being.
URL:https://www.tonbridgeschoolcentre.co.uk/event/class-hatha-yoga-19/
CATEGORIES:Classes,Hatha Yoga,Mind & Body
END:VEVENT
BEGIN:VEVENT
DTSTART;TZID=Europe/London:20251009T104500
DTEND;TZID=Europe/London:20251009T113000
DTSTAMP:20260423T022109
CREATED:20250923T080633Z
LAST-MODIFIED:20251020T160100Z
UID:10001675-1760006700-1760009400@www.tonbridgeschoolcentre.co.uk
SUMMARY:Class: Core Classics
DESCRIPTION:Instructor: Josh G.  \nThis class focuses on building a strong and stable core through targeted exercises that engage the abdominal\, back\, and pelvic muscles. Designed to improve posture\, balance\, and overall strength\, the workout combines controlled movements and endurance training to help you develop a solid foundation for everyday activities and other fitness goals.
URL:https://www.tonbridgeschoolcentre.co.uk/event/class-core-classics-16/
CATEGORIES:Classes,Core Classics,Flexibility & Core
END:VEVENT
BEGIN:VEVENT
DTSTART;TZID=Europe/London:20251009T114500
DTEND;TZID=Europe/London:20251009T124500
DTSTAMP:20260423T022109
CREATED:20250923T080633Z
LAST-MODIFIED:20251020T160100Z
UID:10001676-1760010300-1760013900@www.tonbridgeschoolcentre.co.uk
SUMMARY:Class: Strength & Stretch
DESCRIPTION:Instructor: Josh G.  \nThis class combines strengthening exercises with a calming stretch to provide the best of both worlds. Each week\, a variety of equipment is used to encourage movement and challenge your muscles. After the strengthening segment\, the class transitions into a gentle stretch\, allowing you to focus on improving posture and balance while relaxing both body and mind.
URL:https://www.tonbridgeschoolcentre.co.uk/event/class-strength-stretch-10/
CATEGORIES:Classes,Strength,Strength & Stretch
END:VEVENT
BEGIN:VEVENT
DTSTART;TZID=Europe/London:20251009T114500
DTEND;TZID=Europe/London:20251009T140000
DTSTAMP:20260423T022109
CREATED:20251003T141107Z
LAST-MODIFIED:20251020T142747Z
UID:10001704-1760010300-1760018400@www.tonbridgeschoolcentre.co.uk
SUMMARY:Members Swim
DESCRIPTION:Lane Swimming in half the pool and casual swimming in half the pool\, for Adult and Children Members. \nPlease note on Tuesday morning 11:30am – 1:30pm the swimming pool and Fitness Suite is shared with Active Life Members.
URL:https://www.tonbridgeschoolcentre.co.uk/event/members-swim-190/
CATEGORIES:Members Swim,Swimming
END:VEVENT
BEGIN:VEVENT
DTSTART;TZID=Europe/London:20251009T173000
DTEND;TZID=Europe/London:20251009T190000
DTSTAMP:20260423T022109
CREATED:20251003T141107Z
LAST-MODIFIED:20251020T142747Z
UID:10001705-1760031000-1760036400@www.tonbridgeschoolcentre.co.uk
SUMMARY:Members Swim
DESCRIPTION:Lane Swimming in half the pool and casual swimming in half the pool\, for Adult and Children Members. \nPlease note on Tuesday morning 11:30am – 1:30pm the swimming pool and Fitness Suite is shared with Active Life Members.
URL:https://www.tonbridgeschoolcentre.co.uk/event/members-swim-191/
CATEGORIES:Members Swim,Swimming
END:VEVENT
BEGIN:VEVENT
DTSTART;TZID=Europe/London:20251009T173000
DTEND;TZID=Europe/London:20251009T210000
DTSTAMP:20260423T022109
CREATED:20251003T144125Z
LAST-MODIFIED:20251020T150902Z
UID:10001768-1760031000-1760043600@www.tonbridgeschoolcentre.co.uk
SUMMARY:Sauna
DESCRIPTION:
URL:https://www.tonbridgeschoolcentre.co.uk/event/sauna-164/
CATEGORIES:Sauna
END:VEVENT
BEGIN:VEVENT
DTSTART;TZID=Europe/London:20251009T180000
DTEND;TZID=Europe/London:20251009T184500
DTSTAMP:20260423T022109
CREATED:20250923T080732Z
LAST-MODIFIED:20251020T160100Z
UID:10001677-1760032800-1760035500@www.tonbridgeschoolcentre.co.uk
SUMMARY:Class: Cycle
DESCRIPTION:Instructor: Marie.  \nThis low-impact\, high-energy indoor cycling workout is set to motivating music and designed to boost cardiovascular fitness and endurance. Choose from a 45-minute endurance ride\, a Beginner/Family Cycle for newcomers\, or Cycle & Abs\, which adds core exercises for extra strength.
URL:https://www.tonbridgeschoolcentre.co.uk/event/class-cycle-63/
CATEGORIES:Aerobic,Classes,Cycle
END:VEVENT
BEGIN:VEVENT
DTSTART;TZID=Europe/London:20251009T180000
DTEND;TZID=Europe/London:20251009T184500
DTSTAMP:20260423T022109
CREATED:20250923T080732Z
LAST-MODIFIED:20251020T160243Z
UID:10001678-1760032800-1760035500@www.tonbridgeschoolcentre.co.uk
SUMMARY:Class: Remix
DESCRIPTION:Instructor: Sherry.  \nGet ready to boost your step count with Remix\, a fresh\, high-energy cardio workout set to popular chart tunes. Featuring dance fitness-inspired choreography\, this class delivers a full-body workout with adjustable intensity\, making it perfect for all ages\, sizes\, fitness levels\, and abilities.
URL:https://www.tonbridgeschoolcentre.co.uk/event/class-remix-10/
CATEGORIES:Classes,Dance,Remix
END:VEVENT
BEGIN:VEVENT
DTSTART;TZID=Europe/London:20251009T180000
DTEND;TZID=Europe/London:20251009T210000
DTSTAMP:20260423T022109
CREATED:20251003T144725Z
LAST-MODIFIED:20251020T151802Z
UID:10001797-1760032800-1760043600@www.tonbridgeschoolcentre.co.uk
SUMMARY:Fitness Suite
DESCRIPTION:Please note on Tuesday morning 11:30am – 1:30pm the swimming pool and Fitness Suite is shared with Active Life Members.
URL:https://www.tonbridgeschoolcentre.co.uk/event/fitness-suite-179/
CATEGORIES:Fitness Suite
END:VEVENT
BEGIN:VEVENT
DTSTART;TZID=Europe/London:20251009T190000
DTEND;TZID=Europe/London:20251009T193000
DTSTAMP:20260423T022109
CREATED:20251003T141107Z
LAST-MODIFIED:20251020T142747Z
UID:10001706-1760036400-1760038200@www.tonbridgeschoolcentre.co.uk
SUMMARY:Adult Only Members Swim
DESCRIPTION:Lane Swimming in half the pool and casual swimming in half the pool\, for Adult Members only (aged 16+). \nPlease note on Tuesday morning 11:30am – 1:30pm the swimming pool and Fitness Suite is shared with Active Life Members.
URL:https://www.tonbridgeschoolcentre.co.uk/event/adult-only-members-swim-40/
CATEGORIES:Adult Only Members Swim,Swimming
END:VEVENT
BEGIN:VEVENT
DTSTART;TZID=Europe/London:20251009T190000
DTEND;TZID=Europe/London:20251009T194500
DTSTAMP:20260423T022109
CREATED:20250923T080732Z
LAST-MODIFIED:20251020T160243Z
UID:10001679-1760036400-1760039100@www.tonbridgeschoolcentre.co.uk
SUMMARY:Class: Circuits
DESCRIPTION:Instructor: Simon.  \nCircuit training is a fast-paced workout that combines strength and cardio exercises in a series of timed stations. Designed to boost endurance\, build muscle\, and burn calories\, this class keeps you moving with varied exercises that challenge your whole body. Perfect for all fitness levels looking for a dynamic and effective workout.
URL:https://www.tonbridgeschoolcentre.co.uk/event/class-circuits-19/
CATEGORIES:Circuits,Classes,Strength
END:VEVENT
BEGIN:VEVENT
DTSTART;TZID=Europe/London:20251009T201500
DTEND;TZID=Europe/London:20251009T210000
DTSTAMP:20260423T022109
CREATED:20251003T145626Z
LAST-MODIFIED:20251024T113158Z
UID:10001843-1760040900-1760043600@www.tonbridgeschoolcentre.co.uk
SUMMARY:Clay Tennis Courts
DESCRIPTION:Tennis courts can be booked online or via the TSC reception.
URL:https://www.tonbridgeschoolcentre.co.uk/event/clay-tennis-courts-150/
CATEGORIES:Clay Tennis Courts
END:VEVENT
END:VCALENDAR