BEGIN:VCALENDAR
VERSION:2.0
PRODID:-//Tonbridge School Centre - ECPv6.15.18//NONSGML v1.0//EN
CALSCALE:GREGORIAN
METHOD:PUBLISH
X-ORIGINAL-URL:https://www.tonbridgeschoolcentre.co.uk
X-WR-CALDESC:Events for Tonbridge School Centre
REFRESH-INTERVAL;VALUE=DURATION:PT1H
X-Robots-Tag:noindex
X-PUBLISHED-TTL:PT1H
BEGIN:VTIMEZONE
TZID:Europe/London
BEGIN:DAYLIGHT
TZOFFSETFROM:+0000
TZOFFSETTO:+0100
TZNAME:BST
DTSTART:20250330T010000
END:DAYLIGHT
BEGIN:STANDARD
TZOFFSETFROM:+0100
TZOFFSETTO:+0000
TZNAME:GMT
DTSTART:20251026T010000
END:STANDARD
BEGIN:DAYLIGHT
TZOFFSETFROM:+0000
TZOFFSETTO:+0100
TZNAME:BST
DTSTART:20260329T010000
END:DAYLIGHT
BEGIN:STANDARD
TZOFFSETFROM:+0100
TZOFFSETTO:+0000
TZNAME:GMT
DTSTART:20261025T010000
END:STANDARD
BEGIN:DAYLIGHT
TZOFFSETFROM:+0000
TZOFFSETTO:+0100
TZNAME:BST
DTSTART:20270328T010000
END:DAYLIGHT
BEGIN:STANDARD
TZOFFSETFROM:+0100
TZOFFSETTO:+0000
TZNAME:GMT
DTSTART:20271031T010000
END:STANDARD
END:VTIMEZONE
BEGIN:VEVENT
DTSTART;TZID=Europe/London:20260507T180000
DTEND;TZID=Europe/London:20260507T180000
DTSTAMP:20260421T163741
CREATED:20260420T120138Z
LAST-MODIFIED:20260420T120138Z
UID:10005920-1778176800-1778176800@www.tonbridgeschoolcentre.co.uk
SUMMARY:Class: Remix
DESCRIPTION:Instructor: Sherry .  \nGet ready to boost your step count with Remix\, a fresh\, high-energy cardio workout set to popular chart tunes. Featuring dance fitness-inspired choreography\, this class delivers a full-body workout with adjustable intensity\, making it perfect for all ages\, sizes\, fitness levels\, and abilities.
URL:https://www.tonbridgeschoolcentre.co.uk/event/class-remix-38/
CATEGORIES:Classes,Dance,Remix
END:VEVENT
BEGIN:VEVENT
DTSTART;TZID=Europe/London:20260507T180000
DTEND;TZID=Europe/London:20260507T184500
DTSTAMP:20260421T163741
CREATED:20260420T120138Z
LAST-MODIFIED:20260420T120138Z
UID:10005919-1778176800-1778179500@www.tonbridgeschoolcentre.co.uk
SUMMARY:Class: Cycle
DESCRIPTION:Instructor: Marie.  \nThis low-impact\, high-energy indoor cycling workout is set to motivating music and designed to boost cardiovascular fitness and endurance. Choose from a 45-minute endurance ride\, a Beginner/Family Cycle for newcomers\, or Cycle & Abs\, which adds core exercises for extra strength.
URL:https://www.tonbridgeschoolcentre.co.uk/event/class-cycle-253/
CATEGORIES:Aerobic,Classes,Cycle
END:VEVENT
BEGIN:VEVENT
DTSTART;TZID=Europe/London:20260507T180000
DTEND;TZID=Europe/London:20260507T210000
DTSTAMP:20260421T163741
CREATED:20260415T132923Z
LAST-MODIFIED:20260415T132923Z
UID:10005846-1778176800-1778187600@www.tonbridgeschoolcentre.co.uk
SUMMARY:Fitness Suite
DESCRIPTION:Please note on Tuesday morning 11:30am – 1:30pm the swimming pool and Fitness Suite is shared with Active Life Members.
URL:https://www.tonbridgeschoolcentre.co.uk/event/fitness-suite-557/
CATEGORIES:Fitness Suite
END:VEVENT
BEGIN:VEVENT
DTSTART;TZID=Europe/London:20260507T190000
DTEND;TZID=Europe/London:20260507T200000
DTSTAMP:20260421T163741
CREATED:20260415T132107Z
LAST-MODIFIED:20260415T132107Z
UID:10005810-1778180400-1778184000@www.tonbridgeschoolcentre.co.uk
SUMMARY:Adult Only Members Swim
DESCRIPTION:Lane Swimming in half the pool and casual swimming in half the pool\, for Adult Members only (aged 16+). \nPlease note on Tuesday morning 11:30am – 1:30pm the swimming pool and Fitness Suite is shared with Active Life Members.
URL:https://www.tonbridgeschoolcentre.co.uk/event/adult-only-members-swim-173/
CATEGORIES:Adult Only Members Swim,Swimming
END:VEVENT
BEGIN:VEVENT
DTSTART;TZID=Europe/London:20260508T060000
DTEND;TZID=Europe/London:20260508T073000
DTSTAMP:20260421T163741
CREATED:20260415T132206Z
LAST-MODIFIED:20260415T132206Z
UID:10005811-1778220000-1778225400@www.tonbridgeschoolcentre.co.uk
SUMMARY:Lane Swimming
DESCRIPTION:Lane Swimming in the pool for adults and children in a single lane with another activity in the other side of the pool. \nPlease note on Tuesday morning 11:30am – 1:30pm the swimming pool and Fitness Suite is shared with Active Life Members.
URL:https://www.tonbridgeschoolcentre.co.uk/event/lane-swimming-159/
CATEGORIES:Lane Swimming,Swimming
END:VEVENT
BEGIN:VEVENT
DTSTART;TZID=Europe/London:20260508T060000
DTEND;TZID=Europe/London:20260508T163000
DTSTAMP:20260421T163741
CREATED:20260415T132924Z
LAST-MODIFIED:20260415T132924Z
UID:10005847-1778220000-1778257800@www.tonbridgeschoolcentre.co.uk
SUMMARY:Fitness Suite
DESCRIPTION:Please note on Tuesday morning 11:30am – 1:30pm the swimming pool and Fitness Suite is shared with Active Life Members.
URL:https://www.tonbridgeschoolcentre.co.uk/event/fitness-suite-558/
CATEGORIES:Fitness Suite
END:VEVENT
BEGIN:VEVENT
DTSTART;TZID=Europe/London:20260508T070000
DTEND;TZID=Europe/London:20260508T133000
DTSTAMP:20260421T163741
CREATED:20260415T140309Z
LAST-MODIFIED:20260415T140309Z
UID:10005876-1778223600-1778247000@www.tonbridgeschoolcentre.co.uk
SUMMARY:Sauna
DESCRIPTION:
URL:https://www.tonbridgeschoolcentre.co.uk/event/sauna-583/
CATEGORIES:Sauna
END:VEVENT
BEGIN:VEVENT
DTSTART;TZID=Europe/London:20260508T073000
DTEND;TZID=Europe/London:20260508T123000
DTSTAMP:20260421T163741
CREATED:20260415T132206Z
LAST-MODIFIED:20260415T132206Z
UID:10005812-1778225400-1778243400@www.tonbridgeschoolcentre.co.uk
SUMMARY:Members Swim
DESCRIPTION:Lane Swimming in half the pool and casual swimming in half the pool\, for Adult and Children Members. \nPlease note on Tuesday morning 11:30am – 1:30pm the swimming pool and Fitness Suite is shared with Active Life Members.
URL:https://www.tonbridgeschoolcentre.co.uk/event/members-swim-693/
CATEGORIES:Members Swim,Swimming
END:VEVENT
BEGIN:VEVENT
DTSTART;TZID=Europe/London:20260508T093000
DTEND;TZID=Europe/London:20260508T103000
DTSTAMP:20260421T163741
CREATED:20260420T120338Z
LAST-MODIFIED:20260420T120338Z
UID:10005921-1778232600-1778236200@www.tonbridgeschoolcentre.co.uk
SUMMARY:Class: Triple Threat
DESCRIPTION:Instructor: Dan.  \nThis well-rounded class delivers a full-body workout through a series of activity blocks\, ensuring there’s something for everyone. The structure allows you to work at your own pace while progressively building strength\, stamina\, and overall fitness over time. Perfect for all levels\, it helps you challenge yourself and improve steadily in a supportive environment.
URL:https://www.tonbridgeschoolcentre.co.uk/event/class-triple-threat-112/
CATEGORIES:Aerobic,Classes,Triple Threat
END:VEVENT
BEGIN:VEVENT
DTSTART;TZID=Europe/London:20260508T094500
DTEND;TZID=Europe/London:20260508T104500
DTSTAMP:20260421T163741
CREATED:20260420T120338Z
LAST-MODIFIED:20260420T120338Z
UID:10005922-1778233500-1778237100@www.tonbridgeschoolcentre.co.uk
SUMMARY:Class: Vinyasa Yoga
DESCRIPTION:Instructor: Sumiko.  \nVinyasa Yoga is a dynamic and flowing style of yoga that links breath with movement in a seamless sequence of postures. This energising practice builds strength\, flexibility\, and endurance while promoting mindfulness and stress relief. Suitable for all levels\, Vinyasa encourages fluidity and creativity on the mat\, helping you connect body and mind.
URL:https://www.tonbridgeschoolcentre.co.uk/event/class-vinyasa-yoga-218/
CATEGORIES:Classes,Mind & Body,Vinyasa Yoga
END:VEVENT
BEGIN:VEVENT
DTSTART;TZID=Europe/London:20260508T114500
DTEND;TZID=Europe/London:20260508T124500
DTSTAMP:20260421T163741
CREATED:20260420T120338Z
LAST-MODIFIED:20260420T120338Z
UID:10005923-1778240700-1778244300@www.tonbridgeschoolcentre.co.uk
SUMMARY:Class: Fitness Pilates
DESCRIPTION:Instructor: Chris.  \nFitness Pilates combines traditional Pilates principles with a dynamic workout designed to improve strength\, flexibility\, and cardiovascular fitness. This class incorporates flowing movements and controlled exercises to tone muscles\, enhance core stability\, and boost overall endurance — perfect for those looking to elevate their fitness routine.
URL:https://www.tonbridgeschoolcentre.co.uk/event/class-fitness-pilates-35/
CATEGORIES:Classes,Fitness Pilates,Flexibility & Core
END:VEVENT
BEGIN:VEVENT
DTSTART;TZID=Europe/London:20260508T123000
DTEND;TZID=Europe/London:20260508T140000
DTSTAMP:20260421T163741
CREATED:20260415T132206Z
LAST-MODIFIED:20260415T132206Z
UID:10005813-1778243400-1778248800@www.tonbridgeschoolcentre.co.uk
SUMMARY:Double Lane Swimming
DESCRIPTION:Lane swimming is for both adults and children in a double lane. Children must be competent swimmers who can confidently swim lengths. \nPlease note on Tuesday morning 11:30am – 1:30pm the swimming pool and Fitness Suite is shared with Active Life Members.
URL:https://www.tonbridgeschoolcentre.co.uk/event/double-lane-swimming-205/
CATEGORIES:Double Lane Swimming,Swimming
END:VEVENT
BEGIN:VEVENT
DTSTART;TZID=Europe/London:20260508T130000
DTEND;TZID=Europe/London:20260508T140000
DTSTAMP:20260421T163741
CREATED:20260420T120339Z
LAST-MODIFIED:20260420T120339Z
UID:10005924-1778245200-1778248800@www.tonbridgeschoolcentre.co.uk
SUMMARY:Class: Dance Fit
DESCRIPTION:Instructor: Monica.  \nChannel your love for dance into a dynamic fitness workout featuring fast-paced moves and steps. This class blends various dance styles to boost cardiovascular endurance through a series of tracks that alternate between high and low intensity\, keeping your energy up and your heart pumping.
URL:https://www.tonbridgeschoolcentre.co.uk/event/class-dance-fit-137/
CATEGORIES:Classes,Dance,Dance Fit
END:VEVENT
BEGIN:VEVENT
DTSTART;TZID=Europe/London:20260508T150000
DTEND;TZID=Europe/London:20260508T163000
DTSTAMP:20260421T163741
CREATED:20260415T132207Z
LAST-MODIFIED:20260415T132207Z
UID:10005814-1778252400-1778257800@www.tonbridgeschoolcentre.co.uk
SUMMARY:Members Swim
DESCRIPTION:Lane Swimming in half the pool and casual swimming in half the pool\, for Adult and Children Members. \nPlease note on Tuesday morning 11:30am – 1:30pm the swimming pool and Fitness Suite is shared with Active Life Members.
URL:https://www.tonbridgeschoolcentre.co.uk/event/members-swim-694/
CATEGORIES:Members Swim,Swimming
END:VEVENT
BEGIN:VEVENT
DTSTART;TZID=Europe/London:20260508T153000
DTEND;TZID=Europe/London:20260508T163000
DTSTAMP:20260421T163741
CREATED:20260415T140310Z
LAST-MODIFIED:20260415T140310Z
UID:10005877-1778254200-1778257800@www.tonbridgeschoolcentre.co.uk
SUMMARY:Sauna
DESCRIPTION:
URL:https://www.tonbridgeschoolcentre.co.uk/event/sauna-584/
CATEGORIES:Sauna
END:VEVENT
BEGIN:VEVENT
DTSTART;TZID=Europe/London:20260508T180000
DTEND;TZID=Europe/London:20260508T190000
DTSTAMP:20260421T163741
CREATED:20260415T132207Z
LAST-MODIFIED:20260415T132207Z
UID:10005815-1778263200-1778266800@www.tonbridgeschoolcentre.co.uk
SUMMARY:Members Swim
DESCRIPTION:Lane Swimming in half the pool and casual swimming in half the pool\, for Adult and Children Members. \nPlease note on Tuesday morning 11:30am – 1:30pm the swimming pool and Fitness Suite is shared with Active Life Members.
URL:https://www.tonbridgeschoolcentre.co.uk/event/members-swim-695/
CATEGORIES:Members Swim,Swimming
END:VEVENT
BEGIN:VEVENT
DTSTART;TZID=Europe/London:20260508T180000
DTEND;TZID=Europe/London:20260508T210000
DTSTAMP:20260421T163741
CREATED:20260415T132924Z
LAST-MODIFIED:20260415T132924Z
UID:10005848-1778263200-1778274000@www.tonbridgeschoolcentre.co.uk
SUMMARY:Fitness Suite
DESCRIPTION:Please note on Tuesday morning 11:30am – 1:30pm the swimming pool and Fitness Suite is shared with Active Life Members.
URL:https://www.tonbridgeschoolcentre.co.uk/event/fitness-suite-559/
CATEGORIES:Fitness Suite
END:VEVENT
BEGIN:VEVENT
DTSTART;TZID=Europe/London:20260508T180000
DTEND;TZID=Europe/London:20260508T210000
DTSTAMP:20260421T163741
CREATED:20260415T140408Z
LAST-MODIFIED:20260415T140408Z
UID:10005878-1778263200-1778274000@www.tonbridgeschoolcentre.co.uk
SUMMARY:Sauna
DESCRIPTION:
URL:https://www.tonbridgeschoolcentre.co.uk/event/sauna-585/
CATEGORIES:Sauna
END:VEVENT
BEGIN:VEVENT
DTSTART;TZID=Europe/London:20260509T080000
DTEND;TZID=Europe/London:20260509T093000
DTSTAMP:20260421T163741
CREATED:20260415T132306Z
LAST-MODIFIED:20260415T132306Z
UID:10005816-1778313600-1778319000@www.tonbridgeschoolcentre.co.uk
SUMMARY:Members Swim
DESCRIPTION:Lane Swimming in half the pool and casual swimming in half the pool\, for Adult and Children Members. \nPlease note on Tuesday morning 11:30am – 1:30pm the swimming pool and Fitness Suite is shared with Active Life Members.
URL:https://www.tonbridgeschoolcentre.co.uk/event/members-swim-696/
CATEGORIES:Members Swim,Swimming
END:VEVENT
BEGIN:VEVENT
DTSTART;TZID=Europe/London:20260509T080000
DTEND;TZID=Europe/London:20260509T140000
DTSTAMP:20260421T163741
CREATED:20260415T132924Z
LAST-MODIFIED:20260415T132924Z
UID:10005849-1778313600-1778335200@www.tonbridgeschoolcentre.co.uk
SUMMARY:Fitness Suite
DESCRIPTION:Please note on Tuesday morning 11:30am – 1:30pm the swimming pool and Fitness Suite is shared with Active Life Members.
URL:https://www.tonbridgeschoolcentre.co.uk/event/fitness-suite-560/
CATEGORIES:Fitness Suite
END:VEVENT
BEGIN:VEVENT
DTSTART;TZID=Europe/London:20260509T090000
DTEND;TZID=Europe/London:20260509T140000
DTSTAMP:20260421T163741
CREATED:20260415T140409Z
LAST-MODIFIED:20260415T140409Z
UID:10005879-1778317200-1778335200@www.tonbridgeschoolcentre.co.uk
SUMMARY:Sauna
DESCRIPTION:
URL:https://www.tonbridgeschoolcentre.co.uk/event/sauna-586/
CATEGORIES:Sauna
END:VEVENT
BEGIN:VEVENT
DTSTART;TZID=Europe/London:20260509T093000
DTEND;TZID=Europe/London:20260509T110000
DTSTAMP:20260421T163741
CREATED:20260415T132306Z
LAST-MODIFIED:20260415T132306Z
UID:10005817-1778319000-1778324400@www.tonbridgeschoolcentre.co.uk
SUMMARY:Family Splash
DESCRIPTION:Sessions for families in half the pool with floats and Lane Swimming in the other half. (no sinkers are allowed in these sessions). \nPlease note on Tuesday morning 11:30am – 1:30pm the swimming pool and Fitness Suite is shared with Active Life Members.
URL:https://www.tonbridgeschoolcentre.co.uk/event/family-splash-130/
CATEGORIES:Family Splash,Swimming
END:VEVENT
BEGIN:VEVENT
DTSTART;TZID=Europe/London:20260509T110000
DTEND;TZID=Europe/London:20260509T140000
DTSTAMP:20260421T163741
CREATED:20260415T132306Z
LAST-MODIFIED:20260415T132306Z
UID:10005818-1778324400-1778335200@www.tonbridgeschoolcentre.co.uk
SUMMARY:Adult Only Lane Swimming
DESCRIPTION:Lane Swimming in the pool for Adult Members only (aged 16+) in a single lane with another activity in the other side of the pool. \nPlease note on Tuesday morning 11:30am – 1:30pm the swimming pool and Fitness Suite is shared with Active Life Members.
URL:https://www.tonbridgeschoolcentre.co.uk/event/adult-only-lane-swimming-300/
CATEGORIES:Adult Only Lane Swimming,Swimming
END:VEVENT
BEGIN:VEVENT
DTSTART;TZID=Europe/London:20260509T170000
DTEND;TZID=Europe/London:20260509T190000
DTSTAMP:20260421T163741
CREATED:20260415T132307Z
LAST-MODIFIED:20260415T132307Z
UID:10005819-1778346000-1778353200@www.tonbridgeschoolcentre.co.uk
SUMMARY:Members Swim
DESCRIPTION:Lane Swimming in half the pool and casual swimming in half the pool\, for Adult and Children Members. \nPlease note on Tuesday morning 11:30am – 1:30pm the swimming pool and Fitness Suite is shared with Active Life Members.
URL:https://www.tonbridgeschoolcentre.co.uk/event/members-swim-697/
CATEGORIES:Members Swim,Swimming
END:VEVENT
BEGIN:VEVENT
DTSTART;TZID=Europe/London:20260509T170000
DTEND;TZID=Europe/London:20260509T200000
DTSTAMP:20260421T163741
CREATED:20260415T133023Z
LAST-MODIFIED:20260415T133023Z
UID:10005850-1778346000-1778356800@www.tonbridgeschoolcentre.co.uk
SUMMARY:Fitness Suite
DESCRIPTION:Please note on Tuesday morning 11:30am – 1:30pm the swimming pool and Fitness Suite is shared with Active Life Members.
URL:https://www.tonbridgeschoolcentre.co.uk/event/fitness-suite-561/
CATEGORIES:Fitness Suite
END:VEVENT
BEGIN:VEVENT
DTSTART;TZID=Europe/London:20260509T170000
DTEND;TZID=Europe/London:20260509T200000
DTSTAMP:20260421T163741
CREATED:20260415T140409Z
LAST-MODIFIED:20260415T140409Z
UID:10005880-1778346000-1778356800@www.tonbridgeschoolcentre.co.uk
SUMMARY:Sauna
DESCRIPTION:
URL:https://www.tonbridgeschoolcentre.co.uk/event/sauna-587/
CATEGORIES:Sauna
END:VEVENT
BEGIN:VEVENT
DTSTART;TZID=Europe/London:20260509T190000
DTEND;TZID=Europe/London:20260509T200000
DTSTAMP:20260421T163741
CREATED:20260415T132307Z
LAST-MODIFIED:20260415T132307Z
UID:10005820-1778353200-1778356800@www.tonbridgeschoolcentre.co.uk
SUMMARY:Adult Only Members Swim
DESCRIPTION:Lane Swimming in half the pool and casual swimming in half the pool\, for Adult Members only (aged 16+). \nPlease note on Tuesday morning 11:30am – 1:30pm the swimming pool and Fitness Suite is shared with Active Life Members.
URL:https://www.tonbridgeschoolcentre.co.uk/event/adult-only-members-swim-174/
CATEGORIES:Adult Only Members Swim,Swimming
END:VEVENT
BEGIN:VEVENT
DTSTART;TZID=Europe/London:20260510T090000
DTEND;TZID=Europe/London:20260510T103000
DTSTAMP:20260421T163741
CREATED:20260415T132406Z
LAST-MODIFIED:20260415T132406Z
UID:10005821-1778403600-1778409000@www.tonbridgeschoolcentre.co.uk
SUMMARY:Members Swim
DESCRIPTION:Lane Swimming in half the pool and casual swimming in half the pool\, for Adult and Children Members. \nPlease note on Tuesday morning 11:30am – 1:30pm the swimming pool and Fitness Suite is shared with Active Life Members.
URL:https://www.tonbridgeschoolcentre.co.uk/event/members-swim-698/
CATEGORIES:Members Swim,Swimming
END:VEVENT
BEGIN:VEVENT
DTSTART;TZID=Europe/London:20260510T090000
DTEND;TZID=Europe/London:20260510T130000
DTSTAMP:20260421T163741
CREATED:20260415T133023Z
LAST-MODIFIED:20260415T133023Z
UID:10005851-1778403600-1778418000@www.tonbridgeschoolcentre.co.uk
SUMMARY:Fitness Suite
DESCRIPTION:Please note on Tuesday morning 11:30am – 1:30pm the swimming pool and Fitness Suite is shared with Active Life Members.
URL:https://www.tonbridgeschoolcentre.co.uk/event/fitness-suite-562/
CATEGORIES:Fitness Suite
END:VEVENT
BEGIN:VEVENT
DTSTART;TZID=Europe/London:20260510T100000
DTEND;TZID=Europe/London:20260510T150000
DTSTAMP:20260421T163741
CREATED:20260415T140409Z
LAST-MODIFIED:20260415T140409Z
UID:10005881-1778407200-1778425200@www.tonbridgeschoolcentre.co.uk
SUMMARY:Sauna
DESCRIPTION:
URL:https://www.tonbridgeschoolcentre.co.uk/event/sauna-588/
CATEGORIES:Sauna
END:VEVENT
END:VCALENDAR