BEGIN:VCALENDAR
VERSION:2.0
PRODID:-//Tonbridge School Centre - ECPv6.15.18//NONSGML v1.0//EN
CALSCALE:GREGORIAN
METHOD:PUBLISH
X-WR-CALNAME:Tonbridge School Centre
X-ORIGINAL-URL:https://www.tonbridgeschoolcentre.co.uk
X-WR-CALDESC:Events for Tonbridge School Centre
REFRESH-INTERVAL;VALUE=DURATION:PT1H
X-Robots-Tag:noindex
X-PUBLISHED-TTL:PT1H
BEGIN:VTIMEZONE
TZID:Europe/London
BEGIN:DAYLIGHT
TZOFFSETFROM:+0000
TZOFFSETTO:+0100
TZNAME:BST
DTSTART:20240331T010000
END:DAYLIGHT
BEGIN:STANDARD
TZOFFSETFROM:+0100
TZOFFSETTO:+0000
TZNAME:GMT
DTSTART:20241027T010000
END:STANDARD
BEGIN:DAYLIGHT
TZOFFSETFROM:+0000
TZOFFSETTO:+0100
TZNAME:BST
DTSTART:20250330T010000
END:DAYLIGHT
BEGIN:STANDARD
TZOFFSETFROM:+0100
TZOFFSETTO:+0000
TZNAME:GMT
DTSTART:20251026T010000
END:STANDARD
BEGIN:DAYLIGHT
TZOFFSETFROM:+0000
TZOFFSETTO:+0100
TZNAME:BST
DTSTART:20260329T010000
END:DAYLIGHT
BEGIN:STANDARD
TZOFFSETFROM:+0100
TZOFFSETTO:+0000
TZNAME:GMT
DTSTART:20261025T010000
END:STANDARD
END:VTIMEZONE
BEGIN:VEVENT
DTSTART;TZID=Europe/London:20251220T094500
DTEND;TZID=Europe/London:20251220T101500
DTSTAMP:20260424T191301
CREATED:20251202T110552Z
LAST-MODIFIED:20251202T111709Z
UID:10003199-1766223900-1766225700@www.tonbridgeschoolcentre.co.uk
SUMMARY:Class: Beginners/Family Cycle
DESCRIPTION:Instructor: Jade.  \nThis low-impact\, high-energy indoor cycling workout is set to motivating music and designed to boost cardiovascular fitness and endurance. Choose from a 45-minute endurance ride\, a Beginner/Family Cycle for newcomers\, or Cycle & Abs\, which adds core exercises for extra strength.
URL:https://www.tonbridgeschoolcentre.co.uk/event/class-beginners-family-cycle-19/
CATEGORIES:Aerobic,Beginners/Family Cycle,Classes
END:VEVENT
BEGIN:VEVENT
DTSTART;TZID=Europe/London:20251220T093000
DTEND;TZID=Europe/London:20251220T110000
DTSTAMP:20260424T191301
CREATED:20251201T133103Z
LAST-MODIFIED:20251201T133103Z
UID:10003082-1766223000-1766228400@www.tonbridgeschoolcentre.co.uk
SUMMARY:Family Splash
DESCRIPTION:Sessions for families in half the pool with floats and Lane Swimming in the other half. (no sinkers are allowed in these sessions). \nPlease note on Tuesday morning 11:30am – 1:30pm the swimming pool and Fitness Suite is shared with Active Life Members.
URL:https://www.tonbridgeschoolcentre.co.uk/event/family-splash-54/
CATEGORIES:Family Splash,Swimming
END:VEVENT
BEGIN:VEVENT
DTSTART;TZID=Europe/London:20251220T090000
DTEND;TZID=Europe/London:20251220T200000
DTSTAMP:20260424T191301
CREATED:20251201T151325Z
LAST-MODIFIED:20251201T151325Z
UID:10003148-1766221200-1766260800@www.tonbridgeschoolcentre.co.uk
SUMMARY:Sauna
DESCRIPTION:
URL:https://www.tonbridgeschoolcentre.co.uk/event/sauna-292/
CATEGORIES:Sauna
END:VEVENT
BEGIN:VEVENT
DTSTART;TZID=Europe/London:20251220T084500
DTEND;TZID=Europe/London:20251220T093000
DTSTAMP:20260424T191301
CREATED:20251202T110552Z
LAST-MODIFIED:20251202T111708Z
UID:10003198-1766220300-1766223000@www.tonbridgeschoolcentre.co.uk
SUMMARY:Class: Cycle
DESCRIPTION:Instructor: Jade.  \nThis low-impact\, high-energy indoor cycling workout is set to motivating music and designed to boost cardiovascular fitness and endurance. Choose from a 45-minute endurance ride\, a Beginner/Family Cycle for newcomers\, or Cycle & Abs\, which adds core exercises for extra strength.
URL:https://www.tonbridgeschoolcentre.co.uk/event/class-cycle-135/
CATEGORIES:Aerobic,Classes,Cycle
END:VEVENT
BEGIN:VEVENT
DTSTART;TZID=Europe/London:20251220T080000
DTEND;TZID=Europe/London:20251220T200000
DTSTAMP:20260424T191301
CREATED:20251214T111504Z
LAST-MODIFIED:20251214T111504Z
UID:10003365-1766217600-1766260800@www.tonbridgeschoolcentre.co.uk
SUMMARY:Clay Tennis Courts
DESCRIPTION:Tennis courts can be booked online or via the TSC reception.
URL:https://www.tonbridgeschoolcentre.co.uk/event/clay-tennis-courts-273/
CATEGORIES:Clay Tennis Courts
END:VEVENT
BEGIN:VEVENT
DTSTART;TZID=Europe/London:20251220T080000
DTEND;TZID=Europe/London:20251220T200000
DTSTAMP:20260424T191301
CREATED:20251201T144412Z
LAST-MODIFIED:20251201T144412Z
UID:10003106-1766217600-1766260800@www.tonbridgeschoolcentre.co.uk
SUMMARY:Fitness Suite
DESCRIPTION:Please note on Tuesday morning 11:30am – 1:30pm the swimming pool and Fitness Suite is shared with Active Life Members.
URL:https://www.tonbridgeschoolcentre.co.uk/event/fitness-suite-297/
CATEGORIES:Fitness Suite
END:VEVENT
BEGIN:VEVENT
DTSTART;TZID=Europe/London:20251220T080000
DTEND;TZID=Europe/London:20251220T093000
DTSTAMP:20260424T191301
CREATED:20251201T133005Z
LAST-MODIFIED:20251201T133005Z
UID:10003081-1766217600-1766223000@www.tonbridgeschoolcentre.co.uk
SUMMARY:Members Swim
DESCRIPTION:Lane Swimming in half the pool and casual swimming in half the pool\, for Adult and Children Members. \nPlease note on Tuesday morning 11:30am – 1:30pm the swimming pool and Fitness Suite is shared with Active Life Members.
URL:https://www.tonbridgeschoolcentre.co.uk/event/members-swim-369/
CATEGORIES:Members Swim,Swimming
END:VEVENT
BEGIN:VEVENT
DTSTART;TZID=Europe/London:20251219T181500
DTEND;TZID=Europe/London:20251219T191500
DTSTAMP:20260424T191301
CREATED:20251202T110552Z
LAST-MODIFIED:20251208T094243Z
UID:10003196-1766168100-1766171700@www.tonbridgeschoolcentre.co.uk
SUMMARY:Class: Mat Pilates
DESCRIPTION:Instructor: James. \nA low-impact workout performed on a mat that focuses on strengthening the core\, improving flexibility\, and enhancing posture through controlled\, precise movements. Using your body weight\, this class helps build stability\, balance\, and overall body awareness\, making it suitable for all fitness levels.
URL:https://www.tonbridgeschoolcentre.co.uk/event/class-mat-pilates-55/
CATEGORIES:Classes,Flexibility & Core,Mat Pilates
END:VEVENT
BEGIN:VEVENT
DTSTART;TZID=Europe/London:20251219T181500
DTEND;TZID=Europe/London:20251219T185500
DTSTAMP:20260424T191301
CREATED:20251202T110552Z
LAST-MODIFIED:20251208T094358Z
UID:10003197-1766168100-1766170500@www.tonbridgeschoolcentre.co.uk
SUMMARY:Class: HIIT
DESCRIPTION:Instructor: Josh G . \nA fast-paced workout combining short bursts of intense exercise with brief recovery periods. HIIT boosts fitness\, burns calories\, and builds strength in less time. Perfect for those who want maximum results in a short session. All levels welcome\, with options to scale intensity.
URL:https://www.tonbridgeschoolcentre.co.uk/event/class-hiit-37/
CATEGORIES:Aerobic,Classes,HIIT
END:VEVENT
BEGIN:VEVENT
DTSTART;TZID=Europe/London:20251219T180000
DTEND;TZID=Europe/London:20251219T190000
DTSTAMP:20260424T191301
CREATED:20251201T133004Z
LAST-MODIFIED:20251205T161629Z
UID:10003080-1766167200-1766170800@www.tonbridgeschoolcentre.co.uk
SUMMARY:Adult Only Members Swim
DESCRIPTION:Lane Swimming in half the pool and casual swimming in half the pool\, for Adult and Children Members. \nPlease note on Tuesday morning 11:30am – 1:30pm the swimming pool and Fitness Suite is shared with Active Life Members.
URL:https://www.tonbridgeschoolcentre.co.uk/event/members-swim-368/
CATEGORIES:Members Swim,Swimming
END:VEVENT
BEGIN:VEVENT
DTSTART;TZID=Europe/London:20251219T153000
DTEND;TZID=Europe/London:20251219T210000
DTSTAMP:20260424T191301
CREATED:20251201T151226Z
LAST-MODIFIED:20251201T151226Z
UID:10003147-1766158200-1766178000@www.tonbridgeschoolcentre.co.uk
SUMMARY:Sauna
DESCRIPTION:
URL:https://www.tonbridgeschoolcentre.co.uk/event/sauna-291/
CATEGORIES:Sauna
END:VEVENT
BEGIN:VEVENT
DTSTART;TZID=Europe/London:20251219T153000
DTEND;TZID=Europe/London:20251219T180000
DTSTAMP:20260424T191301
CREATED:20251201T133004Z
LAST-MODIFIED:20251205T161731Z
UID:10003078-1766158200-1766167200@www.tonbridgeschoolcentre.co.uk
SUMMARY:Members Swim
DESCRIPTION:Lane Swimming in half the pool and casual swimming in half the pool\, for Adult and Children Members. \nPlease note on Tuesday morning 11:30am – 1:30pm the swimming pool and Fitness Suite is shared with Active Life Members.
URL:https://www.tonbridgeschoolcentre.co.uk/event/members-swim-367/
CATEGORIES:Members Swim,Swimming
END:VEVENT
BEGIN:VEVENT
DTSTART;TZID=Europe/London:20251219T130000
DTEND;TZID=Europe/London:20251219T140000
DTSTAMP:20260424T191301
CREATED:20251202T110452Z
LAST-MODIFIED:20251202T111609Z
UID:10003194-1766149200-1766152800@www.tonbridgeschoolcentre.co.uk
SUMMARY:Class: Dance Fit
DESCRIPTION:Instructor: Monica.  \nChannel your love for dance into a dynamic fitness workout featuring fast-paced moves and steps. This class blends various dance styles to boost cardiovascular endurance through a series of tracks that alternate between high and low intensity\, keeping your energy up and your heart pumping.
URL:https://www.tonbridgeschoolcentre.co.uk/event/class-dance-fit-73/
CATEGORIES:Classes,Dance,Dance Fit
END:VEVENT
BEGIN:VEVENT
DTSTART;TZID=Europe/London:20251219T130000
DTEND;TZID=Europe/London:20251219T134500
DTSTAMP:20260424T191301
CREATED:20251202T110551Z
LAST-MODIFIED:20251202T111708Z
UID:10003195-1766149200-1766151900@www.tonbridgeschoolcentre.co.uk
SUMMARY:Class: Cycle
DESCRIPTION:Instructor: Dan.  \nThis low-impact\, high-energy indoor cycling workout is set to motivating music and designed to boost cardiovascular fitness and endurance. Choose from a 45-minute endurance ride\, a Beginner/Family Cycle for newcomers\, or Cycle & Abs\, which adds core exercises for extra strength.
URL:https://www.tonbridgeschoolcentre.co.uk/event/class-cycle-134/
CATEGORIES:Aerobic,Classes,Cycle
END:VEVENT
BEGIN:VEVENT
DTSTART;TZID=Europe/London:20251219T120000
DTEND;TZID=Europe/London:20251219T133000
DTSTAMP:20260424T191301
CREATED:20251201T133004Z
LAST-MODIFIED:20251205T162128Z
UID:10003077-1766145600-1766151000@www.tonbridgeschoolcentre.co.uk
SUMMARY:Double Lane Swimming
DESCRIPTION:Lane swimming is for both adults and children in a double lane. Children must be competent swimmers who can confidently swim lengths. \nPlease note on Tuesday morning 11:30am – 1:30pm the swimming pool and Fitness Suite is shared with Active Life Members.
URL:https://www.tonbridgeschoolcentre.co.uk/event/double-lane-swimming-114/
CATEGORIES:Double Lane Swimming,Swimming
END:VEVENT
BEGIN:VEVENT
DTSTART;TZID=Europe/London:20251219T114500
DTEND;TZID=Europe/London:20251219T124500
DTSTAMP:20260424T191301
CREATED:20251202T110451Z
LAST-MODIFIED:20251202T111609Z
UID:10003193-1766144700-1766148300@www.tonbridgeschoolcentre.co.uk
SUMMARY:Class: Fitness Pilates
DESCRIPTION:Instructor: Chris.  \nFitness Pilates combines traditional Pilates principles with a dynamic workout designed to improve strength\, flexibility\, and cardiovascular fitness. This class incorporates flowing movements and controlled exercises to tone muscles\, enhance core stability\, and boost overall endurance — perfect for those looking to elevate their fitness routine.
URL:https://www.tonbridgeschoolcentre.co.uk/event/class-fitness-pilates-19/
CATEGORIES:Classes,Fitness Pilates,Flexibility & Core
END:VEVENT
BEGIN:VEVENT
DTSTART;TZID=Europe/London:20251219T103000
DTEND;TZID=Europe/London:20251219T120000
DTSTAMP:20260424T191301
CREATED:20251201T132046Z
LAST-MODIFIED:20251205T162038Z
UID:10003076-1766140200-1766145600@www.tonbridgeschoolcentre.co.uk
SUMMARY:Family Splash
DESCRIPTION:Lane Swimming in the pool for Adult Members only (aged 16+) in a single lane with another activity in the other side of the pool. \nPlease note on Tuesday morning 11:30am – 1:30pm the swimming pool and Fitness Suite is shared with Active Life Members.
URL:https://www.tonbridgeschoolcentre.co.uk/event/adult-only-lane-swimming-162/
CATEGORIES:Family Splash,Swimming
END:VEVENT
BEGIN:VEVENT
DTSTART;TZID=Europe/London:20251219T094500
DTEND;TZID=Europe/London:20251219T104500
DTSTAMP:20260424T191301
CREATED:20251202T110451Z
LAST-MODIFIED:20251202T111608Z
UID:10003192-1766137500-1766141100@www.tonbridgeschoolcentre.co.uk
SUMMARY:Class: Vinyasa Yoga
DESCRIPTION:Instructor: Sumiko.  \nVinyasa Yoga is a dynamic and flowing style of yoga that links breath with movement in a seamless sequence of postures. This energising practice builds strength\, flexibility\, and endurance while promoting mindfulness and stress relief. Suitable for all levels\, Vinyasa encourages fluidity and creativity on the mat\, helping you connect body and mind.
URL:https://www.tonbridgeschoolcentre.co.uk/event/class-vinyasa-yoga-117/
CATEGORIES:Classes,Mind & Body,Vinyasa Yoga
END:VEVENT
BEGIN:VEVENT
DTSTART;TZID=Europe/London:20251219T084500
DTEND;TZID=Europe/London:20251219T094500
DTSTAMP:20260424T191301
CREATED:20251202T110451Z
LAST-MODIFIED:20251202T111608Z
UID:10003191-1766133900-1766137500@www.tonbridgeschoolcentre.co.uk
SUMMARY:Class: Triple Threat
DESCRIPTION:Instructor: Dan.  \nThis well-rounded class delivers a full-body workout through a series of activity blocks\, ensuring there’s something for everyone. The structure allows you to work at your own pace while progressively building strength\, stamina\, and overall fitness over time. Perfect for all levels\, it helps you challenge yourself and improve steadily in a supportive environment.
URL:https://www.tonbridgeschoolcentre.co.uk/event/class-triple-threat-58/
CATEGORIES:Aerobic,Classes,Triple Threat
END:VEVENT
BEGIN:VEVENT
DTSTART;TZID=Europe/London:20251219T073000
DTEND;TZID=Europe/London:20251219T103000
DTSTAMP:20260424T191301
CREATED:20251201T132046Z
LAST-MODIFIED:20251205T161056Z
UID:10003075-1766129400-1766140200@www.tonbridgeschoolcentre.co.uk
SUMMARY:Members Swim
DESCRIPTION:Lane Swimming in half the pool and casual swimming in half the pool\, for Adult and Children Members. \nPlease note on Tuesday morning 11:30am – 1:30pm the swimming pool and Fitness Suite is shared with Active Life Members.
URL:https://www.tonbridgeschoolcentre.co.uk/event/members-swim-366/
CATEGORIES:Members Swim,Swimming
END:VEVENT
BEGIN:VEVENT
DTSTART;TZID=Europe/London:20251219T070000
DTEND;TZID=Europe/London:20251219T210000
DTSTAMP:20260424T191301
CREATED:20251214T113206Z
LAST-MODIFIED:20251214T113206Z
UID:10003376-1766127600-1766178000@www.tonbridgeschoolcentre.co.uk
SUMMARY:Clay Tennis Courts
DESCRIPTION:
URL:https://www.tonbridgeschoolcentre.co.uk/event/clay-tennis-courts-284/
CATEGORIES:Clay Tennis Courts
END:VEVENT
BEGIN:VEVENT
DTSTART;TZID=Europe/London:20251219T070000
DTEND;TZID=Europe/London:20251219T180000
DTSTAMP:20260424T191301
CREATED:20251201T150338Z
LAST-MODIFIED:20251201T150338Z
UID:10003120-1766127600-1766167200@www.tonbridgeschoolcentre.co.uk
SUMMARY:Athletics Track
DESCRIPTION:Inside two lanes of the Track are not to be used.
URL:https://www.tonbridgeschoolcentre.co.uk/event/athletics-track-181/
CATEGORIES:Athletics Track
END:VEVENT
BEGIN:VEVENT
DTSTART;TZID=Europe/London:20251219T070000
DTEND;TZID=Europe/London:20251219T133000
DTSTAMP:20260424T191301
CREATED:20251201T151226Z
LAST-MODIFIED:20251201T151226Z
UID:10003146-1766127600-1766151000@www.tonbridgeschoolcentre.co.uk
SUMMARY:Sauna
DESCRIPTION:
URL:https://www.tonbridgeschoolcentre.co.uk/event/sauna-290/
CATEGORIES:Sauna
END:VEVENT
BEGIN:VEVENT
DTSTART;TZID=Europe/London:20251219T061500
DTEND;TZID=Europe/London:20251219T070000
DTSTAMP:20260424T191301
CREATED:20251202T110451Z
LAST-MODIFIED:20251202T111608Z
UID:10003190-1766124900-1766127600@www.tonbridgeschoolcentre.co.uk
SUMMARY:Class: Freestyle Fitness Yoga
DESCRIPTION:Instructor: Monica.
URL:https://www.tonbridgeschoolcentre.co.uk/event/class-freestyle-fitness-yoga-19/
CATEGORIES:Classes,Freestyle Fitness Yoga,Mind & Body
END:VEVENT
BEGIN:VEVENT
DTSTART;TZID=Europe/London:20251219T060000
DTEND;TZID=Europe/London:20251219T210000
DTSTAMP:20260424T191301
CREATED:20251201T144212Z
LAST-MODIFIED:20251201T144212Z
UID:10003105-1766124000-1766178000@www.tonbridgeschoolcentre.co.uk
SUMMARY:Fitness Suite
DESCRIPTION:Please note on Tuesday morning 11:30am – 1:30pm the swimming pool and Fitness Suite is shared with Active Life Members.
URL:https://www.tonbridgeschoolcentre.co.uk/event/fitness-suite-296/
CATEGORIES:Fitness Suite
END:VEVENT
BEGIN:VEVENT
DTSTART;TZID=Europe/London:20251219T060000
DTEND;TZID=Europe/London:20251219T073000
DTSTAMP:20260424T191301
CREATED:20251201T132045Z
LAST-MODIFIED:20251201T132045Z
UID:10003074-1766124000-1766129400@www.tonbridgeschoolcentre.co.uk
SUMMARY:Lane Swimming
DESCRIPTION:Lane Swimming in the pool for adults and children in a single lane with another activity in the other side of the pool. \nPlease note on Tuesday morning 11:30am – 1:30pm the swimming pool and Fitness Suite is shared with Active Life Members.
URL:https://www.tonbridgeschoolcentre.co.uk/event/lane-swimming-84/
CATEGORIES:Lane Swimming,Swimming
END:VEVENT
BEGIN:VEVENT
DTSTART;TZID=Europe/London:20251219T000000
DTEND;TZID=Europe/London:20251219T000000
DTSTAMP:20260424T191301
CREATED:20251214T111504Z
LAST-MODIFIED:20251214T111504Z
UID:10003364-1766102400-1766102400@www.tonbridgeschoolcentre.co.uk
SUMMARY:Clay Tennis Courts
DESCRIPTION:Tennis courts can be booked online or via the TSC reception.
URL:https://www.tonbridgeschoolcentre.co.uk/event/clay-tennis-courts-272/
CATEGORIES:Clay Tennis Courts
END:VEVENT
BEGIN:VEVENT
DTSTART;TZID=Europe/London:20251218T190000
DTEND;TZID=Europe/London:20251218T200000
DTSTAMP:20260424T191301
CREATED:20251201T132045Z
LAST-MODIFIED:20251201T132045Z
UID:10003073-1766084400-1766088000@www.tonbridgeschoolcentre.co.uk
SUMMARY:Adult Only Members Swim
DESCRIPTION:Lane Swimming in half the pool and casual swimming in half the pool\, for Adult Members only (aged 16+). \nPlease note on Tuesday morning 11:30am – 1:30pm the swimming pool and Fitness Suite is shared with Active Life Members.
URL:https://www.tonbridgeschoolcentre.co.uk/event/adult-only-members-swim-84/
CATEGORIES:Adult Only Members Swim,Swimming
END:VEVENT
BEGIN:VEVENT
DTSTART;TZID=Europe/London:20251218T180000
DTEND;TZID=Europe/London:20251218T184500
DTSTAMP:20260424T191301
CREATED:20251202T110352Z
LAST-MODIFIED:20251202T111508Z
UID:10003189-1766080800-1766083500@www.tonbridgeschoolcentre.co.uk
SUMMARY:Class: Remix
DESCRIPTION:Instructor: Sherry.  \nGet ready to boost your step count with Remix\, a fresh\, high-energy cardio workout set to popular chart tunes. Featuring dance fitness-inspired choreography\, this class delivers a full-body workout with adjustable intensity\, making it perfect for all ages\, sizes\, fitness levels\, and abilities.
URL:https://www.tonbridgeschoolcentre.co.uk/event/class-remix-20/
CATEGORIES:Classes,Dance,Remix
END:VEVENT
BEGIN:VEVENT
DTSTART;TZID=Europe/London:20251218T180000
DTEND;TZID=Europe/London:20251218T184500
DTSTAMP:20260424T191301
CREATED:20251202T110351Z
LAST-MODIFIED:20251202T111508Z
UID:10003188-1766080800-1766083500@www.tonbridgeschoolcentre.co.uk
SUMMARY:Class: Cycle
DESCRIPTION:Instructor: Marie.  \nThis low-impact\, high-energy indoor cycling workout is set to motivating music and designed to boost cardiovascular fitness and endurance. Choose from a 45-minute endurance ride\, a Beginner/Family Cycle for newcomers\, or Cycle & Abs\, which adds core exercises for extra strength.
URL:https://www.tonbridgeschoolcentre.co.uk/event/class-cycle-133/
CATEGORIES:Aerobic,Classes,Cycle
END:VEVENT
END:VCALENDAR