BEGIN:VCALENDAR
VERSION:2.0
PRODID:-//Tonbridge School Centre - ECPv6.15.18//NONSGML v1.0//EN
CALSCALE:GREGORIAN
METHOD:PUBLISH
X-WR-CALNAME:Tonbridge School Centre
X-ORIGINAL-URL:https://www.tonbridgeschoolcentre.co.uk
X-WR-CALDESC:Events for Tonbridge School Centre
REFRESH-INTERVAL;VALUE=DURATION:PT1H
X-Robots-Tag:noindex
X-PUBLISHED-TTL:PT1H
BEGIN:VTIMEZONE
TZID:Europe/London
BEGIN:DAYLIGHT
TZOFFSETFROM:+0000
TZOFFSETTO:+0100
TZNAME:BST
DTSTART:20240331T010000
END:DAYLIGHT
BEGIN:STANDARD
TZOFFSETFROM:+0100
TZOFFSETTO:+0000
TZNAME:GMT
DTSTART:20241027T010000
END:STANDARD
BEGIN:DAYLIGHT
TZOFFSETFROM:+0000
TZOFFSETTO:+0100
TZNAME:BST
DTSTART:20250330T010000
END:DAYLIGHT
BEGIN:STANDARD
TZOFFSETFROM:+0100
TZOFFSETTO:+0000
TZNAME:GMT
DTSTART:20251026T010000
END:STANDARD
BEGIN:DAYLIGHT
TZOFFSETFROM:+0000
TZOFFSETTO:+0100
TZNAME:BST
DTSTART:20260329T010000
END:DAYLIGHT
BEGIN:STANDARD
TZOFFSETFROM:+0100
TZOFFSETTO:+0000
TZNAME:GMT
DTSTART:20261025T010000
END:STANDARD
END:VTIMEZONE
BEGIN:VEVENT
DTSTART;TZID=Europe/London:20251226T000000
DTEND;TZID=Europe/London:20251226T000000
DTSTAMP:20260420T092027
CREATED:20251223T162403Z
LAST-MODIFIED:20251223T162503Z
UID:10003695-1766707200-1766707200@www.tonbridgeschoolcentre.co.uk
SUMMARY:Sauna
DESCRIPTION:
URL:https://www.tonbridgeschoolcentre.co.uk/event/sauna-335/
CATEGORIES:Sauna
END:VEVENT
BEGIN:VEVENT
DTSTART;TZID=Europe/London:20251226T000000
DTEND;TZID=Europe/London:20251226T000000
DTSTAMP:20260420T092027
CREATED:20251223T162403Z
LAST-MODIFIED:20251223T162403Z
UID:10003696-1766707200-1766707200@www.tonbridgeschoolcentre.co.uk
SUMMARY:Sauna
DESCRIPTION:
URL:https://www.tonbridgeschoolcentre.co.uk/event/sauna-336/
CATEGORIES:Sauna
END:VEVENT
BEGIN:VEVENT
DTSTART;TZID=Europe/London:20251226T000000
DTEND;TZID=Europe/London:20251226T000000
DTSTAMP:20260420T092027
CREATED:20251214T111703Z
LAST-MODIFIED:20251214T111703Z
UID:10003372-1766707200-1766707200@www.tonbridgeschoolcentre.co.uk
SUMMARY:Clay Tennis Courts
DESCRIPTION:Tennis courts can be booked online or via the TSC reception.
URL:https://www.tonbridgeschoolcentre.co.uk/event/clay-tennis-courts-280/
CATEGORIES:Clay Tennis Courts
END:VEVENT
BEGIN:VEVENT
DTSTART;TZID=Europe/London:20251226T000000
DTEND;TZID=Europe/London:20251226T000000
DTSTAMP:20260420T092027
CREATED:20251202T123314Z
LAST-MODIFIED:20251202T123314Z
UID:10003288-1766707200-1766707200@www.tonbridgeschoolcentre.co.uk
SUMMARY:Athletics Track
DESCRIPTION:Inside two lanes of the Track are not to be used.
URL:https://www.tonbridgeschoolcentre.co.uk/event/athletics-track-188/
CATEGORIES:Athletics Track
END:VEVENT
BEGIN:VEVENT
DTSTART;TZID=Europe/London:20251226T000000
DTEND;TZID=Europe/London:20251226T000000
DTSTAMP:20260420T092027
CREATED:20251202T122924Z
LAST-MODIFIED:20251202T122924Z
UID:10003274-1766707200-1766707200@www.tonbridgeschoolcentre.co.uk
SUMMARY:Fitness Suite
DESCRIPTION:Please note on Tuesday morning 11:30am – 1:30pm the swimming pool and Fitness Suite is shared with Active Life Members.
URL:https://www.tonbridgeschoolcentre.co.uk/event/fitness-suite-303/
CATEGORIES:Fitness Suite
END:VEVENT
BEGIN:VEVENT
DTSTART;TZID=Europe/London:20251225T000000
DTEND;TZID=Europe/London:20251225T000000
DTSTAMP:20260420T092027
CREATED:20251223T162403Z
LAST-MODIFIED:20251223T162403Z
UID:10003694-1766620800-1766620800@www.tonbridgeschoolcentre.co.uk
SUMMARY:Sauna
DESCRIPTION:
URL:https://www.tonbridgeschoolcentre.co.uk/event/sauna-334/
CATEGORIES:Sauna
END:VEVENT
BEGIN:VEVENT
DTSTART;TZID=Europe/London:20251225T000000
DTEND;TZID=Europe/London:20251225T000000
DTSTAMP:20260420T092027
CREATED:20251223T162402Z
LAST-MODIFIED:20251223T162402Z
UID:10003693-1766620800-1766620800@www.tonbridgeschoolcentre.co.uk
SUMMARY:Sauna
DESCRIPTION:
URL:https://www.tonbridgeschoolcentre.co.uk/event/sauna-333/
CATEGORIES:Sauna
END:VEVENT
BEGIN:VEVENT
DTSTART;TZID=Europe/London:20251225T000000
DTEND;TZID=Europe/London:20251225T000000
DTSTAMP:20260420T092027
CREATED:20251214T111604Z
LAST-MODIFIED:20251214T111604Z
UID:10003371-1766620800-1766620800@www.tonbridgeschoolcentre.co.uk
SUMMARY:Clay Tennis Courts
DESCRIPTION:Tennis courts can be booked online or via the TSC reception.
URL:https://www.tonbridgeschoolcentre.co.uk/event/clay-tennis-courts-279/
CATEGORIES:Clay Tennis Courts
END:VEVENT
BEGIN:VEVENT
DTSTART;TZID=Europe/London:20251225T000000
DTEND;TZID=Europe/London:20251225T000000
DTSTAMP:20260420T092027
CREATED:20251202T123313Z
LAST-MODIFIED:20251202T123313Z
UID:10003287-1766620800-1766620800@www.tonbridgeschoolcentre.co.uk
SUMMARY:Athletics Track
DESCRIPTION:Inside two lanes of the Track are not to be used.
URL:https://www.tonbridgeschoolcentre.co.uk/event/athletics-track-187/
CATEGORIES:Athletics Track
END:VEVENT
BEGIN:VEVENT
DTSTART;TZID=Europe/London:20251225T000000
DTEND;TZID=Europe/London:20251225T000000
DTSTAMP:20260420T092027
CREATED:20251202T122923Z
LAST-MODIFIED:20251202T122923Z
UID:10003273-1766620800-1766620800@www.tonbridgeschoolcentre.co.uk
SUMMARY:Fitness Suite
DESCRIPTION:Please note on Tuesday morning 11:30am – 1:30pm the swimming pool and Fitness Suite is shared with Active Life Members.
URL:https://www.tonbridgeschoolcentre.co.uk/event/fitness-suite-302/
CATEGORIES:Fitness Suite
END:VEVENT
BEGIN:VEVENT
DTSTART;TZID=Europe/London:20251224T120000
DTEND;TZID=Europe/London:20251224T130000
DTSTAMP:20260420T092027
CREATED:20251202T121911Z
LAST-MODIFIED:20251202T124111Z
UID:10003244-1766577600-1766581200@www.tonbridgeschoolcentre.co.uk
SUMMARY:Adult Only Members Swim
DESCRIPTION:Lane Swimming in half the pool and casual swimming in half the pool\, for Adult Members only (aged 16+). \nPlease note on Tuesday morning 11:30am – 1:30pm the swimming pool and Fitness Suite is shared with Active Life Members.
URL:https://www.tonbridgeschoolcentre.co.uk/event/adult-only-members-swim-88/
CATEGORIES:Adult Only Members Swim,Swimming
END:VEVENT
BEGIN:VEVENT
DTSTART;TZID=Europe/London:20251224T103000
DTEND;TZID=Europe/London:20251224T120000
DTSTAMP:20260420T092027
CREATED:20251202T121911Z
LAST-MODIFIED:20251202T124111Z
UID:10003243-1766572200-1766577600@www.tonbridgeschoolcentre.co.uk
SUMMARY:Family Splash
DESCRIPTION:Sessions for families in half the pool with floats and Lane Swimming in the other half. (no sinkers are allowed in these sessions). \nPlease note on Tuesday morning 11:30am – 1:30pm the swimming pool and Fitness Suite is shared with Active Life Members.
URL:https://www.tonbridgeschoolcentre.co.uk/event/family-splash-59/
CATEGORIES:Family Splash,Swimming
END:VEVENT
BEGIN:VEVENT
DTSTART;TZID=Europe/London:20251224T100000
DTEND;TZID=Europe/London:20251224T130000
DTSTAMP:20260420T092027
CREATED:20251223T162401Z
LAST-MODIFIED:20251223T162401Z
UID:10003691-1766570400-1766581200@www.tonbridgeschoolcentre.co.uk
SUMMARY:Sauna
DESCRIPTION:
URL:https://www.tonbridgeschoolcentre.co.uk/event/sauna-331/
CATEGORIES:Sauna
END:VEVENT
BEGIN:VEVENT
DTSTART;TZID=Europe/London:20251224T093000
DTEND;TZID=Europe/London:20251224T103000
DTSTAMP:20260420T092027
CREATED:20251204T092350Z
LAST-MODIFIED:20251214T104003Z
UID:10003320-1766568600-1766572200@www.tonbridgeschoolcentre.co.uk
SUMMARY:Class: Triple Threat
DESCRIPTION:Instructor: Josh G.  \nThis well-rounded class delivers a full-body workout through a series of activity blocks\, ensuring there’s something for everyone. The structure allows you to work at your own pace while progressively building strength\, stamina\, and overall fitness over time. Perfect for all levels\, it helps you challenge yourself and improve steadily in a supportive environment.
URL:https://www.tonbridgeschoolcentre.co.uk/event/class-triple-threat-60/
CATEGORIES:Aerobic,Classes,Triple Threat
END:VEVENT
BEGIN:VEVENT
DTSTART;TZID=Europe/London:20251224T090000
DTEND;TZID=Europe/London:20251224T130000
DTSTAMP:20260420T092027
CREATED:20251214T111604Z
LAST-MODIFIED:20251214T111604Z
UID:10003370-1766566800-1766581200@www.tonbridgeschoolcentre.co.uk
SUMMARY:Clay Tennis Courts
DESCRIPTION:Tennis courts can be booked online or via the TSC reception.
URL:https://www.tonbridgeschoolcentre.co.uk/event/clay-tennis-courts-278/
CATEGORIES:Clay Tennis Courts
END:VEVENT
BEGIN:VEVENT
DTSTART;TZID=Europe/London:20251224T090000
DTEND;TZID=Europe/London:20251224T130000
DTSTAMP:20260420T092027
CREATED:20251202T122923Z
LAST-MODIFIED:20251202T122923Z
UID:10003272-1766566800-1766581200@www.tonbridgeschoolcentre.co.uk
SUMMARY:Fitness Suite
DESCRIPTION:Please note on Tuesday morning 11:30am – 1:30pm the swimming pool and Fitness Suite is shared with Active Life Members.
URL:https://www.tonbridgeschoolcentre.co.uk/event/fitness-suite-301/
CATEGORIES:Fitness Suite
END:VEVENT
BEGIN:VEVENT
DTSTART;TZID=Europe/London:20251224T090000
DTEND;TZID=Europe/London:20251224T103000
DTSTAMP:20260420T092027
CREATED:20251202T121911Z
LAST-MODIFIED:20251202T124111Z
UID:10003242-1766566800-1766572200@www.tonbridgeschoolcentre.co.uk
SUMMARY:Lane Swimming
DESCRIPTION:Lane Swimming in the pool for adults and children in a single lane with another activity in the other side of the pool. \nPlease note on Tuesday morning 11:30am – 1:30pm the swimming pool and Fitness Suite is shared with Active Life Members.
URL:https://www.tonbridgeschoolcentre.co.uk/event/lane-swimming-87/
CATEGORIES:Lane Swimming,Swimming
END:VEVENT
BEGIN:VEVENT
DTSTART;TZID=Europe/London:20251224T000000
DTEND;TZID=Europe/London:20251224T000000
DTSTAMP:20260420T092027
CREATED:20251223T162402Z
LAST-MODIFIED:20251223T162402Z
UID:10003692-1766534400-1766534400@www.tonbridgeschoolcentre.co.uk
SUMMARY:Sauna
DESCRIPTION:
URL:https://www.tonbridgeschoolcentre.co.uk/event/sauna-332/
CATEGORIES:Sauna
END:VEVENT
BEGIN:VEVENT
DTSTART;TZID=Europe/London:20251224T000000
DTEND;TZID=Europe/London:20251224T000000
DTSTAMP:20260420T092027
CREATED:20251202T123312Z
LAST-MODIFIED:20251202T123313Z
UID:10003286-1766534400-1766534400@www.tonbridgeschoolcentre.co.uk
SUMMARY:Athletics Track
DESCRIPTION:Inside two lanes of the Track are not to be used.
URL:https://www.tonbridgeschoolcentre.co.uk/event/athletics-track-186/
CATEGORIES:Athletics Track
END:VEVENT
BEGIN:VEVENT
DTSTART;TZID=Europe/London:20251223T200000
DTEND;TZID=Europe/London:20251223T210000
DTSTAMP:20260420T092027
CREATED:20251202T114917Z
LAST-MODIFIED:20251214T104003Z
UID:10003226-1766520000-1766523600@www.tonbridgeschoolcentre.co.uk
SUMMARY:Class: Yin Yoga
DESCRIPTION:Instructor: Katya.  \nDesigned to create space and calm within the body\, Yin Yoga emphasises long-held\, gentle stretches that work deep into the connective tissues. This mindful practice enhances flexibility and joint health while promoting deep relaxation and mental clarity. Ideal for all levels\, Yin Yoga helps release tension and restore balance.
URL:https://www.tonbridgeschoolcentre.co.uk/event/class-yin-yoga-21/
CATEGORIES:Classes,Mind & Body,Yin Yoga
END:VEVENT
BEGIN:VEVENT
DTSTART;TZID=Europe/London:20251223T190000
DTEND;TZID=Europe/London:20251223T200000
DTSTAMP:20260420T092027
CREATED:20251202T114916Z
LAST-MODIFIED:20251214T104003Z
UID:10003225-1766516400-1766520000@www.tonbridgeschoolcentre.co.uk
SUMMARY:Class: Vinyasa Yoga
DESCRIPTION:Instructor: Monica.  \nVinyasa Yoga is a dynamic and flowing style of yoga that links breath with movement in a seamless sequence of postures. This energising practice builds strength\, flexibility\, and endurance while promoting mindfulness and stress relief. Suitable for all levels\, Vinyasa encourages fluidity and creativity on the mat\, helping you connect body and mind.
URL:https://www.tonbridgeschoolcentre.co.uk/event/class-vinyasa-yoga-121/
CATEGORIES:Classes,Mind & Body,Vinyasa Yoga
END:VEVENT
BEGIN:VEVENT
DTSTART;TZID=Europe/London:20251223T180000
DTEND;TZID=Europe/London:20251223T185500
DTSTAMP:20260420T092027
CREATED:20251202T114817Z
LAST-MODIFIED:20251214T103903Z
UID:10003224-1766512800-1766516100@www.tonbridgeschoolcentre.co.uk
SUMMARY:Class: Box Fit
DESCRIPTION:Instructor: Josh G.  \nBox Fit delivers an energetic cardio workout incorporating boxing techniques such as skipping\, drills\, footwork\, and targeted abdominal exercises. This class focuses on toning your entire body while boosting cardiovascular fitness. Expect to work up a sweat\, increase your endurance\, and release stress through powerful\, dynamic movements.
URL:https://www.tonbridgeschoolcentre.co.uk/event/class-box-fit-21/
CATEGORIES:Box Fit,Classes,Strength
END:VEVENT
BEGIN:VEVENT
DTSTART;TZID=Europe/London:20251223T180000
DTEND;TZID=Europe/London:20251223T184500
DTSTAMP:20260420T092027
CREATED:20251202T114817Z
LAST-MODIFIED:20251214T103903Z
UID:10003223-1766512800-1766515500@www.tonbridgeschoolcentre.co.uk
SUMMARY:Class: Barre Fit
DESCRIPTION:Instructor: Monica.  \nA low-impact\, full-body workout combining ballet\, Pilates\, and strength training. Focused on small\, controlled movements\, Barre Fit tones muscles\, improves posture\, and builds core strength — leaving you strong\, balanced\, and energised.
URL:https://www.tonbridgeschoolcentre.co.uk/event/class-barre-fit-25/
CATEGORIES:Barre Fit,Classes,Strength
END:VEVENT
BEGIN:VEVENT
DTSTART;TZID=Europe/London:20251223T173000
DTEND;TZID=Europe/London:20251223T210000
DTSTAMP:20260420T092027
CREATED:20251223T162400Z
LAST-MODIFIED:20251223T162400Z
UID:10003690-1766511000-1766523600@www.tonbridgeschoolcentre.co.uk
SUMMARY:Sauna
DESCRIPTION:
URL:https://www.tonbridgeschoolcentre.co.uk/event/sauna-330/
CATEGORIES:Sauna
END:VEVENT
BEGIN:VEVENT
DTSTART;TZID=Europe/London:20251223T173000
DTEND;TZID=Europe/London:20251223T190000
DTSTAMP:20260420T092027
CREATED:20251202T121911Z
LAST-MODIFIED:20251202T124111Z
UID:10003241-1766511000-1766516400@www.tonbridgeschoolcentre.co.uk
SUMMARY:Members Swim
DESCRIPTION:Lane Swimming in half the pool and casual swimming in half the pool\, for Adult and Children Members. \nPlease note on Tuesday morning 11:30am – 1:30pm the swimming pool and Fitness Suite is shared with Active Life Members.
URL:https://www.tonbridgeschoolcentre.co.uk/event/members-swim-376/
CATEGORIES:Members Swim,Swimming
END:VEVENT
BEGIN:VEVENT
DTSTART;TZID=Europe/London:20251223T140000
DTEND;TZID=Europe/London:20251223T160000
DTSTAMP:20260420T092027
CREATED:20251202T121910Z
LAST-MODIFIED:20251202T124111Z
UID:10003240-1766498400-1766505600@www.tonbridgeschoolcentre.co.uk
SUMMARY:Family Splash
DESCRIPTION:Sessions for families in half the pool with floats and Lane Swimming in the other half. (no sinkers are allowed in these sessions). \nPlease note on Tuesday morning 11:30am – 1:30pm the swimming pool and Fitness Suite is shared with Active Life Members.
URL:https://www.tonbridgeschoolcentre.co.uk/event/family-splash-58/
CATEGORIES:Family Splash,Swimming
END:VEVENT
BEGIN:VEVENT
DTSTART;TZID=Europe/London:20251223T130000
DTEND;TZID=Europe/London:20251223T140000
DTSTAMP:20260420T092027
CREATED:20251202T114817Z
LAST-MODIFIED:20251214T103903Z
UID:10003222-1766494800-1766498400@www.tonbridgeschoolcentre.co.uk
SUMMARY:Class: Vinyasa Yoga
DESCRIPTION:Instructor: Sumiko.  \nVinyasa Yoga is a dynamic and flowing style of yoga that links breath with movement in a seamless sequence of postures. This energising practice builds strength\, flexibility\, and endurance while promoting mindfulness and stress relief. Suitable for all levels\, Vinyasa encourages fluidity and creativity on the mat\, helping you connect body and mind.
URL:https://www.tonbridgeschoolcentre.co.uk/event/class-vinyasa-yoga-120/
CATEGORIES:Classes,Mind & Body,Vinyasa Yoga
END:VEVENT
BEGIN:VEVENT
DTSTART;TZID=Europe/London:20251223T130000
DTEND;TZID=Europe/London:20251223T134500
DTSTAMP:20260420T092027
CREATED:20251202T114817Z
LAST-MODIFIED:20251214T103903Z
UID:10003221-1766494800-1766497500@www.tonbridgeschoolcentre.co.uk
SUMMARY:Class: Core Classics
DESCRIPTION:Instructor: Josh G.  \nThis class focuses on building a strong and stable core through targeted exercises that engage the abdominal\, back\, and pelvic muscles. Designed to improve posture\, balance\, and overall strength\, the workout combines controlled movements and endurance training to help you develop a solid foundation for everyday activities and other fitness goals.
URL:https://www.tonbridgeschoolcentre.co.uk/event/class-core-classics-37/
CATEGORIES:Classes,Core Classics,Flexibility & Core
END:VEVENT
BEGIN:VEVENT
DTSTART;TZID=Europe/London:20251223T100000
DTEND;TZID=Europe/London:20251223T110000
DTSTAMP:20260420T092027
CREATED:20251202T114816Z
LAST-MODIFIED:20251214T103903Z
UID:10003220-1766484000-1766487600@www.tonbridgeschoolcentre.co.uk
SUMMARY:Class: Tai Chi
DESCRIPTION:Instructor: Angela.  \nTai Chi is a gentle\, flowing practice that combines slow\, deliberate movements with deep breathing and mindfulness. This ancient martial art promotes balance\, flexibility\, and relaxation while improving overall strength and mental focus. Suitable for all ages and fitness levels\, Tai Chi offers a calming way to enhance physical and mental well-being.
URL:https://www.tonbridgeschoolcentre.co.uk/event/class-tai-chi-21/
CATEGORIES:Classes,Flexibility & Core,Tai Chi
END:VEVENT
BEGIN:VEVENT
DTSTART;TZID=Europe/London:20251223T093000
DTEND;TZID=Europe/London:20251223T140000
DTSTAMP:20260420T092027
CREATED:20251209T142609Z
LAST-MODIFIED:20251209T142617Z
UID:10003355-1766482200-1766498400@www.tonbridgeschoolcentre.co.uk
SUMMARY:Members Swim
DESCRIPTION:
URL:https://www.tonbridgeschoolcentre.co.uk/event/members-swim-391/
CATEGORIES:Members Swim,Swimming
END:VEVENT
END:VCALENDAR