BEGIN:VCALENDAR
VERSION:2.0
PRODID:-//Tonbridge School Centre - ECPv6.15.18//NONSGML v1.0//EN
CALSCALE:GREGORIAN
METHOD:PUBLISH
X-ORIGINAL-URL:https://www.tonbridgeschoolcentre.co.uk
X-WR-CALDESC:Events for Tonbridge School Centre
REFRESH-INTERVAL;VALUE=DURATION:PT1H
X-Robots-Tag:noindex
X-PUBLISHED-TTL:PT1H
BEGIN:VTIMEZONE
TZID:Europe/London
BEGIN:DAYLIGHT
TZOFFSETFROM:+0000
TZOFFSETTO:+0100
TZNAME:BST
DTSTART:20240331T010000
END:DAYLIGHT
BEGIN:STANDARD
TZOFFSETFROM:+0100
TZOFFSETTO:+0000
TZNAME:GMT
DTSTART:20241027T010000
END:STANDARD
BEGIN:DAYLIGHT
TZOFFSETFROM:+0000
TZOFFSETTO:+0100
TZNAME:BST
DTSTART:20250330T010000
END:DAYLIGHT
BEGIN:STANDARD
TZOFFSETFROM:+0100
TZOFFSETTO:+0000
TZNAME:GMT
DTSTART:20251026T010000
END:STANDARD
BEGIN:DAYLIGHT
TZOFFSETFROM:+0000
TZOFFSETTO:+0100
TZNAME:BST
DTSTART:20260329T010000
END:DAYLIGHT
BEGIN:STANDARD
TZOFFSETFROM:+0100
TZOFFSETTO:+0000
TZNAME:GMT
DTSTART:20261025T010000
END:STANDARD
END:VTIMEZONE
BEGIN:VEVENT
DTSTART;TZID=Europe/London:20251014T173000
DTEND;TZID=Europe/London:20251014T193000
DTSTAMP:20260422T233628
CREATED:20251003T141906Z
LAST-MODIFIED:20251020T143549Z
UID:10001734-1760463000-1760470200@www.tonbridgeschoolcentre.co.uk
SUMMARY:Members Swim
DESCRIPTION:Lane Swimming in half the pool and casual swimming in half the pool\, for Adult and Children Members. \nPlease note on Tuesday morning 11:30am – 1:30pm the swimming pool and Fitness Suite is shared with Active Life Members.
URL:https://www.tonbridgeschoolcentre.co.uk/event/members-swim-204/
CATEGORIES:Members Swim,Swimming
END:VEVENT
BEGIN:VEVENT
DTSTART;TZID=Europe/London:20251014T173000
DTEND;TZID=Europe/London:20251014T210000
DTSTAMP:20260422T233628
CREATED:20251003T144326Z
LAST-MODIFIED:20251020T151102Z
UID:10001779-1760463000-1760475600@www.tonbridgeschoolcentre.co.uk
SUMMARY:Sauna
DESCRIPTION:
URL:https://www.tonbridgeschoolcentre.co.uk/event/sauna-175/
CATEGORIES:Sauna
END:VEVENT
BEGIN:VEVENT
DTSTART;TZID=Europe/London:20251014T180000
DTEND;TZID=Europe/London:20251014T184500
DTSTAMP:20260422T233628
CREATED:20251003T151903Z
LAST-MODIFIED:20251020T161045Z
UID:10001903-1760464800-1760467500@www.tonbridgeschoolcentre.co.uk
SUMMARY:Class: Barre Fit
DESCRIPTION:Instructor: Monica.  \nA low-impact\, full-body workout combining ballet\, Pilates\, and strength training. Focused on small\, controlled movements\, Barre Fit tones muscles\, improves posture\, and builds core strength — leaving you strong\, balanced\, and energised.
URL:https://www.tonbridgeschoolcentre.co.uk/event/class-barre-fit-15/
CATEGORIES:Barre Fit,Classes,Strength
END:VEVENT
BEGIN:VEVENT
DTSTART;TZID=Europe/London:20251014T180000
DTEND;TZID=Europe/London:20251014T185500
DTSTAMP:20260422T233628
CREATED:20251003T152002Z
LAST-MODIFIED:20251020T161245Z
UID:10001904-1760464800-1760468100@www.tonbridgeschoolcentre.co.uk
SUMMARY:Class: Box Fit
DESCRIPTION:Instructor: Josh G.  \nBox Fit delivers an energetic cardio workout incorporating boxing techniques such as skipping\, drills\, footwork\, and targeted abdominal exercises. This class focuses on toning your entire body while boosting cardiovascular fitness. Expect to work up a sweat\, increase your endurance\, and release stress through powerful\, dynamic movements.
URL:https://www.tonbridgeschoolcentre.co.uk/event/class-box-fit-11/
CATEGORIES:Box Fit,Classes,Strength
END:VEVENT
BEGIN:VEVENT
DTSTART;TZID=Europe/London:20251014T180000
DTEND;TZID=Europe/London:20251014T210000
DTSTAMP:20260422T233628
CREATED:20251003T144925Z
LAST-MODIFIED:20251020T152002Z
UID:10001807-1760464800-1760475600@www.tonbridgeschoolcentre.co.uk
SUMMARY:Fitness Suite
DESCRIPTION:Please note on Tuesday morning 11:30am – 1:30pm the swimming pool and Fitness Suite is shared with Active Life Members.
URL:https://www.tonbridgeschoolcentre.co.uk/event/fitness-suite-189/
CATEGORIES:Fitness Suite
END:VEVENT
BEGIN:VEVENT
DTSTART;TZID=Europe/London:20251014T190000
DTEND;TZID=Europe/London:20251014T200000
DTSTAMP:20260422T233628
CREATED:20251003T152003Z
LAST-MODIFIED:20251020T161245Z
UID:10001905-1760468400-1760472000@www.tonbridgeschoolcentre.co.uk
SUMMARY:Class: Vinyasa Yoga
DESCRIPTION:Instructor: Monica.  \nVinyasa Yoga is a dynamic and flowing style of yoga that links breath with movement in a seamless sequence of postures. This energising practice builds strength\, flexibility\, and endurance while promoting mindfulness and stress relief. Suitable for all levels\, Vinyasa encourages fluidity and creativity on the mat\, helping you connect body and mind.
URL:https://www.tonbridgeschoolcentre.co.uk/event/class-vinyasa-yoga-61/
CATEGORIES:Classes,Mind & Body,Vinyasa Yoga
END:VEVENT
BEGIN:VEVENT
DTSTART;TZID=Europe/London:20251014T200000
DTEND;TZID=Europe/London:20251014T210000
DTSTAMP:20260422T233628
CREATED:20251003T152003Z
LAST-MODIFIED:20251020T161246Z
UID:10001906-1760472000-1760475600@www.tonbridgeschoolcentre.co.uk
SUMMARY:Class: Yin Yoga
DESCRIPTION:Instructor: Katya.  \nDesigned to create space and calm within the body\, Yin Yoga emphasises long-held\, gentle stretches that work deep into the connective tissues. This mindful practice enhances flexibility and joint health while promoting deep relaxation and mental clarity. Ideal for all levels\, Yin Yoga helps release tension and restore balance.
URL:https://www.tonbridgeschoolcentre.co.uk/event/class-yin-yoga-11/
CATEGORIES:Classes,Mind & Body,Yin Yoga
END:VEVENT
BEGIN:VEVENT
DTSTART;TZID=Europe/London:20251014T201500
DTEND;TZID=Europe/London:20251014T210000
DTSTAMP:20260422T233628
CREATED:20251003T145825Z
LAST-MODIFIED:20251024T113259Z
UID:10001853-1760472900-1760475600@www.tonbridgeschoolcentre.co.uk
SUMMARY:Clay Tennis Courts
DESCRIPTION:Tennis courts can be booked online or via the TSC reception.
URL:https://www.tonbridgeschoolcentre.co.uk/event/clay-tennis-courts-160/
CATEGORIES:Clay Tennis Courts
END:VEVENT
BEGIN:VEVENT
DTSTART;TZID=Europe/London:20251015T060000
DTEND;TZID=Europe/London:20251015T070000
DTSTAMP:20260422T233628
CREATED:20251003T141906Z
LAST-MODIFIED:20251020T143549Z
UID:10001735-1760508000-1760511600@www.tonbridgeschoolcentre.co.uk
SUMMARY:Lane Swimming
DESCRIPTION:Lane Swimming in the pool for adults and children in a single lane with another activity in the other side of the pool. \nPlease note on Tuesday morning 11:30am – 1:30pm the swimming pool and Fitness Suite is shared with Active Life Members.
URL:https://www.tonbridgeschoolcentre.co.uk/event/lane-swimming-48/
CATEGORIES:Lane Swimming,Swimming
END:VEVENT
BEGIN:VEVENT
DTSTART;TZID=Europe/London:20251015T060000
DTEND;TZID=Europe/London:20251015T150000
DTSTAMP:20260422T233628
CREATED:20251003T144926Z
LAST-MODIFIED:20251020T152002Z
UID:10001809-1760508000-1760540400@www.tonbridgeschoolcentre.co.uk
SUMMARY:Fitness Suite
DESCRIPTION:Please note on Tuesday morning 11:30am – 1:30pm the swimming pool and Fitness Suite is shared with Active Life Members.
URL:https://www.tonbridgeschoolcentre.co.uk/event/fitness-suite-191/
CATEGORIES:Fitness Suite
END:VEVENT
BEGIN:VEVENT
DTSTART;TZID=Europe/London:20251015T070000
DTEND;TZID=Europe/London:20251015T083000
DTSTAMP:20260422T233628
CREATED:20251003T141906Z
LAST-MODIFIED:20251020T143549Z
UID:10001736-1760511600-1760517000@www.tonbridgeschoolcentre.co.uk
SUMMARY:Double Lane Swimming
DESCRIPTION:Lane swimming is for both adults and children in a double lane. Children must be competent swimmers who can confidently swim lengths. \nPlease note on Tuesday morning 11:30am – 1:30pm the swimming pool and Fitness Suite is shared with Active Life Members.
URL:https://www.tonbridgeschoolcentre.co.uk/event/double-lane-swimming-70/
CATEGORIES:Double Lane Swimming,Swimming
END:VEVENT
BEGIN:VEVENT
DTSTART;TZID=Europe/London:20251015T070000
DTEND;TZID=Europe/London:20251015T133000
DTSTAMP:20260422T233628
CREATED:20251003T145326Z
LAST-MODIFIED:20251024T112350Z
UID:10001830-1760511600-1760535000@www.tonbridgeschoolcentre.co.uk
SUMMARY:Athletics Track
DESCRIPTION:Inside two lanes of the Track are not to be used.
URL:https://www.tonbridgeschoolcentre.co.uk/event/athletics-track-105/
CATEGORIES:Athletics Track
END:VEVENT
BEGIN:VEVENT
DTSTART;TZID=Europe/London:20251015T070000
DTEND;TZID=Europe/London:20251015T134500
DTSTAMP:20260422T233628
CREATED:20251003T144326Z
LAST-MODIFIED:20251020T151102Z
UID:10001780-1760511600-1760535900@www.tonbridgeschoolcentre.co.uk
SUMMARY:Sauna
DESCRIPTION:
URL:https://www.tonbridgeschoolcentre.co.uk/event/sauna-176/
CATEGORIES:Sauna
END:VEVENT
BEGIN:VEVENT
DTSTART;TZID=Europe/London:20251015T070000
DTEND;TZID=Europe/London:20251015T140000
DTSTAMP:20260422T233628
CREATED:20251003T145826Z
LAST-MODIFIED:20251024T113259Z
UID:10001854-1760511600-1760536800@www.tonbridgeschoolcentre.co.uk
SUMMARY:Clay Tennis Courts
DESCRIPTION:Tennis courts can be booked online or via the TSC reception.
URL:https://www.tonbridgeschoolcentre.co.uk/event/clay-tennis-courts-161/
CATEGORIES:Clay Tennis Courts
END:VEVENT
BEGIN:VEVENT
DTSTART;TZID=Europe/London:20251015T083000
DTEND;TZID=Europe/London:20251015T091500
DTSTAMP:20260422T233628
CREATED:20251003T152003Z
LAST-MODIFIED:20251020T161246Z
UID:10001907-1760517000-1760519700@www.tonbridgeschoolcentre.co.uk
SUMMARY:Class: Deep Water Aqua
DESCRIPTION:Instructor: Ian.  \nDeep Water Aqua is a low-impact\, high-resistance workout performed in the deep end of the pool using flotation belts. This class focuses on cardiovascular fitness\, strength\, and core stability without any impact on joints. Ideal for all fitness levels\, it challenges your muscles while providing a refreshing\, supportive environment.
URL:https://www.tonbridgeschoolcentre.co.uk/event/class-deep-water-aqua-11/
CATEGORIES:Classes,Deep Water Aqua,Water Based
END:VEVENT
BEGIN:VEVENT
DTSTART;TZID=Europe/London:20251015T083000
DTEND;TZID=Europe/London:20251015T113000
DTSTAMP:20260422T233628
CREATED:20251003T142105Z
LAST-MODIFIED:20251020T143650Z
UID:10001737-1760517000-1760527800@www.tonbridgeschoolcentre.co.uk
SUMMARY:Adult Only Lane Swimming
DESCRIPTION:Lane Swimming in the pool for Adult Members only (aged 16+) in a single lane with another activity in the other side of the pool. \nPlease note on Tuesday morning 11:30am – 1:30pm the swimming pool and Fitness Suite is shared with Active Life Members.
URL:https://www.tonbridgeschoolcentre.co.uk/event/adult-only-lane-swimming-90/
CATEGORIES:Adult Only Lane Swimming,Swimming
END:VEVENT
BEGIN:VEVENT
DTSTART;TZID=Europe/London:20251015T084500
DTEND;TZID=Europe/London:20251015T094500
DTSTAMP:20260422T233628
CREATED:20251003T152003Z
LAST-MODIFIED:20251020T161246Z
UID:10001908-1760517900-1760521500@www.tonbridgeschoolcentre.co.uk
SUMMARY:Class: Triple Threat
DESCRIPTION:Instructor: Josh V.  \nThis well-rounded class delivers a full-body workout through a series of activity blocks\, ensuring there’s something for everyone. The structure allows you to work at your own pace while progressively building strength\, stamina\, and overall fitness over time. Perfect for all levels\, it helps you challenge yourself and improve steadily in a supportive environment.
URL:https://www.tonbridgeschoolcentre.co.uk/event/class-triple-threat-31/
CATEGORIES:Aerobic,Classes,Triple Threat
END:VEVENT
BEGIN:VEVENT
DTSTART;TZID=Europe/London:20251015T090000
DTEND;TZID=Europe/London:20251015T100000
DTSTAMP:20260422T233628
CREATED:20251003T152103Z
LAST-MODIFIED:20251020T161444Z
UID:10001909-1760518800-1760522400@www.tonbridgeschoolcentre.co.uk
SUMMARY:Class: Classical Pilates
DESCRIPTION:Instructor: Wendi.  \nExperience the original Pilates method in this authentic class that focuses on controlled\, precise movements to strengthen the core\, improve flexibility\, and enhance overall body alignment. Using your body weight and mindful breathing\, classical Pilates promotes balance\, posture\, and muscular endurance for a strong\, toned physique.
URL:https://www.tonbridgeschoolcentre.co.uk/event/class-classical-pilates-17/
CATEGORIES:Classes,Classical Pilates,Flexibility & Core
END:VEVENT
BEGIN:VEVENT
DTSTART;TZID=Europe/London:20251015T100000
DTEND;TZID=Europe/London:20251015T110000
DTSTAMP:20260422T233628
CREATED:20251003T152103Z
LAST-MODIFIED:20251020T161444Z
UID:10001910-1760522400-1760526000@www.tonbridgeschoolcentre.co.uk
SUMMARY:Class: Classical Pilates
DESCRIPTION:Instructor: Wendi.  \nExperience the original Pilates method in this authentic class that focuses on controlled\, precise movements to strengthen the core\, improve flexibility\, and enhance overall body alignment. Using your body weight and mindful breathing\, classical Pilates promotes balance\, posture\, and muscular endurance for a strong\, toned physique.
URL:https://www.tonbridgeschoolcentre.co.uk/event/class-classical-pilates-18/
CATEGORIES:Classes,Classical Pilates,Flexibility & Core
END:VEVENT
BEGIN:VEVENT
DTSTART;TZID=Europe/London:20251015T113000
DTEND;TZID=Europe/London:20251015T123000
DTSTAMP:20260422T233628
CREATED:20251003T142106Z
LAST-MODIFIED:20251020T143650Z
UID:10001738-1760527800-1760531400@www.tonbridgeschoolcentre.co.uk
SUMMARY:Members Swim
DESCRIPTION:Lane Swimming in half the pool and casual swimming in half the pool\, for Adult and Children Members. \nPlease note on Tuesday morning 11:30am – 1:30pm the swimming pool and Fitness Suite is shared with Active Life Members.
URL:https://www.tonbridgeschoolcentre.co.uk/event/members-swim-205/
CATEGORIES:Members Swim,Swimming
END:VEVENT
BEGIN:VEVENT
DTSTART;TZID=Europe/London:20251015T120000
DTEND;TZID=Europe/London:20251015T130000
DTSTAMP:20260422T233628
CREATED:20251003T152103Z
LAST-MODIFIED:20251020T161445Z
UID:10001911-1760529600-1760533200@www.tonbridgeschoolcentre.co.uk
SUMMARY:Class: Pure Stretch
DESCRIPTION:Instructor: Monica.  \nThis class focuses on improving flexibility\, relieving muscle tension\, and enhancing range of motion through a series of gentle\, guided stretches. Suitable for all fitness levels\, it helps increase mobility\, reduce stiffness\, and promote relaxation—great for recovery or complementing your regular workout routine.
URL:https://www.tonbridgeschoolcentre.co.uk/event/class-pure-stretch-18/
CATEGORIES:Classes,Pure Stretch,Strength
END:VEVENT
BEGIN:VEVENT
DTSTART;TZID=Europe/London:20251015T123000
DTEND;TZID=Europe/London:20251015T134500
DTSTAMP:20260422T233628
CREATED:20251003T142106Z
LAST-MODIFIED:20251020T143650Z
UID:10001739-1760531400-1760535900@www.tonbridgeschoolcentre.co.uk
SUMMARY:Double Lane Swimming
DESCRIPTION:Lane swimming is for both adults and children in a double lane. Children must be competent swimmers who can confidently swim lengths. \nPlease note on Tuesday morning 11:30am – 1:30pm the swimming pool and Fitness Suite is shared with Active Life Members.
URL:https://www.tonbridgeschoolcentre.co.uk/event/double-lane-swimming-71/
CATEGORIES:Double Lane Swimming,Swimming
END:VEVENT
BEGIN:VEVENT
DTSTART;TZID=Europe/London:20251015T130000
DTEND;TZID=Europe/London:20251015T134500
DTSTAMP:20260422T233628
CREATED:20251003T152104Z
LAST-MODIFIED:20251020T161445Z
UID:10001912-1760533200-1760535900@www.tonbridgeschoolcentre.co.uk
SUMMARY:Class: Pure Strength
DESCRIPTION:Instructor: Josh V.  \nThis class focuses on building muscular strength and endurance through a variety of resistance exercises. Using weights\, bodyweight movements\, and functional training techniques\, you’ll target all major muscle groups to improve overall power\, tone\, and stability. Suitable for all fitness levels\, this workout helps enhance everyday performance and boost metabolism.
URL:https://www.tonbridgeschoolcentre.co.uk/event/class-pure-strength-32/
CATEGORIES:Classes,Pure Strength,Strength
END:VEVENT
BEGIN:VEVENT
DTSTART;TZID=Europe/London:20251015T150000
DTEND;TZID=Europe/London:20251015T163000
DTSTAMP:20260422T233628
CREATED:20251003T152104Z
LAST-MODIFIED:20251020T161445Z
UID:10001913-1760540400-1760545800@www.tonbridgeschoolcentre.co.uk
SUMMARY:Class: Hatha Yoga
DESCRIPTION:Instructor: Leila.  \nA gentle yet energising practice that combines physical postures (asanas)\, breath control (pranayama)\, and meditation to cultivate balance\, flexibility\, and inner calm. Suitable for all levels\, this class helps build strength\, improve posture\, and reduce stress\, providing a holistic approach to both physical and mental well-being.
URL:https://www.tonbridgeschoolcentre.co.uk/event/class-hatha-yoga-20/
CATEGORIES:Classes,Hatha Yoga,Mind & Body
END:VEVENT
BEGIN:VEVENT
DTSTART;TZID=Europe/London:20251015T160000
DTEND;TZID=Europe/London:20251015T180000
DTSTAMP:20260422T233628
CREATED:20251003T142106Z
LAST-MODIFIED:20251020T143650Z
UID:10001740-1760544000-1760551200@www.tonbridgeschoolcentre.co.uk
SUMMARY:Adult Only Lane Swimming
DESCRIPTION:Lane Swimming in the pool for Adult Members only (aged 16+) in a single lane with another activity in the other side of the pool. \nPlease note on Tuesday morning 11:30am – 1:30pm the swimming pool and Fitness Suite is shared with Active Life Members.
URL:https://www.tonbridgeschoolcentre.co.uk/event/adult-only-lane-swimming-91/
CATEGORIES:Adult Only Lane Swimming,Swimming
END:VEVENT
BEGIN:VEVENT
DTSTART;TZID=Europe/London:20251015T160000
DTEND;TZID=Europe/London:20251015T210000
DTSTAMP:20260422T233628
CREATED:20251003T144326Z
LAST-MODIFIED:20251020T151102Z
UID:10001781-1760544000-1760562000@www.tonbridgeschoolcentre.co.uk
SUMMARY:Sauna
DESCRIPTION:
URL:https://www.tonbridgeschoolcentre.co.uk/event/sauna-177/
CATEGORIES:Sauna
END:VEVENT
BEGIN:VEVENT
DTSTART;TZID=Europe/London:20251015T163000
DTEND;TZID=Europe/London:20251015T180000
DTSTAMP:20260422T233628
CREATED:20251003T145326Z
LAST-MODIFIED:20251024T112350Z
UID:10001831-1760545800-1760551200@www.tonbridgeschoolcentre.co.uk
SUMMARY:Athletics Track
DESCRIPTION:Inside two lanes of the Track are not to be used.
URL:https://www.tonbridgeschoolcentre.co.uk/event/athletics-track-106/
CATEGORIES:Athletics Track
END:VEVENT
BEGIN:VEVENT
DTSTART;TZID=Europe/London:20251015T163000
DTEND;TZID=Europe/London:20251015T210000
DTSTAMP:20260422T233628
CREATED:20251003T144926Z
LAST-MODIFIED:20251020T152002Z
UID:10001810-1760545800-1760562000@www.tonbridgeschoolcentre.co.uk
SUMMARY:Fitness Suite
DESCRIPTION:Please note on Tuesday morning 11:30am – 1:30pm the swimming pool and Fitness Suite is shared with Active Life Members.
URL:https://www.tonbridgeschoolcentre.co.uk/event/fitness-suite-192/
CATEGORIES:Fitness Suite
END:VEVENT
BEGIN:VEVENT
DTSTART;TZID=Europe/London:20251015T170000
DTEND;TZID=Europe/London:20251015T210000
DTSTAMP:20260422T233628
CREATED:20251003T145826Z
LAST-MODIFIED:20251024T113259Z
UID:10001855-1760547600-1760562000@www.tonbridgeschoolcentre.co.uk
SUMMARY:Clay Tennis Courts
DESCRIPTION:Tennis courts can be booked online or via the TSC reception.
URL:https://www.tonbridgeschoolcentre.co.uk/event/clay-tennis-courts-162/
CATEGORIES:Clay Tennis Courts
END:VEVENT
BEGIN:VEVENT
DTSTART;TZID=Europe/London:20251015T180000
DTEND;TZID=Europe/London:20251015T184500
DTSTAMP:20260422T233628
CREATED:20251003T152203Z
LAST-MODIFIED:20251020T161644Z
UID:10001915-1760551200-1760553900@www.tonbridgeschoolcentre.co.uk
SUMMARY:Class: Cycle
DESCRIPTION:Instructor: Graham.  \nThis low-impact\, high-energy indoor cycling workout is set to motivating music and designed to boost cardiovascular fitness and endurance. Choose from a 45-minute endurance ride\, a Beginner/Family Cycle for newcomers\, or Cycle & Abs\, which adds core exercises for extra strength.
URL:https://www.tonbridgeschoolcentre.co.uk/event/class-cycle-69/
CATEGORIES:Aerobic,Classes,Cycle
END:VEVENT
END:VCALENDAR