BEGIN:VCALENDAR
VERSION:2.0
PRODID:-//Tonbridge School Centre - ECPv6.15.18//NONSGML v1.0//EN
CALSCALE:GREGORIAN
METHOD:PUBLISH
X-WR-CALNAME:Tonbridge School Centre
X-ORIGINAL-URL:https://www.tonbridgeschoolcentre.co.uk
X-WR-CALDESC:Events for Tonbridge School Centre
REFRESH-INTERVAL;VALUE=DURATION:PT1H
X-Robots-Tag:noindex
X-PUBLISHED-TTL:PT1H
BEGIN:VTIMEZONE
TZID:Europe/London
BEGIN:DAYLIGHT
TZOFFSETFROM:+0000
TZOFFSETTO:+0100
TZNAME:BST
DTSTART:20240331T010000
END:DAYLIGHT
BEGIN:STANDARD
TZOFFSETFROM:+0100
TZOFFSETTO:+0000
TZNAME:GMT
DTSTART:20241027T010000
END:STANDARD
BEGIN:DAYLIGHT
TZOFFSETFROM:+0000
TZOFFSETTO:+0100
TZNAME:BST
DTSTART:20250330T010000
END:DAYLIGHT
BEGIN:STANDARD
TZOFFSETFROM:+0100
TZOFFSETTO:+0000
TZNAME:GMT
DTSTART:20251026T010000
END:STANDARD
BEGIN:DAYLIGHT
TZOFFSETFROM:+0000
TZOFFSETTO:+0100
TZNAME:BST
DTSTART:20260329T010000
END:DAYLIGHT
BEGIN:STANDARD
TZOFFSETFROM:+0100
TZOFFSETTO:+0000
TZNAME:GMT
DTSTART:20261025T010000
END:STANDARD
END:VTIMEZONE
BEGIN:VEVENT
DTSTART;TZID=Europe/London:20250926T070000
DTEND;TZID=Europe/London:20250926T160000
DTSTAMP:20260423T063255
CREATED:20250904T100705Z
LAST-MODIFIED:20250922T163239Z
UID:10001440-1758870000-1758902400@www.tonbridgeschoolcentre.co.uk
SUMMARY:Athletics Track
DESCRIPTION:Inside two lanes of the Track are not to be used.
URL:https://www.tonbridgeschoolcentre.co.uk/event/athletics-track-81/
CATEGORIES:Athletics Track
END:VEVENT
BEGIN:VEVENT
DTSTART;TZID=Europe/London:20250926T070000
DTEND;TZID=Europe/London:20250926T140000
DTSTAMP:20260423T063255
CREATED:20250904T101009Z
LAST-MODIFIED:20250922T163741Z
UID:10001451-1758870000-1758895200@www.tonbridgeschoolcentre.co.uk
SUMMARY:Clay Tennis Courts
DESCRIPTION:Tennis courts can be booked online or via the TSC reception.
URL:https://www.tonbridgeschoolcentre.co.uk/event/clay-tennis-courts-122/
CATEGORIES:Clay Tennis Courts
END:VEVENT
BEGIN:VEVENT
DTSTART;TZID=Europe/London:20250926T070000
DTEND;TZID=Europe/London:20250926T140000
DTSTAMP:20260423T063255
CREATED:20250904T100213Z
LAST-MODIFIED:20250922T154715Z
UID:10001411-1758870000-1758895200@www.tonbridgeschoolcentre.co.uk
SUMMARY:Sauna
DESCRIPTION:
URL:https://www.tonbridgeschoolcentre.co.uk/event/sauna-134/
CATEGORIES:Sauna
END:VEVENT
BEGIN:VEVENT
DTSTART;TZID=Europe/London:20250926T061500
DTEND;TZID=Europe/London:20250926T070000
DTSTAMP:20260423T063255
CREATED:20250903T131007Z
LAST-MODIFIED:20250923T074631Z
UID:10001257-1758867300-1758870000@www.tonbridgeschoolcentre.co.uk
SUMMARY:Class: Freestyle Fitness Yoga
DESCRIPTION:Instructor: Monica.
URL:https://www.tonbridgeschoolcentre.co.uk/event/class-freestyle-fitness-yoga-7/
CATEGORIES:Classes,Freestyle Fitness Yoga,Mind & Body
END:VEVENT
BEGIN:VEVENT
DTSTART;TZID=Europe/London:20250926T060000
DTEND;TZID=Europe/London:20250926T163000
DTSTAMP:20260423T063255
CREATED:20250904T100632Z
LAST-MODIFIED:20250922T155519Z
UID:10001429-1758866400-1758904200@www.tonbridgeschoolcentre.co.uk
SUMMARY:Fitness Suite
DESCRIPTION:Please note on Tuesday morning 11:30am – 1:30pm the swimming pool and Fitness Suite is shared with Active Life Members.
URL:https://www.tonbridgeschoolcentre.co.uk/event/fitness-suite-143/
CATEGORIES:Fitness Suite
END:VEVENT
BEGIN:VEVENT
DTSTART;TZID=Europe/London:20250926T060000
DTEND;TZID=Europe/London:20250926T073000
DTSTAMP:20260423T063255
CREATED:20250903T191420Z
LAST-MODIFIED:20250922T150611Z
UID:10001388-1758866400-1758871800@www.tonbridgeschoolcentre.co.uk
SUMMARY:Lane Swimming
DESCRIPTION:Lane Swimming in the pool for adults and children in a single lane with another activity in the other side of the pool. \nPlease note on Tuesday morning 11:30am – 1:30pm the swimming pool and Fitness Suite is shared with Active Life Members.
URL:https://www.tonbridgeschoolcentre.co.uk/event/lane-swimming-37/
CATEGORIES:Lane Swimming,Swimming
END:VEVENT
BEGIN:VEVENT
DTSTART;TZID=Europe/London:20250925T201500
DTEND;TZID=Europe/London:20250925T210000
DTSTAMP:20260423T063255
CREATED:20250904T101009Z
LAST-MODIFIED:20250922T163741Z
UID:10001450-1758831300-1758834000@www.tonbridgeschoolcentre.co.uk
SUMMARY:Clay Tennis Courts
DESCRIPTION:Tennis courts can be booked online or via the TSC reception.
URL:https://www.tonbridgeschoolcentre.co.uk/event/clay-tennis-courts-121/
CATEGORIES:Clay Tennis Courts
END:VEVENT
BEGIN:VEVENT
DTSTART;TZID=Europe/London:20250925T190000
DTEND;TZID=Europe/London:20250925T200000
DTSTAMP:20260423T063255
CREATED:20250903T191420Z
LAST-MODIFIED:20250922T150411Z
UID:10001387-1758826800-1758830400@www.tonbridgeschoolcentre.co.uk
SUMMARY:Adult Only Members Swim
DESCRIPTION:Lane Swimming in half the pool and casual swimming in half the pool\, for Adult Members only (aged 16+). \nPlease note on Tuesday morning 11:30am – 1:30pm the swimming pool and Fitness Suite is shared with Active Life Members.
URL:https://www.tonbridgeschoolcentre.co.uk/event/adult-only-members-swim-32/
CATEGORIES:Adult Only Members Swim,Swimming
END:VEVENT
BEGIN:VEVENT
DTSTART;TZID=Europe/London:20250925T190000
DTEND;TZID=Europe/London:20250925T194500
DTSTAMP:20260423T063255
CREATED:20250903T131007Z
LAST-MODIFIED:20250923T074631Z
UID:10001256-1758826800-1758829500@www.tonbridgeschoolcentre.co.uk
SUMMARY:Class: Circuits
DESCRIPTION:Instructor: James.
URL:https://www.tonbridgeschoolcentre.co.uk/event/class-circuits-15/
CATEGORIES:Circuits,Classes,Strength
END:VEVENT
BEGIN:VEVENT
DTSTART;TZID=Europe/London:20250925T180000
DTEND;TZID=Europe/London:20250925T210000
DTSTAMP:20260423T063255
CREATED:20250904T100632Z
LAST-MODIFIED:20250922T155519Z
UID:10001428-1758823200-1758834000@www.tonbridgeschoolcentre.co.uk
SUMMARY:Fitness Suite
DESCRIPTION:Please note on Tuesday morning 11:30am – 1:30pm the swimming pool and Fitness Suite is shared with Active Life Members.
URL:https://www.tonbridgeschoolcentre.co.uk/event/fitness-suite-142/
CATEGORIES:Fitness Suite
END:VEVENT
BEGIN:VEVENT
DTSTART;TZID=Europe/London:20250925T180000
DTEND;TZID=Europe/London:20250925T184500
DTSTAMP:20260423T063255
CREATED:20250903T131006Z
LAST-MODIFIED:20250923T074553Z
UID:10001255-1758823200-1758825900@www.tonbridgeschoolcentre.co.uk
SUMMARY:Class: Remix
DESCRIPTION:Instructor: Sherry.
URL:https://www.tonbridgeschoolcentre.co.uk/event/class-remix-8/
CATEGORIES:Classes,Dance,Remix
END:VEVENT
BEGIN:VEVENT
DTSTART;TZID=Europe/London:20250925T180000
DTEND;TZID=Europe/London:20250925T184500
DTSTAMP:20260423T063255
CREATED:20250903T130859Z
LAST-MODIFIED:20250923T074553Z
UID:10001254-1758823200-1758825900@www.tonbridgeschoolcentre.co.uk
SUMMARY:Class: Cycle
DESCRIPTION:Instructor: Marie.
URL:https://www.tonbridgeschoolcentre.co.uk/event/class-cycle-49/
CATEGORIES:Aerobic,Classes,Cycle
END:VEVENT
BEGIN:VEVENT
DTSTART;TZID=Europe/London:20250925T173000
DTEND;TZID=Europe/London:20250925T210000
DTSTAMP:20260423T063255
CREATED:20250904T100212Z
LAST-MODIFIED:20250922T154715Z
UID:10001410-1758821400-1758834000@www.tonbridgeschoolcentre.co.uk
SUMMARY:Sauna
DESCRIPTION:
URL:https://www.tonbridgeschoolcentre.co.uk/event/sauna-133/
CATEGORIES:Sauna
END:VEVENT
BEGIN:VEVENT
DTSTART;TZID=Europe/London:20250925T173000
DTEND;TZID=Europe/London:20250925T190000
DTSTAMP:20260423T063255
CREATED:20250903T191420Z
LAST-MODIFIED:20250922T150411Z
UID:10001386-1758821400-1758826800@www.tonbridgeschoolcentre.co.uk
SUMMARY:Members Swim
DESCRIPTION:Lane Swimming in half the pool and casual swimming in half the pool\, for Adult and Children Members. \nPlease note on Tuesday morning 11:30am – 1:30pm the swimming pool and Fitness Suite is shared with Active Life Members.
URL:https://www.tonbridgeschoolcentre.co.uk/event/members-swim-153/
CATEGORIES:Members Swim,Swimming
END:VEVENT
BEGIN:VEVENT
DTSTART;TZID=Europe/London:20250925T130000
DTEND;TZID=Europe/London:20250925T140000
DTSTAMP:20260423T063255
CREATED:20250904T100632Z
LAST-MODIFIED:20250922T155426Z
UID:10001427-1758805200-1758808800@www.tonbridgeschoolcentre.co.uk
SUMMARY:Fitness Suite
DESCRIPTION:Please note on Tuesday morning 11:30am – 1:30pm the swimming pool and Fitness Suite is shared with Active Life Members.
URL:https://www.tonbridgeschoolcentre.co.uk/event/fitness-suite-141/
CATEGORIES:Fitness Suite
END:VEVENT
BEGIN:VEVENT
DTSTART;TZID=Europe/London:20250925T114500
DTEND;TZID=Europe/London:20250925T140000
DTSTAMP:20260423T063255
CREATED:20250903T191410Z
LAST-MODIFIED:20250908T140729Z
UID:10001385-1758800700-1758808800@www.tonbridgeschoolcentre.co.uk
SUMMARY:Members Swim
DESCRIPTION:Lane Swimming in half the pool and casual swimming in half the pool\, for Adult and Children Members. \nPlease note on Tuesday morning 11:30am – 1:30pm the swimming pool and Fitness Suite is shared with Active Life Members.
URL:https://www.tonbridgeschoolcentre.co.uk/event/members-swim-152/
CATEGORIES:Members Swim,Swimming
END:VEVENT
BEGIN:VEVENT
DTSTART;TZID=Europe/London:20250925T114500
DTEND;TZID=Europe/London:20250925T124500
DTSTAMP:20260423T063255
CREATED:20250903T130859Z
LAST-MODIFIED:20250923T074553Z
UID:10001253-1758800700-1758804300@www.tonbridgeschoolcentre.co.uk
SUMMARY:Class: Strength & Stretch
DESCRIPTION:Instructor: Ellie.
URL:https://www.tonbridgeschoolcentre.co.uk/event/class-strength-stretch-8/
CATEGORIES:Classes,Strength,Strength & Stretch
END:VEVENT
BEGIN:VEVENT
DTSTART;TZID=Europe/London:20250925T111500
DTEND;TZID=Europe/London:20250925T140000
DTSTAMP:20260423T063255
CREATED:20250922T103750Z
LAST-MODIFIED:20250922T150411Z
UID:10001466-1758798900-1758808800@www.tonbridgeschoolcentre.co.uk
SUMMARY:Members Swim
DESCRIPTION:Lane Swimming in half the pool and casual swimming in half the pool\, for Adult and Children Members. \nPlease note on Tuesday morning 11:30am – 1:30pm the swimming pool and Fitness Suite is shared with Active Life Members.
URL:https://www.tonbridgeschoolcentre.co.uk/event/members-swim-163/
CATEGORIES:Members Swim,Swimming
END:VEVENT
BEGIN:VEVENT
DTSTART;TZID=Europe/London:20250925T104500
DTEND;TZID=Europe/London:20250925T113000
DTSTAMP:20260423T063255
CREATED:20250903T130858Z
LAST-MODIFIED:20250923T074552Z
UID:10001252-1758797100-1758799800@www.tonbridgeschoolcentre.co.uk
SUMMARY:Class: Core Classics
DESCRIPTION:Instructor: Ellie.
URL:https://www.tonbridgeschoolcentre.co.uk/event/class-core-classics-12/
CATEGORIES:Classes,Core Classics,Flexibility & Core
END:VEVENT
BEGIN:VEVENT
DTSTART;TZID=Europe/London:20250925T090000
DTEND;TZID=Europe/London:20250925T101500
DTSTAMP:20260423T063255
CREATED:20250903T130858Z
LAST-MODIFIED:20250923T074552Z
UID:10001251-1758790800-1758795300@www.tonbridgeschoolcentre.co.uk
SUMMARY:Class: Hatha Yoga
DESCRIPTION:Instructor: Leila.
URL:https://www.tonbridgeschoolcentre.co.uk/event/class-hatha-yoga-15/
CATEGORIES:Classes,Hatha Yoga,Mind & Body
END:VEVENT
BEGIN:VEVENT
DTSTART;TZID=Europe/London:20250925T084500
DTEND;TZID=Europe/London:20250925T114500
DTSTAMP:20260423T063255
CREATED:20250903T191410Z
LAST-MODIFIED:20250922T150410Z
UID:10001384-1758789900-1758800700@www.tonbridgeschoolcentre.co.uk
SUMMARY:Adult Only Lane Swimming
DESCRIPTION:Lane Swimming in the pool for Adult Members only (aged 16+) in a single lane with another activity in the other side of the pool. \nPlease note on Tuesday morning 11:30am – 1:30pm the swimming pool and Fitness Suite is shared with Active Life Members.
URL:https://www.tonbridgeschoolcentre.co.uk/event/adult-only-lane-swimming-70/
CATEGORIES:Adult Only Lane Swimming,Swimming
END:VEVENT
BEGIN:VEVENT
DTSTART;TZID=Europe/London:20250925T084500
DTEND;TZID=Europe/London:20250925T093000
DTSTAMP:20260423T063255
CREATED:20250903T130858Z
LAST-MODIFIED:20250923T074431Z
UID:10001250-1758789900-1758792600@www.tonbridgeschoolcentre.co.uk
SUMMARY:Class: Aqua
DESCRIPTION:Instructor: Alex.
URL:https://www.tonbridgeschoolcentre.co.uk/event/class-aqua-15/
CATEGORIES:Aqua,Classes,Water Based
END:VEVENT
BEGIN:VEVENT
DTSTART;TZID=Europe/London:20250925T070000
DTEND;TZID=Europe/London:20250925T140000
DTSTAMP:20260423T063255
CREATED:20250904T101009Z
LAST-MODIFIED:20250922T163741Z
UID:10001449-1758783600-1758808800@www.tonbridgeschoolcentre.co.uk
SUMMARY:Clay Tennis Courts
DESCRIPTION:Tennis courts can be booked online or via the TSC reception.
URL:https://www.tonbridgeschoolcentre.co.uk/event/clay-tennis-courts-120/
CATEGORIES:Clay Tennis Courts
END:VEVENT
BEGIN:VEVENT
DTSTART;TZID=Europe/London:20250925T070000
DTEND;TZID=Europe/London:20250925T140000
DTSTAMP:20260423T063255
CREATED:20250904T100705Z
LAST-MODIFIED:20250922T163239Z
UID:10001439-1758783600-1758808800@www.tonbridgeschoolcentre.co.uk
SUMMARY:Athletics Track
DESCRIPTION:Inside two lanes of the Track are not to be used.
URL:https://www.tonbridgeschoolcentre.co.uk/event/athletics-track-80/
CATEGORIES:Athletics Track
END:VEVENT
BEGIN:VEVENT
DTSTART;TZID=Europe/London:20250925T070000
DTEND;TZID=Europe/London:20250925T140000
DTSTAMP:20260423T063255
CREATED:20250904T100212Z
LAST-MODIFIED:20250922T154714Z
UID:10001409-1758783600-1758808800@www.tonbridgeschoolcentre.co.uk
SUMMARY:Sauna
DESCRIPTION:
URL:https://www.tonbridgeschoolcentre.co.uk/event/sauna-132/
CATEGORIES:Sauna
END:VEVENT
BEGIN:VEVENT
DTSTART;TZID=Europe/London:20250925T061500
DTEND;TZID=Europe/London:20250925T070000
DTSTAMP:20260423T063255
CREATED:20250903T130658Z
LAST-MODIFIED:20250923T074431Z
UID:10001249-1758780900-1758783600@www.tonbridgeschoolcentre.co.uk
SUMMARY:Class: Circuits
DESCRIPTION:Instructor: Ellie.
URL:https://www.tonbridgeschoolcentre.co.uk/event/class-circuits-14/
CATEGORIES:Circuits,Classes,Strength
END:VEVENT
BEGIN:VEVENT
DTSTART;TZID=Europe/London:20250925T060000
DTEND;TZID=Europe/London:20250925T114500
DTSTAMP:20260423T063255
CREATED:20250904T100631Z
LAST-MODIFIED:20250922T155426Z
UID:10001426-1758780000-1758800700@www.tonbridgeschoolcentre.co.uk
SUMMARY:Fitness Suite
DESCRIPTION:Please note on Tuesday morning 11:30am – 1:30pm the swimming pool and Fitness Suite is shared with Active Life Members.
URL:https://www.tonbridgeschoolcentre.co.uk/event/fitness-suite-140/
CATEGORIES:Fitness Suite
END:VEVENT
BEGIN:VEVENT
DTSTART;TZID=Europe/London:20250925T060000
DTEND;TZID=Europe/London:20250925T084500
DTSTAMP:20260423T063255
CREATED:20250903T191410Z
LAST-MODIFIED:20250922T150410Z
UID:10001383-1758780000-1758789900@www.tonbridgeschoolcentre.co.uk
SUMMARY:Members Swim
DESCRIPTION:Lane Swimming in half the pool and casual swimming in half the pool\, for Adult and Children Members. \nPlease note on Tuesday morning 11:30am – 1:30pm the swimming pool and Fitness Suite is shared with Active Life Members.
URL:https://www.tonbridgeschoolcentre.co.uk/event/members-swim-151/
CATEGORIES:Members Swim,Swimming
END:VEVENT
BEGIN:VEVENT
DTSTART;TZID=Europe/London:20250924T190000
DTEND;TZID=Europe/London:20250924T195500
DTSTAMP:20260423T063255
CREATED:20250903T130657Z
LAST-MODIFIED:20250923T074431Z
UID:10001248-1758740400-1758743700@www.tonbridgeschoolcentre.co.uk
SUMMARY:Class: Dance Fit
DESCRIPTION:Instructor: Monica.
URL:https://www.tonbridgeschoolcentre.co.uk/event/class-dance-fit-26/
CATEGORIES:Classes,Dance,Dance Fit
END:VEVENT
BEGIN:VEVENT
DTSTART;TZID=Europe/London:20250924T190000
DTEND;TZID=Europe/London:20250924T194500
DTSTAMP:20260423T063255
CREATED:20250903T130657Z
LAST-MODIFIED:20250923T074431Z
UID:10001247-1758740400-1758743100@www.tonbridgeschoolcentre.co.uk
SUMMARY:Class: Outdoor Fitness
DESCRIPTION:Instructor: Graham.
URL:https://www.tonbridgeschoolcentre.co.uk/event/class-outdoor-fitness-16/
CATEGORIES:Aerobic,Classes,Outdoor Fitness
END:VEVENT
END:VCALENDAR