BEGIN:VCALENDAR
VERSION:2.0
PRODID:-//Tonbridge School Centre - ECPv6.15.18//NONSGML v1.0//EN
CALSCALE:GREGORIAN
METHOD:PUBLISH
X-WR-CALNAME:Tonbridge School Centre
X-ORIGINAL-URL:https://www.tonbridgeschoolcentre.co.uk
X-WR-CALDESC:Events for Tonbridge School Centre
REFRESH-INTERVAL;VALUE=DURATION:PT1H
X-Robots-Tag:noindex
X-PUBLISHED-TTL:PT1H
BEGIN:VTIMEZONE
TZID:Europe/London
BEGIN:DAYLIGHT
TZOFFSETFROM:+0000
TZOFFSETTO:+0100
TZNAME:BST
DTSTART:20250330T010000
END:DAYLIGHT
BEGIN:STANDARD
TZOFFSETFROM:+0100
TZOFFSETTO:+0000
TZNAME:GMT
DTSTART:20251026T010000
END:STANDARD
BEGIN:DAYLIGHT
TZOFFSETFROM:+0000
TZOFFSETTO:+0100
TZNAME:BST
DTSTART:20260329T010000
END:DAYLIGHT
BEGIN:STANDARD
TZOFFSETFROM:+0100
TZOFFSETTO:+0000
TZNAME:GMT
DTSTART:20261025T010000
END:STANDARD
BEGIN:DAYLIGHT
TZOFFSETFROM:+0000
TZOFFSETTO:+0100
TZNAME:BST
DTSTART:20270328T010000
END:DAYLIGHT
BEGIN:STANDARD
TZOFFSETFROM:+0100
TZOFFSETTO:+0000
TZNAME:GMT
DTSTART:20271031T010000
END:STANDARD
END:VTIMEZONE
BEGIN:VEVENT
DTSTART;TZID=Europe/London:20260501T180000
DTEND;TZID=Europe/London:20260501T210000
DTSTAMP:20260420T005332
CREATED:20260415T140056Z
LAST-MODIFIED:20260415T140056Z
UID:10005863-1777658400-1777669200@www.tonbridgeschoolcentre.co.uk
SUMMARY:Sauna
DESCRIPTION:
URL:https://www.tonbridgeschoolcentre.co.uk/event/sauna-570/
CATEGORIES:Sauna
END:VEVENT
BEGIN:VEVENT
DTSTART;TZID=Europe/London:20260502T080000
DTEND;TZID=Europe/London:20260502T093000
DTSTAMP:20260420T005332
CREATED:20260415T131506Z
LAST-MODIFIED:20260415T131506Z
UID:10005780-1777708800-1777714200@www.tonbridgeschoolcentre.co.uk
SUMMARY:Members Swim
DESCRIPTION:Lane Swimming in half the pool and casual swimming in half the pool\, for Adult and Children Members. \nPlease note on Tuesday morning 11:30am – 1:30pm the swimming pool and Fitness Suite is shared with Active Life Members.
URL:https://www.tonbridgeschoolcentre.co.uk/event/members-swim-680/
CATEGORIES:Members Swim,Swimming
END:VEVENT
BEGIN:VEVENT
DTSTART;TZID=Europe/London:20260502T080000
DTEND;TZID=Europe/London:20260502T140000
DTSTAMP:20260420T005332
CREATED:20260415T132723Z
LAST-MODIFIED:20260415T132723Z
UID:10005835-1777708800-1777730400@www.tonbridgeschoolcentre.co.uk
SUMMARY:Fitness Suite
DESCRIPTION:Please note on Tuesday morning 11:30am – 1:30pm the swimming pool and Fitness Suite is shared with Active Life Members.
URL:https://www.tonbridgeschoolcentre.co.uk/event/fitness-suite-546/
CATEGORIES:Fitness Suite
END:VEVENT
BEGIN:VEVENT
DTSTART;TZID=Europe/London:20260502T090000
DTEND;TZID=Europe/London:20260502T140000
DTSTAMP:20260420T005332
CREATED:20260415T140056Z
LAST-MODIFIED:20260415T140056Z
UID:10005864-1777712400-1777730400@www.tonbridgeschoolcentre.co.uk
SUMMARY:Sauna
DESCRIPTION:
URL:https://www.tonbridgeschoolcentre.co.uk/event/sauna-571/
CATEGORIES:Sauna
END:VEVENT
BEGIN:VEVENT
DTSTART;TZID=Europe/London:20260502T093000
DTEND;TZID=Europe/London:20260502T110000
DTSTAMP:20260420T005332
CREATED:20260415T131506Z
LAST-MODIFIED:20260415T131506Z
UID:10005781-1777714200-1777719600@www.tonbridgeschoolcentre.co.uk
SUMMARY:Family Splash
DESCRIPTION:Sessions for families in half the pool with floats and Lane Swimming in the other half. (no sinkers are allowed in these sessions). \nPlease note on Tuesday morning 11:30am – 1:30pm the swimming pool and Fitness Suite is shared with Active Life Members.
URL:https://www.tonbridgeschoolcentre.co.uk/event/family-splash-127/
CATEGORIES:Family Splash,Swimming
END:VEVENT
BEGIN:VEVENT
DTSTART;TZID=Europe/London:20260502T110000
DTEND;TZID=Europe/London:20260502T140000
DTSTAMP:20260420T005332
CREATED:20260415T131506Z
LAST-MODIFIED:20260415T131506Z
UID:10005782-1777719600-1777730400@www.tonbridgeschoolcentre.co.uk
SUMMARY:Adult Only Lane Swimming
DESCRIPTION:Lane Swimming in the pool for Adult Members only (aged 16+) in a single lane with another activity in the other side of the pool. \nPlease note on Tuesday morning 11:30am – 1:30pm the swimming pool and Fitness Suite is shared with Active Life Members.
URL:https://www.tonbridgeschoolcentre.co.uk/event/adult-only-lane-swimming-295/
CATEGORIES:Adult Only Lane Swimming,Swimming
END:VEVENT
BEGIN:VEVENT
DTSTART;TZID=Europe/London:20260502T170000
DTEND;TZID=Europe/London:20260502T190000
DTSTAMP:20260420T005332
CREATED:20260415T131507Z
LAST-MODIFIED:20260415T131507Z
UID:10005783-1777741200-1777748400@www.tonbridgeschoolcentre.co.uk
SUMMARY:Members Swim
DESCRIPTION:Lane Swimming in half the pool and casual swimming in half the pool\, for Adult and Children Members. \nPlease note on Tuesday morning 11:30am – 1:30pm the swimming pool and Fitness Suite is shared with Active Life Members.
URL:https://www.tonbridgeschoolcentre.co.uk/event/members-swim-681/
CATEGORIES:Members Swim,Swimming
END:VEVENT
BEGIN:VEVENT
DTSTART;TZID=Europe/London:20260502T170000
DTEND;TZID=Europe/London:20260502T200000
DTSTAMP:20260420T005332
CREATED:20260415T132723Z
LAST-MODIFIED:20260415T132723Z
UID:10005836-1777741200-1777752000@www.tonbridgeschoolcentre.co.uk
SUMMARY:Fitness Suite
DESCRIPTION:Please note on Tuesday morning 11:30am – 1:30pm the swimming pool and Fitness Suite is shared with Active Life Members.
URL:https://www.tonbridgeschoolcentre.co.uk/event/fitness-suite-547/
CATEGORIES:Fitness Suite
END:VEVENT
BEGIN:VEVENT
DTSTART;TZID=Europe/London:20260502T170000
DTEND;TZID=Europe/London:20260502T200000
DTSTAMP:20260420T005332
CREATED:20260415T140057Z
LAST-MODIFIED:20260415T140057Z
UID:10005865-1777741200-1777752000@www.tonbridgeschoolcentre.co.uk
SUMMARY:Sauna
DESCRIPTION:
URL:https://www.tonbridgeschoolcentre.co.uk/event/sauna-572/
CATEGORIES:Sauna
END:VEVENT
BEGIN:VEVENT
DTSTART;TZID=Europe/London:20260502T190000
DTEND;TZID=Europe/London:20260502T200000
DTSTAMP:20260420T005332
CREATED:20260415T131507Z
LAST-MODIFIED:20260415T131507Z
UID:10005784-1777748400-1777752000@www.tonbridgeschoolcentre.co.uk
SUMMARY:Adult Only Members Swim
DESCRIPTION:Lane Swimming in half the pool and casual swimming in half the pool\, for Adult Members only (aged 16+). \nPlease note on Tuesday morning 11:30am – 1:30pm the swimming pool and Fitness Suite is shared with Active Life Members.
URL:https://www.tonbridgeschoolcentre.co.uk/event/adult-only-members-swim-169/
CATEGORIES:Adult Only Members Swim,Swimming
END:VEVENT
BEGIN:VEVENT
DTSTART;TZID=Europe/London:20260503T090000
DTEND;TZID=Europe/London:20260503T103000
DTSTAMP:20260420T005332
CREATED:20260415T131606Z
LAST-MODIFIED:20260415T131606Z
UID:10005785-1777798800-1777804200@www.tonbridgeschoolcentre.co.uk
SUMMARY:Members Swim
DESCRIPTION:Lane Swimming in half the pool and casual swimming in half the pool\, for Adult and Children Members. \nPlease note on Tuesday morning 11:30am – 1:30pm the swimming pool and Fitness Suite is shared with Active Life Members.
URL:https://www.tonbridgeschoolcentre.co.uk/event/members-swim-682/
CATEGORIES:Members Swim,Swimming
END:VEVENT
BEGIN:VEVENT
DTSTART;TZID=Europe/London:20260503T090000
DTEND;TZID=Europe/London:20260503T130000
DTSTAMP:20260420T005332
CREATED:20260415T132724Z
LAST-MODIFIED:20260415T132724Z
UID:10005837-1777798800-1777813200@www.tonbridgeschoolcentre.co.uk
SUMMARY:Fitness Suite
DESCRIPTION:Please note on Tuesday morning 11:30am – 1:30pm the swimming pool and Fitness Suite is shared with Active Life Members.
URL:https://www.tonbridgeschoolcentre.co.uk/event/fitness-suite-548/
CATEGORIES:Fitness Suite
END:VEVENT
BEGIN:VEVENT
DTSTART;TZID=Europe/London:20260503T100000
DTEND;TZID=Europe/London:20260503T150000
DTSTAMP:20260420T005332
CREATED:20260415T140057Z
LAST-MODIFIED:20260415T140057Z
UID:10005866-1777802400-1777820400@www.tonbridgeschoolcentre.co.uk
SUMMARY:Sauna
DESCRIPTION:
URL:https://www.tonbridgeschoolcentre.co.uk/event/sauna-573/
CATEGORIES:Sauna
END:VEVENT
BEGIN:VEVENT
DTSTART;TZID=Europe/London:20260503T103000
DTEND;TZID=Europe/London:20260503T123000
DTSTAMP:20260420T005332
CREATED:20260415T131606Z
LAST-MODIFIED:20260415T131606Z
UID:10005786-1777804200-1777811400@www.tonbridgeschoolcentre.co.uk
SUMMARY:Family Splash
DESCRIPTION:Sessions for families in half the pool with floats and Lane Swimming in the other half. (no sinkers are allowed in these sessions). \nPlease note on Tuesday morning 11:30am – 1:30pm the swimming pool and Fitness Suite is shared with Active Life Members.
URL:https://www.tonbridgeschoolcentre.co.uk/event/family-splash-128/
CATEGORIES:Family Splash,Swimming
END:VEVENT
BEGIN:VEVENT
DTSTART;TZID=Europe/London:20260503T123000
DTEND;TZID=Europe/London:20260503T133000
DTSTAMP:20260420T005332
CREATED:20260415T131606Z
LAST-MODIFIED:20260415T131606Z
UID:10005787-1777811400-1777815000@www.tonbridgeschoolcentre.co.uk
SUMMARY:Adult Only Members Swim
DESCRIPTION:Lane Swimming in half the pool and casual swimming in half the pool\, for Adult Members only (aged 16+). \nPlease note on Tuesday morning 11:30am – 1:30pm the swimming pool and Fitness Suite is shared with Active Life Members.
URL:https://www.tonbridgeschoolcentre.co.uk/event/adult-only-members-swim-170/
CATEGORIES:Adult Only Members Swim,Swimming
END:VEVENT
BEGIN:VEVENT
DTSTART;TZID=Europe/London:20260503T150000
DTEND;TZID=Europe/London:20260503T160000
DTSTAMP:20260420T005332
CREATED:20260415T131607Z
LAST-MODIFIED:20260415T131607Z
UID:10005788-1777820400-1777824000@www.tonbridgeschoolcentre.co.uk
SUMMARY:Adult Only Members Swim
DESCRIPTION:Lane Swimming in half the pool and casual swimming in half the pool\, for Adult Members only (aged 16+). \nPlease note on Tuesday morning 11:30am – 1:30pm the swimming pool and Fitness Suite is shared with Active Life Members.
URL:https://www.tonbridgeschoolcentre.co.uk/event/adult-only-members-swim-171/
CATEGORIES:Adult Only Members Swim,Swimming
END:VEVENT
BEGIN:VEVENT
DTSTART;TZID=Europe/London:20260503T160000
DTEND;TZID=Europe/London:20260503T160000
DTSTAMP:20260420T005332
CREATED:20260415T131607Z
LAST-MODIFIED:20260415T131607Z
UID:10005789-1777824000-1777824000@www.tonbridgeschoolcentre.co.uk
SUMMARY:Members Swim
DESCRIPTION:Lane Swimming in half the pool and casual swimming in half the pool\, for Adult and Children Members. \nPlease note on Tuesday morning 11:30am – 1:30pm the swimming pool and Fitness Suite is shared with Active Life Members.
URL:https://www.tonbridgeschoolcentre.co.uk/event/members-swim-683/
CATEGORIES:Members Swim,Swimming
END:VEVENT
BEGIN:VEVENT
DTSTART;TZID=Europe/London:20260503T160000
DTEND;TZID=Europe/London:20260503T190000
DTSTAMP:20260420T005332
CREATED:20260415T140057Z
LAST-MODIFIED:20260415T140057Z
UID:10005867-1777824000-1777834800@www.tonbridgeschoolcentre.co.uk
SUMMARY:Sauna
DESCRIPTION:
URL:https://www.tonbridgeschoolcentre.co.uk/event/sauna-574/
CATEGORIES:Sauna
END:VEVENT
BEGIN:VEVENT
DTSTART;TZID=Europe/London:20260503T160000
DTEND;TZID=Europe/London:20260503T193000
DTSTAMP:20260420T005332
CREATED:20260415T132724Z
LAST-MODIFIED:20260415T132724Z
UID:10005838-1777824000-1777836600@www.tonbridgeschoolcentre.co.uk
SUMMARY:Fitness Suite
DESCRIPTION:Please note on Tuesday morning 11:30am – 1:30pm the swimming pool and Fitness Suite is shared with Active Life Members.
URL:https://www.tonbridgeschoolcentre.co.uk/event/fitness-suite-549/
CATEGORIES:Fitness Suite
END:VEVENT
BEGIN:VEVENT
DTSTART;TZID=Europe/London:20260504T000000
DTEND;TZID=Europe/London:20260504T000000
DTSTAMP:20260420T005332
CREATED:20260415T132823Z
LAST-MODIFIED:20260415T132823Z
UID:10005840-1777852800-1777852800@www.tonbridgeschoolcentre.co.uk
SUMMARY:Fitness Suite
DESCRIPTION:Please note on Tuesday morning 11:30am – 1:30pm the swimming pool and Fitness Suite is shared with Active Life Members.
URL:https://www.tonbridgeschoolcentre.co.uk/event/fitness-suite-551/
CATEGORIES:Fitness Suite
END:VEVENT
BEGIN:VEVENT
DTSTART;TZID=Europe/London:20260504T000000
DTEND;TZID=Europe/London:20260504T000000
DTSTAMP:20260420T005332
CREATED:20260415T140157Z
LAST-MODIFIED:20260415T140157Z
UID:10005869-1777852800-1777852800@www.tonbridgeschoolcentre.co.uk
SUMMARY:Sauna
DESCRIPTION:
URL:https://www.tonbridgeschoolcentre.co.uk/event/sauna-576/
CATEGORIES:Sauna
END:VEVENT
BEGIN:VEVENT
DTSTART;TZID=Europe/London:20260504T060000
DTEND;TZID=Europe/London:20260504T180000
DTSTAMP:20260420T005332
CREATED:20260415T132724Z
LAST-MODIFIED:20260415T132724Z
UID:10005839-1777874400-1777917600@www.tonbridgeschoolcentre.co.uk
SUMMARY:Fitness Suite
DESCRIPTION:Please note on Tuesday morning 11:30am – 1:30pm the swimming pool and Fitness Suite is shared with Active Life Members.
URL:https://www.tonbridgeschoolcentre.co.uk/event/fitness-suite-550/
CATEGORIES:Fitness Suite
END:VEVENT
BEGIN:VEVENT
DTSTART;TZID=Europe/London:20260504T140000
DTEND;TZID=Europe/London:20260504T150000
DTSTAMP:20260420T005332
CREATED:20260415T131706Z
LAST-MODIFIED:20260415T131706Z
UID:10005790-1777903200-1777906800@www.tonbridgeschoolcentre.co.uk
SUMMARY:Double Lane Swimming
DESCRIPTION:Lane swimming is for both adults and children in a double lane. Children must be competent swimmers who can confidently swim lengths. \nPlease note on Tuesday morning 11:30am – 1:30pm the swimming pool and Fitness Suite is shared with Active Life Members.
URL:https://www.tonbridgeschoolcentre.co.uk/event/double-lane-swimming-202/
CATEGORIES:Double Lane Swimming,Swimming
END:VEVENT
BEGIN:VEVENT
DTSTART;TZID=Europe/London:20260504T140000
DTEND;TZID=Europe/London:20260504T180000
DTSTAMP:20260420T005332
CREATED:20260415T140157Z
LAST-MODIFIED:20260415T140157Z
UID:10005868-1777903200-1777917600@www.tonbridgeschoolcentre.co.uk
SUMMARY:Sauna
DESCRIPTION:
URL:https://www.tonbridgeschoolcentre.co.uk/event/sauna-575/
CATEGORIES:Sauna
END:VEVENT
BEGIN:VEVENT
DTSTART;TZID=Europe/London:20260504T150000
DTEND;TZID=Europe/London:20260504T160000
DTSTAMP:20260420T005332
CREATED:20260415T131806Z
LAST-MODIFIED:20260415T131806Z
UID:10005791-1777906800-1777910400@www.tonbridgeschoolcentre.co.uk
SUMMARY:Family Splash
DESCRIPTION:Sessions for families in half the pool with floats and Lane Swimming in the other half. (no sinkers are allowed in these sessions). \nPlease note on Tuesday morning 11:30am – 1:30pm the swimming pool and Fitness Suite is shared with Active Life Members.
URL:https://www.tonbridgeschoolcentre.co.uk/event/family-splash-129/
CATEGORIES:Family Splash,Swimming
END:VEVENT
BEGIN:VEVENT
DTSTART;TZID=Europe/London:20260504T160000
DTEND;TZID=Europe/London:20260504T170000
DTSTAMP:20260420T005332
CREATED:20260415T131806Z
LAST-MODIFIED:20260415T131806Z
UID:10005792-1777910400-1777914000@www.tonbridgeschoolcentre.co.uk
SUMMARY:Members Swim
DESCRIPTION:Lane Swimming in half the pool and casual swimming in half the pool\, for Adult and Children Members. \nPlease note on Tuesday morning 11:30am – 1:30pm the swimming pool and Fitness Suite is shared with Active Life Members.
URL:https://www.tonbridgeschoolcentre.co.uk/event/members-swim-684/
CATEGORIES:Members Swim,Swimming
END:VEVENT
BEGIN:VEVENT
DTSTART;TZID=Europe/London:20260504T170000
DTEND;TZID=Europe/London:20260504T180000
DTSTAMP:20260420T005332
CREATED:20260415T131806Z
LAST-MODIFIED:20260415T131806Z
UID:10005793-1777914000-1777917600@www.tonbridgeschoolcentre.co.uk
SUMMARY:Adult Only Members Swim
DESCRIPTION:Lane Swimming in half the pool and casual swimming in half the pool\, for Adult Members only (aged 16+). \nPlease note on Tuesday morning 11:30am – 1:30pm the swimming pool and Fitness Suite is shared with Active Life Members.
URL:https://www.tonbridgeschoolcentre.co.uk/event/adult-only-members-swim-172/
CATEGORIES:Adult Only Members Swim,Swimming
END:VEVENT
BEGIN:VEVENT
DTSTART;TZID=Europe/London:20260505T060000
DTEND;TZID=Europe/London:20260505T073000
DTSTAMP:20260420T005332
CREATED:20260415T131807Z
LAST-MODIFIED:20260415T131807Z
UID:10005794-1777960800-1777966200@www.tonbridgeschoolcentre.co.uk
SUMMARY:Lane Swimming
DESCRIPTION:Lane Swimming in the pool for adults and children in a single lane with another activity in the other side of the pool. \nPlease note on Tuesday morning 11:30am – 1:30pm the swimming pool and Fitness Suite is shared with Active Life Members.
URL:https://www.tonbridgeschoolcentre.co.uk/event/lane-swimming-157/
CATEGORIES:Lane Swimming,Swimming
END:VEVENT
BEGIN:VEVENT
DTSTART;TZID=Europe/London:20260505T060000
DTEND;TZID=Europe/London:20260505T140000
DTSTAMP:20260420T005332
CREATED:20260415T132824Z
LAST-MODIFIED:20260415T132824Z
UID:10005841-1777960800-1777989600@www.tonbridgeschoolcentre.co.uk
SUMMARY:Fitness Suite
DESCRIPTION:Please note on Tuesday morning 11:30am – 1:30pm the swimming pool and Fitness Suite is shared with Active Life Members.
URL:https://www.tonbridgeschoolcentre.co.uk/event/fitness-suite-552/
CATEGORIES:Fitness Suite
END:VEVENT
BEGIN:VEVENT
DTSTART;TZID=Europe/London:20260505T070000
DTEND;TZID=Europe/London:20260505T140000
DTSTAMP:20260420T005332
CREATED:20260415T140158Z
LAST-MODIFIED:20260415T140158Z
UID:10005870-1777964400-1777989600@www.tonbridgeschoolcentre.co.uk
SUMMARY:Sauna
DESCRIPTION:
URL:https://www.tonbridgeschoolcentre.co.uk/event/sauna-577/
CATEGORIES:Sauna
END:VEVENT
END:VCALENDAR