BEGIN:VCALENDAR
VERSION:2.0
PRODID:-//Tonbridge School Centre - ECPv6.15.18//NONSGML v1.0//EN
CALSCALE:GREGORIAN
METHOD:PUBLISH
X-WR-CALNAME:Tonbridge School Centre
X-ORIGINAL-URL:https://www.tonbridgeschoolcentre.co.uk
X-WR-CALDESC:Events for Tonbridge School Centre
REFRESH-INTERVAL;VALUE=DURATION:PT1H
X-Robots-Tag:noindex
X-PUBLISHED-TTL:PT1H
BEGIN:VTIMEZONE
TZID:Europe/London
BEGIN:DAYLIGHT
TZOFFSETFROM:+0000
TZOFFSETTO:+0100
TZNAME:BST
DTSTART:20240331T010000
END:DAYLIGHT
BEGIN:STANDARD
TZOFFSETFROM:+0100
TZOFFSETTO:+0000
TZNAME:GMT
DTSTART:20241027T010000
END:STANDARD
BEGIN:DAYLIGHT
TZOFFSETFROM:+0000
TZOFFSETTO:+0100
TZNAME:BST
DTSTART:20250330T010000
END:DAYLIGHT
BEGIN:STANDARD
TZOFFSETFROM:+0100
TZOFFSETTO:+0000
TZNAME:GMT
DTSTART:20251026T010000
END:STANDARD
BEGIN:DAYLIGHT
TZOFFSETFROM:+0000
TZOFFSETTO:+0100
TZNAME:BST
DTSTART:20260329T010000
END:DAYLIGHT
BEGIN:STANDARD
TZOFFSETFROM:+0100
TZOFFSETTO:+0000
TZNAME:GMT
DTSTART:20261025T010000
END:STANDARD
END:VTIMEZONE
BEGIN:VEVENT
DTSTART;TZID=Europe/London:20250930T084500
DTEND;TZID=Europe/London:20250930T093000
DTSTAMP:20260423T022222
CREATED:20250922T153003Z
LAST-MODIFIED:20250922T153003Z
UID:10001498-1759221900-1759224600@www.tonbridgeschoolcentre.co.uk
SUMMARY:Adult Only Lane Swimming
DESCRIPTION:Lane Swimming in the pool for Adult Members only (aged 16+) in a single lane with another activity in the other side of the pool. \nPlease note on Tuesday morning 11:30am – 1:30pm the swimming pool and Fitness Suite is shared with Active Life Members.
URL:https://www.tonbridgeschoolcentre.co.uk/event/adult-only-lane-swimming-74/
CATEGORIES:Adult Only Lane Swimming,Swimming
END:VEVENT
BEGIN:VEVENT
DTSTART;TZID=Europe/London:20250930T084500
DTEND;TZID=Europe/London:20250930T093000
DTSTAMP:20260423T022222
CREATED:20250923T075011Z
LAST-MODIFIED:20250923T075011Z
UID:10001596-1759221900-1759224600@www.tonbridgeschoolcentre.co.uk
SUMMARY:Class: Aqua
DESCRIPTION:Instructor: Monica.
URL:https://www.tonbridgeschoolcentre.co.uk/event/class-aqua-16/
CATEGORIES:Aqua,Classes,Water Based
END:VEVENT
BEGIN:VEVENT
DTSTART;TZID=Europe/London:20250930T084500
DTEND;TZID=Europe/London:20250930T093000
DTSTAMP:20260423T022222
CREATED:20250923T075133Z
LAST-MODIFIED:20250923T075133Z
UID:10001597-1759221900-1759224600@www.tonbridgeschoolcentre.co.uk
SUMMARY:Class: Cycle
DESCRIPTION:Instructor: Josh V.
URL:https://www.tonbridgeschoolcentre.co.uk/event/class-cycle-54/
CATEGORIES:Aerobic,Classes,Cycle
END:VEVENT
BEGIN:VEVENT
DTSTART;TZID=Europe/London:20250930T093000
DTEND;TZID=Europe/London:20250930T140000
DTSTAMP:20260423T022222
CREATED:20250922T153003Z
LAST-MODIFIED:20250922T153003Z
UID:10001499-1759224600-1759240800@www.tonbridgeschoolcentre.co.uk
SUMMARY:Members Swim
DESCRIPTION:Lane Swimming in half the pool and casual swimming in half the pool\, for Adult and Children Members. \nPlease note on Tuesday morning 11:30am – 1:30pm the swimming pool and Fitness Suite is shared with Active Life Members.
URL:https://www.tonbridgeschoolcentre.co.uk/event/members-swim-167/
CATEGORIES:Members Swim,Swimming
END:VEVENT
BEGIN:VEVENT
DTSTART;TZID=Europe/London:20250930T100000
DTEND;TZID=Europe/London:20250930T110000
DTSTAMP:20260423T022222
CREATED:20250923T075134Z
LAST-MODIFIED:20250923T075134Z
UID:10001598-1759226400-1759230000@www.tonbridgeschoolcentre.co.uk
SUMMARY:Class: Tai Chi
DESCRIPTION:Instructor: Angela.
URL:https://www.tonbridgeschoolcentre.co.uk/event/class-tai-chi-9/
CATEGORIES:Classes,Flexibility & Core,Tai Chi
END:VEVENT
BEGIN:VEVENT
DTSTART;TZID=Europe/London:20250930T113000
DTEND;TZID=Europe/London:20250930T123000
DTSTAMP:20260423T022222
CREATED:20250922T115937Z
LAST-MODIFIED:20250922T142402Z
UID:10001482-1759231800-1759235400@www.tonbridgeschoolcentre.co.uk
SUMMARY:Active Life: Yoga (Studio)
DESCRIPTION:Instructor: Angela
URL:https://www.tonbridgeschoolcentre.co.uk/event/active-life-yoga-studio-10/
CATEGORIES:Active Life
END:VEVENT
BEGIN:VEVENT
DTSTART;TZID=Europe/London:20250930T113000
DTEND;TZID=Europe/London:20250930T133000
DTSTAMP:20260423T022222
CREATED:20250922T115936Z
LAST-MODIFIED:20250922T164746Z
UID:10001478-1759231800-1759239000@www.tonbridgeschoolcentre.co.uk
SUMMARY:Active Life: Sports Hall (Badminton & Table Tennis)
DESCRIPTION:Instructor: Angela
URL:https://www.tonbridgeschoolcentre.co.uk/event/active-life-sports-hall-badminton-table-tennis-10/
CATEGORIES:Active Life
END:VEVENT
BEGIN:VEVENT
DTSTART;TZID=Europe/London:20250930T113000
DTEND;TZID=Europe/London:20250930T133000
DTSTAMP:20260423T022222
CREATED:20250922T115936Z
LAST-MODIFIED:20250922T164746Z
UID:10001479-1759231800-1759239000@www.tonbridgeschoolcentre.co.uk
SUMMARY:Active Life: Whole Pool & Sauna
DESCRIPTION:Instructor: Angela
URL:https://www.tonbridgeschoolcentre.co.uk/event/active-life-whole-pool-sauna-10/
CATEGORIES:Active Life
END:VEVENT
BEGIN:VEVENT
DTSTART;TZID=Europe/London:20250930T113000
DTEND;TZID=Europe/London:20250930T133000
DTSTAMP:20260423T022222
CREATED:20250922T115936Z
LAST-MODIFIED:20250922T142402Z
UID:10001480-1759231800-1759239000@www.tonbridgeschoolcentre.co.uk
SUMMARY:Active Life: Clay Tennis Courts
DESCRIPTION:Instructor: Angela
URL:https://www.tonbridgeschoolcentre.co.uk/event/active-life-clay-tennis-courts-10/
CATEGORIES:Active Life
END:VEVENT
BEGIN:VEVENT
DTSTART;TZID=Europe/London:20250930T113000
DTEND;TZID=Europe/London:20250930T133000
DTSTAMP:20260423T022222
CREATED:20250922T115936Z
LAST-MODIFIED:20250922T142402Z
UID:10001481-1759231800-1759239000@www.tonbridgeschoolcentre.co.uk
SUMMARY:Active Life: Gym
DESCRIPTION:Instructor: Angela
URL:https://www.tonbridgeschoolcentre.co.uk/event/active-life-gym-10/
CATEGORIES:Active Life
END:VEVENT
BEGIN:VEVENT
DTSTART;TZID=Europe/London:20250930T130000
DTEND;TZID=Europe/London:20250930T134500
DTSTAMP:20260423T022222
CREATED:20250923T075134Z
LAST-MODIFIED:20250923T075134Z
UID:10001599-1759237200-1759239900@www.tonbridgeschoolcentre.co.uk
SUMMARY:Class: Core Classics
DESCRIPTION:Instructor: Josh V.
URL:https://www.tonbridgeschoolcentre.co.uk/event/class-core-classics-13/
CATEGORIES:Classes,Core Classics,Flexibility & Core
END:VEVENT
BEGIN:VEVENT
DTSTART;TZID=Europe/London:20250930T130000
DTEND;TZID=Europe/London:20250930T140000
DTSTAMP:20260423T022222
CREATED:20250923T075134Z
LAST-MODIFIED:20250923T075134Z
UID:10001600-1759237200-1759240800@www.tonbridgeschoolcentre.co.uk
SUMMARY:Class: Vinyasa Yoga
DESCRIPTION:Instructor: Sumiko.
URL:https://www.tonbridgeschoolcentre.co.uk/event/class-vinyasa-yoga-48/
CATEGORIES:Classes,Mind & Body,Vinyasa Yoga
END:VEVENT
BEGIN:VEVENT
DTSTART;TZID=Europe/London:20250930T173000
DTEND;TZID=Europe/London:20250930T193000
DTSTAMP:20260423T022222
CREATED:20250922T153004Z
LAST-MODIFIED:20250922T153004Z
UID:10001500-1759253400-1759260600@www.tonbridgeschoolcentre.co.uk
SUMMARY:Members Swim
DESCRIPTION:Lane Swimming in half the pool and casual swimming in half the pool\, for Adult and Children Members. \nPlease note on Tuesday morning 11:30am – 1:30pm the swimming pool and Fitness Suite is shared with Active Life Members.
URL:https://www.tonbridgeschoolcentre.co.uk/event/members-swim-168/
CATEGORIES:Members Swim,Swimming
END:VEVENT
BEGIN:VEVENT
DTSTART;TZID=Europe/London:20250930T173000
DTEND;TZID=Europe/London:20250930T210000
DTSTAMP:20260423T022222
CREATED:20250922T154734Z
LAST-MODIFIED:20250922T154734Z
UID:10001531-1759253400-1759266000@www.tonbridgeschoolcentre.co.uk
SUMMARY:Sauna
DESCRIPTION:
URL:https://www.tonbridgeschoolcentre.co.uk/event/sauna-145/
CATEGORIES:Sauna
END:VEVENT
BEGIN:VEVENT
DTSTART;TZID=Europe/London:20250930T180000
DTEND;TZID=Europe/London:20250930T184500
DTSTAMP:20260423T022222
CREATED:20250923T075134Z
LAST-MODIFIED:20250923T075134Z
UID:10001601-1759255200-1759257900@www.tonbridgeschoolcentre.co.uk
SUMMARY:Class: Barre Fit
DESCRIPTION:Instructor: Monica.
URL:https://www.tonbridgeschoolcentre.co.uk/event/class-barre-fit-13/
CATEGORIES:Barre Fit,Classes,Strength
END:VEVENT
BEGIN:VEVENT
DTSTART;TZID=Europe/London:20250930T180000
DTEND;TZID=Europe/London:20250930T185500
DTSTAMP:20260423T022222
CREATED:20250923T075210Z
LAST-MODIFIED:20250923T075210Z
UID:10001602-1759255200-1759258500@www.tonbridgeschoolcentre.co.uk
SUMMARY:Class: Box Fit
DESCRIPTION:Instructor: Jade.
URL:https://www.tonbridgeschoolcentre.co.uk/event/class-box-fit-9/
CATEGORIES:Box Fit,Classes,Strength
END:VEVENT
BEGIN:VEVENT
DTSTART;TZID=Europe/London:20250930T180000
DTEND;TZID=Europe/London:20250930T210000
DTSTAMP:20260423T022222
CREATED:20250922T162736Z
LAST-MODIFIED:20250922T162736Z
UID:10001546-1759255200-1759266000@www.tonbridgeschoolcentre.co.uk
SUMMARY:Fitness Suite
DESCRIPTION:Please note on Tuesday morning 11:30am – 1:30pm the swimming pool and Fitness Suite is shared with Active Life Members.
URL:https://www.tonbridgeschoolcentre.co.uk/event/fitness-suite-158/
CATEGORIES:Fitness Suite
END:VEVENT
BEGIN:VEVENT
DTSTART;TZID=Europe/London:20250930T190000
DTEND;TZID=Europe/London:20250930T200000
DTSTAMP:20260423T022222
CREATED:20250923T075210Z
LAST-MODIFIED:20250923T075210Z
UID:10001603-1759258800-1759262400@www.tonbridgeschoolcentre.co.uk
SUMMARY:Class: Vinyasa Yoga
DESCRIPTION:Instructor: Monica.
URL:https://www.tonbridgeschoolcentre.co.uk/event/class-vinyasa-yoga-49/
CATEGORIES:Classes,Mind & Body,Vinyasa Yoga
END:VEVENT
BEGIN:VEVENT
DTSTART;TZID=Europe/London:20250930T200000
DTEND;TZID=Europe/London:20250930T210000
DTSTAMP:20260423T022222
CREATED:20250923T075211Z
LAST-MODIFIED:20250923T075211Z
UID:10001604-1759262400-1759266000@www.tonbridgeschoolcentre.co.uk
SUMMARY:Class: Yin Yoga
DESCRIPTION:Instructor: Katya.
URL:https://www.tonbridgeschoolcentre.co.uk/event/class-yin-yoga-9/
CATEGORIES:Classes,Mind & Body,Yin Yoga
END:VEVENT
BEGIN:VEVENT
DTSTART;TZID=Europe/London:20250930T201500
DTEND;TZID=Europe/London:20250930T210000
DTSTAMP:20260423T022222
CREATED:20250922T164143Z
LAST-MODIFIED:20250922T164143Z
UID:10001571-1759263300-1759266000@www.tonbridgeschoolcentre.co.uk
SUMMARY:Clay Tennis Courts
DESCRIPTION:Tennis courts can be booked online or via the TSC reception.
URL:https://www.tonbridgeschoolcentre.co.uk/event/clay-tennis-courts-132/
CATEGORIES:Clay Tennis Courts
END:VEVENT
BEGIN:VEVENT
DTSTART;TZID=Europe/London:20251001T060000
DTEND;TZID=Europe/London:20251001T070000
DTSTAMP:20260423T022222
CREATED:20250922T153004Z
LAST-MODIFIED:20250922T153004Z
UID:10001501-1759298400-1759302000@www.tonbridgeschoolcentre.co.uk
SUMMARY:Lane Swimming
DESCRIPTION:Lane Swimming in the pool for adults and children in a single lane with another activity in the other side of the pool. \nPlease note on Tuesday morning 11:30am – 1:30pm the swimming pool and Fitness Suite is shared with Active Life Members.
URL:https://www.tonbridgeschoolcentre.co.uk/event/lane-swimming-40/
CATEGORIES:Lane Swimming,Swimming
END:VEVENT
BEGIN:VEVENT
DTSTART;TZID=Europe/London:20251001T060000
DTEND;TZID=Europe/London:20251001T114500
DTSTAMP:20260423T022222
CREATED:20250922T162737Z
LAST-MODIFIED:20250922T162737Z
UID:10001547-1759298400-1759319100@www.tonbridgeschoolcentre.co.uk
SUMMARY:Fitness Suite
DESCRIPTION:Please note on Tuesday morning 11:30am – 1:30pm the swimming pool and Fitness Suite is shared with Active Life Members.
URL:https://www.tonbridgeschoolcentre.co.uk/event/fitness-suite-159/
CATEGORIES:Fitness Suite
END:VEVENT
BEGIN:VEVENT
DTSTART;TZID=Europe/London:20251001T070000
DTEND;TZID=Europe/London:20251001T083000
DTSTAMP:20260423T022222
CREATED:20250922T153004Z
LAST-MODIFIED:20250922T153004Z
UID:10001502-1759302000-1759307400@www.tonbridgeschoolcentre.co.uk
SUMMARY:Double Lane Swimming
DESCRIPTION:Lane swimming is for both adults and children in a double lane. Children must be competent swimmers who can confidently swim lengths. \nPlease note on Tuesday morning 11:30am – 1:30pm the swimming pool and Fitness Suite is shared with Active Life Members.
URL:https://www.tonbridgeschoolcentre.co.uk/event/double-lane-swimming-61/
CATEGORIES:Double Lane Swimming,Swimming
END:VEVENT
BEGIN:VEVENT
DTSTART;TZID=Europe/London:20251001T070000
DTEND;TZID=Europe/London:20251001T100000
DTSTAMP:20260423T022222
CREATED:20250922T163441Z
LAST-MODIFIED:20250926T065726Z
UID:10001562-1759302000-1759312800@www.tonbridgeschoolcentre.co.uk
SUMMARY:Athletics Track
DESCRIPTION:Inside two lanes of the Track are not to be used.
URL:https://www.tonbridgeschoolcentre.co.uk/event/athletics-track-88/
CATEGORIES:Athletics Track
END:VEVENT
BEGIN:VEVENT
DTSTART;TZID=Europe/London:20251001T070000
DTEND;TZID=Europe/London:20251001T134500
DTSTAMP:20260423T022222
CREATED:20250922T154734Z
LAST-MODIFIED:20250922T154734Z
UID:10001532-1759302000-1759326300@www.tonbridgeschoolcentre.co.uk
SUMMARY:Sauna
DESCRIPTION:
URL:https://www.tonbridgeschoolcentre.co.uk/event/sauna-146/
CATEGORIES:Sauna
END:VEVENT
BEGIN:VEVENT
DTSTART;TZID=Europe/London:20251001T070000
DTEND;TZID=Europe/London:20251001T140000
DTSTAMP:20260423T022222
CREATED:20250922T164143Z
LAST-MODIFIED:20250922T164143Z
UID:10001572-1759302000-1759327200@www.tonbridgeschoolcentre.co.uk
SUMMARY:Clay Tennis Courts
DESCRIPTION:Tennis courts can be booked online or via the TSC reception.
URL:https://www.tonbridgeschoolcentre.co.uk/event/clay-tennis-courts-133/
CATEGORIES:Clay Tennis Courts
END:VEVENT
BEGIN:VEVENT
DTSTART;TZID=Europe/London:20251001T083000
DTEND;TZID=Europe/London:20251001T091500
DTSTAMP:20260423T022222
CREATED:20250923T075211Z
LAST-MODIFIED:20250923T075211Z
UID:10001605-1759307400-1759310100@www.tonbridgeschoolcentre.co.uk
SUMMARY:Class: Deep Water Aqua
DESCRIPTION:Instructor: Ian.
URL:https://www.tonbridgeschoolcentre.co.uk/event/class-deep-water-aqua-9/
CATEGORIES:Classes,Deep Water Aqua,Water Based
END:VEVENT
BEGIN:VEVENT
DTSTART;TZID=Europe/London:20251001T083000
DTEND;TZID=Europe/London:20251001T113000
DTSTAMP:20260423T022222
CREATED:20250922T153203Z
LAST-MODIFIED:20250922T153203Z
UID:10001503-1759307400-1759318200@www.tonbridgeschoolcentre.co.uk
SUMMARY:Adult Only Lane Swimming
DESCRIPTION:Lane Swimming in the pool for Adult Members only (aged 16+) in a single lane with another activity in the other side of the pool. \nPlease note on Tuesday morning 11:30am – 1:30pm the swimming pool and Fitness Suite is shared with Active Life Members.
URL:https://www.tonbridgeschoolcentre.co.uk/event/adult-only-lane-swimming-75/
CATEGORIES:Adult Only Lane Swimming,Swimming
END:VEVENT
BEGIN:VEVENT
DTSTART;TZID=Europe/London:20251001T084500
DTEND;TZID=Europe/London:20251001T094500
DTSTAMP:20260423T022222
CREATED:20250923T075211Z
LAST-MODIFIED:20250923T075211Z
UID:10001606-1759308300-1759311900@www.tonbridgeschoolcentre.co.uk
SUMMARY:Class: Triple Threat
DESCRIPTION:Instructor: Josh V.
URL:https://www.tonbridgeschoolcentre.co.uk/event/class-triple-threat-25/
CATEGORIES:Aerobic,Classes,Triple Threat
END:VEVENT
BEGIN:VEVENT
DTSTART;TZID=Europe/London:20251001T090000
DTEND;TZID=Europe/London:20251001T100000
DTSTAMP:20260423T022222
CREATED:20250923T075334Z
LAST-MODIFIED:20250923T075334Z
UID:10001607-1759309200-1759312800@www.tonbridgeschoolcentre.co.uk
SUMMARY:Class: Classical Pilates
DESCRIPTION:Instructor: Wendi.
URL:https://www.tonbridgeschoolcentre.co.uk/event/class-classical-pilates-13/
CATEGORIES:Classes,Classical Pilates,Flexibility & Core
END:VEVENT
END:VCALENDAR