BEGIN:VCALENDAR
VERSION:2.0
PRODID:-//Tonbridge School Centre - ECPv6.15.18//NONSGML v1.0//EN
CALSCALE:GREGORIAN
METHOD:PUBLISH
X-WR-CALNAME:Tonbridge School Centre
X-ORIGINAL-URL:https://www.tonbridgeschoolcentre.co.uk
X-WR-CALDESC:Events for Tonbridge School Centre
REFRESH-INTERVAL;VALUE=DURATION:PT1H
X-Robots-Tag:noindex
X-PUBLISHED-TTL:PT1H
BEGIN:VTIMEZONE
TZID:Europe/London
BEGIN:DAYLIGHT
TZOFFSETFROM:+0000
TZOFFSETTO:+0100
TZNAME:BST
DTSTART:20240331T010000
END:DAYLIGHT
BEGIN:STANDARD
TZOFFSETFROM:+0100
TZOFFSETTO:+0000
TZNAME:GMT
DTSTART:20241027T010000
END:STANDARD
BEGIN:DAYLIGHT
TZOFFSETFROM:+0000
TZOFFSETTO:+0100
TZNAME:BST
DTSTART:20250330T010000
END:DAYLIGHT
BEGIN:STANDARD
TZOFFSETFROM:+0100
TZOFFSETTO:+0000
TZNAME:GMT
DTSTART:20251026T010000
END:STANDARD
BEGIN:DAYLIGHT
TZOFFSETFROM:+0000
TZOFFSETTO:+0100
TZNAME:BST
DTSTART:20260329T010000
END:DAYLIGHT
BEGIN:STANDARD
TZOFFSETFROM:+0100
TZOFFSETTO:+0000
TZNAME:GMT
DTSTART:20261025T010000
END:STANDARD
END:VTIMEZONE
BEGIN:VEVENT
DTSTART;TZID=Europe/London:20251129T093000
DTEND;TZID=Europe/London:20251129T110000
DTSTAMP:20260422T053839
CREATED:20251117T121951Z
LAST-MODIFIED:20251117T121951Z
UID:10002775-1764408600-1764414000@www.tonbridgeschoolcentre.co.uk
SUMMARY:Family Splash
DESCRIPTION:Sessions for families in half the pool with floats and Lane Swimming in the other half. (no sinkers are allowed in these sessions). \nPlease note on Tuesday morning 11:30am – 1:30pm the swimming pool and Fitness Suite is shared with Active Life Members.
URL:https://www.tonbridgeschoolcentre.co.uk/event/family-splash-45/
CATEGORIES:Family Splash,Swimming
END:VEVENT
BEGIN:VEVENT
DTSTART;TZID=Europe/London:20251129T090000
DTEND;TZID=Europe/London:20251129T140000
DTSTAMP:20260422T053839
CREATED:20251110T154828Z
LAST-MODIFIED:20251117T150537Z
UID:10002679-1764406800-1764424800@www.tonbridgeschoolcentre.co.uk
SUMMARY:Sauna
DESCRIPTION:
URL:https://www.tonbridgeschoolcentre.co.uk/event/sauna-254/
CATEGORIES:Sauna
END:VEVENT
BEGIN:VEVENT
DTSTART;TZID=Europe/London:20251129T084500
DTEND;TZID=Europe/London:20251129T093000
DTSTAMP:20260422T053839
CREATED:20251117T120658Z
LAST-MODIFIED:20251117T120658Z
UID:10002736-1764405900-1764408600@www.tonbridgeschoolcentre.co.uk
SUMMARY:Class: Cycle
DESCRIPTION:Instructor: Jade.  \nThis low-impact\, high-energy indoor cycling workout is set to motivating music and designed to boost cardiovascular fitness and endurance. Choose from a 45-minute endurance ride\, a Beginner/Family Cycle for newcomers\, or Cycle & Abs\, which adds core exercises for extra strength.
URL:https://www.tonbridgeschoolcentre.co.uk/event/class-cycle-114/
CATEGORIES:Aerobic,Classes,Cycle
END:VEVENT
BEGIN:VEVENT
DTSTART;TZID=Europe/London:20251129T080000
DTEND;TZID=Europe/London:20251129T140000
DTSTAMP:20260422T053839
CREATED:20251117T143212Z
LAST-MODIFIED:20251117T143212Z
UID:10002830-1764403200-1764424800@www.tonbridgeschoolcentre.co.uk
SUMMARY:Fitness Suite
DESCRIPTION:Please note on Tuesday morning 11:30am – 1:30pm the swimming pool and Fitness Suite is shared with Active Life Members.
URL:https://www.tonbridgeschoolcentre.co.uk/event/fitness-suite-266/
CATEGORIES:Fitness Suite
END:VEVENT
BEGIN:VEVENT
DTSTART;TZID=Europe/London:20251129T080000
DTEND;TZID=Europe/London:20251129T130000
DTSTAMP:20260422T053839
CREATED:20251117T144135Z
LAST-MODIFIED:20251127T114835Z
UID:10002869-1764403200-1764421200@www.tonbridgeschoolcentre.co.uk
SUMMARY:Clay Tennis Courts
DESCRIPTION:Tennis courts can be booked online or via the TSC reception.
URL:https://www.tonbridgeschoolcentre.co.uk/event/clay-tennis-courts-238/
CATEGORIES:Clay Tennis Courts
END:VEVENT
BEGIN:VEVENT
DTSTART;TZID=Europe/London:20251129T080000
DTEND;TZID=Europe/London:20251129T093000
DTSTAMP:20260422T053839
CREATED:20251117T121951Z
LAST-MODIFIED:20251117T121951Z
UID:10002774-1764403200-1764408600@www.tonbridgeschoolcentre.co.uk
SUMMARY:Members Swim
DESCRIPTION:Lane Swimming in half the pool and casual swimming in half the pool\, for Adult and Children Members. \nPlease note on Tuesday morning 11:30am – 1:30pm the swimming pool and Fitness Suite is shared with Active Life Members.
URL:https://www.tonbridgeschoolcentre.co.uk/event/members-swim-319/
CATEGORIES:Members Swim,Swimming
END:VEVENT
BEGIN:VEVENT
DTSTART;TZID=Europe/London:20251128T181500
DTEND;TZID=Europe/London:20251128T210000
DTSTAMP:20260422T053839
CREATED:20251117T144135Z
LAST-MODIFIED:20251127T114835Z
UID:10002868-1764353700-1764363600@www.tonbridgeschoolcentre.co.uk
SUMMARY:Clay Tennis Courts
DESCRIPTION:Tennis courts can be booked online or via the TSC reception.
URL:https://www.tonbridgeschoolcentre.co.uk/event/clay-tennis-courts-237/
CATEGORIES:Clay Tennis Courts
END:VEVENT
BEGIN:VEVENT
DTSTART;TZID=Europe/London:20251128T181500
DTEND;TZID=Europe/London:20251128T191500
DTSTAMP:20260422T053839
CREATED:20251117T120657Z
LAST-MODIFIED:20251117T120657Z
UID:10002734-1764353700-1764357300@www.tonbridgeschoolcentre.co.uk
SUMMARY:Class: Mat Pilates
DESCRIPTION:Instructor: James.  \nA low-impact workout performed on a mat that focuses on strengthening the core\, improving flexibility\, and enhancing posture through controlled\, precise movements. Using your body weight\, this class helps build stability\, balance\, and overall body awareness\, making it suitable for all fitness levels.
URL:https://www.tonbridgeschoolcentre.co.uk/event/class-mat-pilates-47/
CATEGORIES:Classes,Flexibility & Core,Mat Pilates
END:VEVENT
BEGIN:VEVENT
DTSTART;TZID=Europe/London:20251128T181500
DTEND;TZID=Europe/London:20251128T185500
DTSTAMP:20260422T053839
CREATED:20251117T120658Z
LAST-MODIFIED:20251117T120658Z
UID:10002735-1764353700-1764356100@www.tonbridgeschoolcentre.co.uk
SUMMARY:Class: HIIT
DESCRIPTION:Instructor: Dan.  \nA fast-paced workout combining short bursts of intense exercise with brief recovery periods. HIIT boosts fitness\, burns calories\, and builds strength in less time. Perfect for those who want maximum results in a short session. All levels welcome\, with options to scale intensity.
URL:https://www.tonbridgeschoolcentre.co.uk/event/class-hiit-32/
CATEGORIES:Aerobic,Classes,HIIT
END:VEVENT
BEGIN:VEVENT
DTSTART;TZID=Europe/London:20251128T180000
DTEND;TZID=Europe/London:20251128T210000
DTSTAMP:20260422T053839
CREATED:20251117T143212Z
LAST-MODIFIED:20251117T143212Z
UID:10002829-1764352800-1764363600@www.tonbridgeschoolcentre.co.uk
SUMMARY:Fitness Suite
DESCRIPTION:Please note on Tuesday morning 11:30am – 1:30pm the swimming pool and Fitness Suite is shared with Active Life Members.
URL:https://www.tonbridgeschoolcentre.co.uk/event/fitness-suite-265/
CATEGORIES:Fitness Suite
END:VEVENT
BEGIN:VEVENT
DTSTART;TZID=Europe/London:20251128T180000
DTEND;TZID=Europe/London:20251128T210000
DTSTAMP:20260422T053839
CREATED:20251110T154828Z
LAST-MODIFIED:20251117T150438Z
UID:10002678-1764352800-1764363600@www.tonbridgeschoolcentre.co.uk
SUMMARY:Sauna
DESCRIPTION:
URL:https://www.tonbridgeschoolcentre.co.uk/event/sauna-253/
CATEGORIES:Sauna
END:VEVENT
BEGIN:VEVENT
DTSTART;TZID=Europe/London:20251128T180000
DTEND;TZID=Europe/London:20251128T190000
DTSTAMP:20260422T053839
CREATED:20251117T121950Z
LAST-MODIFIED:20251117T121950Z
UID:10002773-1764352800-1764356400@www.tonbridgeschoolcentre.co.uk
SUMMARY:Members Swim
DESCRIPTION:Lane Swimming in half the pool and casual swimming in half the pool\, for Adult and Children Members. \nPlease note on Tuesday morning 11:30am – 1:30pm the swimming pool and Fitness Suite is shared with Active Life Members.
URL:https://www.tonbridgeschoolcentre.co.uk/event/members-swim-318/
CATEGORIES:Members Swim,Swimming
END:VEVENT
BEGIN:VEVENT
DTSTART;TZID=Europe/London:20251128T153000
DTEND;TZID=Europe/London:20251128T163000
DTSTAMP:20260422T053839
CREATED:20251110T154729Z
LAST-MODIFIED:20251117T150438Z
UID:10002677-1764343800-1764347400@www.tonbridgeschoolcentre.co.uk
SUMMARY:Sauna
DESCRIPTION:
URL:https://www.tonbridgeschoolcentre.co.uk/event/sauna-252/
CATEGORIES:Sauna
END:VEVENT
BEGIN:VEVENT
DTSTART;TZID=Europe/London:20251128T143000
DTEND;TZID=Europe/London:20251128T163000
DTSTAMP:20260422T053839
CREATED:20251117T121750Z
LAST-MODIFIED:20251117T121750Z
UID:10002772-1764340200-1764347400@www.tonbridgeschoolcentre.co.uk
SUMMARY:Members Swim
DESCRIPTION:Lane Swimming in half the pool and casual swimming in half the pool\, for Adult and Children Members. \nPlease note on Tuesday morning 11:30am – 1:30pm the swimming pool and Fitness Suite is shared with Active Life Members.
URL:https://www.tonbridgeschoolcentre.co.uk/event/members-swim-317/
CATEGORIES:Members Swim,Swimming
END:VEVENT
BEGIN:VEVENT
DTSTART;TZID=Europe/London:20251128T130000
DTEND;TZID=Europe/London:20251128T140000
DTSTAMP:20260422T053839
CREATED:20251117T120457Z
LAST-MODIFIED:20251117T120457Z
UID:10002732-1764334800-1764338400@www.tonbridgeschoolcentre.co.uk
SUMMARY:Class: Dance Fit
DESCRIPTION:Instructor: Monica.  \nChannel your love for dance into a dynamic fitness workout featuring fast-paced moves and steps. This class blends various dance styles to boost cardiovascular endurance through a series of tracks that alternate between high and low intensity\, keeping your energy up and your heart pumping.
URL:https://www.tonbridgeschoolcentre.co.uk/event/class-dance-fit-61/
CATEGORIES:Classes,Dance,Dance Fit
END:VEVENT
BEGIN:VEVENT
DTSTART;TZID=Europe/London:20251128T130000
DTEND;TZID=Europe/London:20251128T134500
DTSTAMP:20260422T053839
CREATED:20251117T120657Z
LAST-MODIFIED:20251117T120657Z
UID:10002733-1764334800-1764337500@www.tonbridgeschoolcentre.co.uk
SUMMARY:Class: Cycle
DESCRIPTION:Instructor: Ellie.  \nThis low-impact\, high-energy indoor cycling workout is set to motivating music and designed to boost cardiovascular fitness and endurance. Choose from a 45-minute endurance ride\, a Beginner/Family Cycle for newcomers\, or Cycle & Abs\, which adds core exercises for extra strength.
URL:https://www.tonbridgeschoolcentre.co.uk/event/class-cycle-113/
CATEGORIES:Aerobic,Classes,Cycle
END:VEVENT
BEGIN:VEVENT
DTSTART;TZID=Europe/London:20251128T123000
DTEND;TZID=Europe/London:20251128T133000
DTSTAMP:20260422T053839
CREATED:20251117T121750Z
LAST-MODIFIED:20251117T121750Z
UID:10002771-1764333000-1764336600@www.tonbridgeschoolcentre.co.uk
SUMMARY:Double Lane Swimming
DESCRIPTION:Lane swimming is for both adults and children in a double lane. Children must be competent swimmers who can confidently swim lengths. \nPlease note on Tuesday morning 11:30am – 1:30pm the swimming pool and Fitness Suite is shared with Active Life Members.
URL:https://www.tonbridgeschoolcentre.co.uk/event/double-lane-swimming-101/
CATEGORIES:Double Lane Swimming,Swimming
END:VEVENT
BEGIN:VEVENT
DTSTART;TZID=Europe/London:20251128T114500
DTEND;TZID=Europe/London:20251128T124500
DTSTAMP:20260422T053839
CREATED:20251117T120456Z
LAST-MODIFIED:20251117T120456Z
UID:10002731-1764330300-1764333900@www.tonbridgeschoolcentre.co.uk
SUMMARY:Class: Fitness Pilates
DESCRIPTION:Instructor: Chris.  \nFitness Pilates combines traditional Pilates principles with a dynamic workout designed to improve strength\, flexibility\, and cardiovascular fitness. This class incorporates flowing movements and controlled exercises to tone muscles\, enhance core stability\, and boost overall endurance — perfect for those looking to elevate their fitness routine.
URL:https://www.tonbridgeschoolcentre.co.uk/event/class-fitness-pilates-16/
CATEGORIES:Classes,Fitness Pilates,Flexibility & Core
END:VEVENT
BEGIN:VEVENT
DTSTART;TZID=Europe/London:20251128T113000
DTEND;TZID=Europe/London:20251128T123000
DTSTAMP:20260422T053839
CREATED:20251117T121749Z
LAST-MODIFIED:20251117T121749Z
UID:10002770-1764329400-1764333000@www.tonbridgeschoolcentre.co.uk
SUMMARY:Members Swim
DESCRIPTION:Lane Swimming in half the pool and casual swimming in half the pool\, for Adult and Children Members. \nPlease note on Tuesday morning 11:30am – 1:30pm the swimming pool and Fitness Suite is shared with Active Life Members.
URL:https://www.tonbridgeschoolcentre.co.uk/event/members-swim-316/
CATEGORIES:Members Swim,Swimming
END:VEVENT
BEGIN:VEVENT
DTSTART;TZID=Europe/London:20251128T094500
DTEND;TZID=Europe/London:20251128T104500
DTSTAMP:20260422T053839
CREATED:20251117T120456Z
LAST-MODIFIED:20251117T120456Z
UID:10002730-1764323100-1764326700@www.tonbridgeschoolcentre.co.uk
SUMMARY:Class: Vinyasa Yoga
DESCRIPTION:Instructor: Sumiko.  \nVinyasa Yoga is a dynamic and flowing style of yoga that links breath with movement in a seamless sequence of postures. This energising practice builds strength\, flexibility\, and endurance while promoting mindfulness and stress relief. Suitable for all levels\, Vinyasa encourages fluidity and creativity on the mat\, helping you connect body and mind.
URL:https://www.tonbridgeschoolcentre.co.uk/event/class-vinyasa-yoga-99/
CATEGORIES:Classes,Mind & Body,Vinyasa Yoga
END:VEVENT
BEGIN:VEVENT
DTSTART;TZID=Europe/London:20251128T084500
DTEND;TZID=Europe/London:20251128T094500
DTSTAMP:20260422T053839
CREATED:20251117T120456Z
LAST-MODIFIED:20251117T120456Z
UID:10002729-1764319500-1764323100@www.tonbridgeschoolcentre.co.uk
SUMMARY:Class: Triple Threat
DESCRIPTION:Instructor: Ellie.  \nThis well-rounded class delivers a full-body workout through a series of activity blocks\, ensuring there’s something for everyone. The structure allows you to work at your own pace while progressively building strength\, stamina\, and overall fitness over time. Perfect for all levels\, it helps you challenge yourself and improve steadily in a supportive environment.
URL:https://www.tonbridgeschoolcentre.co.uk/event/class-triple-threat-50/
CATEGORIES:Aerobic,Classes,Triple Threat
END:VEVENT
BEGIN:VEVENT
DTSTART;TZID=Europe/London:20251128T073000
DTEND;TZID=Europe/London:20251128T103000
DTSTAMP:20260422T053839
CREATED:20251117T121749Z
LAST-MODIFIED:20251117T121749Z
UID:10002769-1764315000-1764325800@www.tonbridgeschoolcentre.co.uk
SUMMARY:Members Swim
DESCRIPTION:Lane Swimming in half the pool and casual swimming in half the pool\, for Adult and Children Members. \nPlease note on Tuesday morning 11:30am – 1:30pm the swimming pool and Fitness Suite is shared with Active Life Members.
URL:https://www.tonbridgeschoolcentre.co.uk/event/members-swim-315/
CATEGORIES:Members Swim,Swimming
END:VEVENT
BEGIN:VEVENT
DTSTART;TZID=Europe/London:20251128T070000
DTEND;TZID=Europe/London:20251128T160000
DTSTAMP:20260422T053839
CREATED:20251117T144135Z
LAST-MODIFIED:20251127T114835Z
UID:10002867-1764313200-1764345600@www.tonbridgeschoolcentre.co.uk
SUMMARY:Clay Tennis Courts
DESCRIPTION:Tennis courts can be booked online or via the TSC reception.
URL:https://www.tonbridgeschoolcentre.co.uk/event/clay-tennis-courts-236/
CATEGORIES:Clay Tennis Courts
END:VEVENT
BEGIN:VEVENT
DTSTART;TZID=Europe/London:20251128T070000
DTEND;TZID=Europe/London:20251128T160000
DTSTAMP:20260422T053839
CREATED:20251117T143833Z
LAST-MODIFIED:20251117T143833Z
UID:10002851-1764313200-1764345600@www.tonbridgeschoolcentre.co.uk
SUMMARY:Athletics Track
DESCRIPTION:Inside two lanes of the Track are not to be used.
URL:https://www.tonbridgeschoolcentre.co.uk/event/athletics-track-160/
CATEGORIES:Athletics Track
END:VEVENT
BEGIN:VEVENT
DTSTART;TZID=Europe/London:20251128T070000
DTEND;TZID=Europe/London:20251128T133000
DTSTAMP:20260422T053839
CREATED:20251110T154729Z
LAST-MODIFIED:20251117T150438Z
UID:10002676-1764313200-1764336600@www.tonbridgeschoolcentre.co.uk
SUMMARY:Sauna
DESCRIPTION:
URL:https://www.tonbridgeschoolcentre.co.uk/event/sauna-251/
CATEGORIES:Sauna
END:VEVENT
BEGIN:VEVENT
DTSTART;TZID=Europe/London:20251128T061500
DTEND;TZID=Europe/London:20251128T070000
DTSTAMP:20260422T053839
CREATED:20251117T120456Z
LAST-MODIFIED:20251117T120456Z
UID:10002728-1764310500-1764313200@www.tonbridgeschoolcentre.co.uk
SUMMARY:Class: Freestyle Fitness Yoga
DESCRIPTION:Instructor: Monica.
URL:https://www.tonbridgeschoolcentre.co.uk/event/class-freestyle-fitness-yoga-16/
CATEGORIES:Classes,Freestyle Fitness Yoga,Mind & Body
END:VEVENT
BEGIN:VEVENT
DTSTART;TZID=Europe/London:20251128T060000
DTEND;TZID=Europe/London:20251128T163000
DTSTAMP:20260422T053839
CREATED:20251117T143212Z
LAST-MODIFIED:20251117T143212Z
UID:10002828-1764309600-1764347400@www.tonbridgeschoolcentre.co.uk
SUMMARY:Fitness Suite
DESCRIPTION:Please note on Tuesday morning 11:30am – 1:30pm the swimming pool and Fitness Suite is shared with Active Life Members.
URL:https://www.tonbridgeschoolcentre.co.uk/event/fitness-suite-264/
CATEGORIES:Fitness Suite
END:VEVENT
BEGIN:VEVENT
DTSTART;TZID=Europe/London:20251128T060000
DTEND;TZID=Europe/London:20251128T073000
DTSTAMP:20260422T053839
CREATED:20251117T121749Z
LAST-MODIFIED:20251117T121749Z
UID:10002768-1764309600-1764315000@www.tonbridgeschoolcentre.co.uk
SUMMARY:Lane Swimming
DESCRIPTION:Lane Swimming in the pool for adults and children in a single lane with another activity in the other side of the pool. \nPlease note on Tuesday morning 11:30am – 1:30pm the swimming pool and Fitness Suite is shared with Active Life Members.
URL:https://www.tonbridgeschoolcentre.co.uk/event/lane-swimming-73/
CATEGORIES:Lane Swimming,Swimming
END:VEVENT
BEGIN:VEVENT
DTSTART;TZID=Europe/London:20251127T201500
DTEND;TZID=Europe/London:20251127T210000
DTSTAMP:20260422T053839
CREATED:20251117T144135Z
LAST-MODIFIED:20251127T114835Z
UID:10002866-1764274500-1764277200@www.tonbridgeschoolcentre.co.uk
SUMMARY:Clay Tennis Courts
DESCRIPTION:Tennis courts can be booked online or via the TSC reception.
URL:https://www.tonbridgeschoolcentre.co.uk/event/clay-tennis-courts-235/
CATEGORIES:Clay Tennis Courts
END:VEVENT
BEGIN:VEVENT
DTSTART;TZID=Europe/London:20251127T190000
DTEND;TZID=Europe/London:20251127T200000
DTSTAMP:20260422T053839
CREATED:20251117T121550Z
LAST-MODIFIED:20251117T121550Z
UID:10002767-1764270000-1764273600@www.tonbridgeschoolcentre.co.uk
SUMMARY:Adult Only Members Swim
DESCRIPTION:Lane Swimming in half the pool and casual swimming in half the pool\, for Adult Members only (aged 16+). \nPlease note on Tuesday morning 11:30am – 1:30pm the swimming pool and Fitness Suite is shared with Active Life Members.
URL:https://www.tonbridgeschoolcentre.co.uk/event/adult-only-members-swim-69/
CATEGORIES:Adult Only Members Swim,Swimming
END:VEVENT
END:VCALENDAR