BEGIN:VCALENDAR
VERSION:2.0
PRODID:-//Tonbridge School Centre - ECPv6.15.18//NONSGML v1.0//EN
CALSCALE:GREGORIAN
METHOD:PUBLISH
X-WR-CALNAME:Tonbridge School Centre
X-ORIGINAL-URL:https://www.tonbridgeschoolcentre.co.uk
X-WR-CALDESC:Events for Tonbridge School Centre
REFRESH-INTERVAL;VALUE=DURATION:PT1H
X-Robots-Tag:noindex
X-PUBLISHED-TTL:PT1H
BEGIN:VTIMEZONE
TZID:Europe/London
BEGIN:DAYLIGHT
TZOFFSETFROM:+0000
TZOFFSETTO:+0100
TZNAME:BST
DTSTART:20240331T010000
END:DAYLIGHT
BEGIN:STANDARD
TZOFFSETFROM:+0100
TZOFFSETTO:+0000
TZNAME:GMT
DTSTART:20241027T010000
END:STANDARD
BEGIN:DAYLIGHT
TZOFFSETFROM:+0000
TZOFFSETTO:+0100
TZNAME:BST
DTSTART:20250330T010000
END:DAYLIGHT
BEGIN:STANDARD
TZOFFSETFROM:+0100
TZOFFSETTO:+0000
TZNAME:GMT
DTSTART:20251026T010000
END:STANDARD
BEGIN:DAYLIGHT
TZOFFSETFROM:+0000
TZOFFSETTO:+0100
TZNAME:BST
DTSTART:20260329T010000
END:DAYLIGHT
BEGIN:STANDARD
TZOFFSETFROM:+0100
TZOFFSETTO:+0000
TZNAME:GMT
DTSTART:20261025T010000
END:STANDARD
END:VTIMEZONE
BEGIN:VEVENT
DTSTART;TZID=Europe/London:20250929T110000
DTEND;TZID=Europe/London:20250929T123000
DTSTAMP:20260422T232043
CREATED:20250922T152701Z
LAST-MODIFIED:20250922T152701Z
UID:10001491-1759143600-1759149000@www.tonbridgeschoolcentre.co.uk
SUMMARY:Members Swim
DESCRIPTION:Lane Swimming in half the pool and casual swimming in half the pool\, for Adult and Children Members. \nPlease note on Tuesday morning 11:30am – 1:30pm the swimming pool and Fitness Suite is shared with Active Life Members.
URL:https://www.tonbridgeschoolcentre.co.uk/event/members-swim-164/
CATEGORIES:Members Swim,Swimming
END:VEVENT
BEGIN:VEVENT
DTSTART;TZID=Europe/London:20250929T120000
DTEND;TZID=Europe/London:20250929T124500
DTSTAMP:20260422T232043
CREATED:20250923T074808Z
LAST-MODIFIED:20250923T074808Z
UID:10001586-1759147200-1759149900@www.tonbridgeschoolcentre.co.uk
SUMMARY:Class: Pure Stretch
DESCRIPTION:Instructor: Marie.
URL:https://www.tonbridgeschoolcentre.co.uk/event/class-pure-stretch-13/
CATEGORIES:Classes,Pure Stretch,Strength
END:VEVENT
BEGIN:VEVENT
DTSTART;TZID=Europe/London:20250929T123000
DTEND;TZID=Europe/London:20250929T140000
DTSTAMP:20260422T232043
CREATED:20250922T152702Z
LAST-MODIFIED:20250922T152702Z
UID:10001492-1759149000-1759154400@www.tonbridgeschoolcentre.co.uk
SUMMARY:Double Lane Swimming
DESCRIPTION:Lane swimming is for both adults and children in a double lane. Children must be competent swimmers who can confidently swim lengths. \nPlease note on Tuesday morning 11:30am – 1:30pm the swimming pool and Fitness Suite is shared with Active Life Members.
URL:https://www.tonbridgeschoolcentre.co.uk/event/double-lane-swimming-60/
CATEGORIES:Double Lane Swimming,Swimming
END:VEVENT
BEGIN:VEVENT
DTSTART;TZID=Europe/London:20250929T130000
DTEND;TZID=Europe/London:20250929T134500
DTSTAMP:20260422T232043
CREATED:20250923T074933Z
LAST-MODIFIED:20250923T074933Z
UID:10001587-1759150800-1759153500@www.tonbridgeschoolcentre.co.uk
SUMMARY:Class: Cycle & Abs
DESCRIPTION:Instructor: Darren.
URL:https://www.tonbridgeschoolcentre.co.uk/event/class-cycle-abs-9/
CATEGORIES:Aerobic,Classes,Cycle & Abs
END:VEVENT
BEGIN:VEVENT
DTSTART;TZID=Europe/London:20250929T130000
DTEND;TZID=Europe/London:20250929T135500
DTSTAMP:20260422T232043
CREATED:20250923T074933Z
LAST-MODIFIED:20250923T074933Z
UID:10001588-1759150800-1759154100@www.tonbridgeschoolcentre.co.uk
SUMMARY:Class: Step 'n' Sculpt
DESCRIPTION:Instructor: Marie.
URL:https://www.tonbridgeschoolcentre.co.uk/event/class-step-n-sculpt-9/
CATEGORIES:Classes,Step 'n' Sculpt,Strength
END:VEVENT
BEGIN:VEVENT
DTSTART;TZID=Europe/London:20250929T140000
DTEND;TZID=Europe/London:20250929T150000
DTSTAMP:20260422T232043
CREATED:20250923T074933Z
LAST-MODIFIED:20250923T074933Z
UID:10001589-1759154400-1759158000@www.tonbridgeschoolcentre.co.uk
SUMMARY:Class: Mat Pilates
DESCRIPTION:Instructor: Chris.
URL:https://www.tonbridgeschoolcentre.co.uk/event/class-mat-pilates-21/
CATEGORIES:Classes,Flexibility & Core,Mat Pilates
END:VEVENT
BEGIN:VEVENT
DTSTART;TZID=Europe/London:20250929T150000
DTEND;TZID=Europe/London:20250929T160000
DTSTAMP:20260422T232043
CREATED:20250922T152801Z
LAST-MODIFIED:20250922T152801Z
UID:10001493-1759158000-1759161600@www.tonbridgeschoolcentre.co.uk
SUMMARY:Members Swim
DESCRIPTION:Lane Swimming in half the pool and casual swimming in half the pool\, for Adult and Children Members. \nPlease note on Tuesday morning 11:30am – 1:30pm the swimming pool and Fitness Suite is shared with Active Life Members.
URL:https://www.tonbridgeschoolcentre.co.uk/event/members-swim-165/
CATEGORIES:Members Swim,Swimming
END:VEVENT
BEGIN:VEVENT
DTSTART;TZID=Europe/London:20250929T173000
DTEND;TZID=Europe/London:20250929T193000
DTSTAMP:20260422T232043
CREATED:20250922T152802Z
LAST-MODIFIED:20250922T152802Z
UID:10001494-1759167000-1759174200@www.tonbridgeschoolcentre.co.uk
SUMMARY:Adult Only Lane Swimming
DESCRIPTION:Lane Swimming in the pool for Adult Members only (aged 16+) in a single lane with another activity in the other side of the pool. \nPlease note on Tuesday morning 11:30am – 1:30pm the swimming pool and Fitness Suite is shared with Active Life Members.
URL:https://www.tonbridgeschoolcentre.co.uk/event/adult-only-lane-swimming-73/
CATEGORIES:Adult Only Lane Swimming,Swimming
END:VEVENT
BEGIN:VEVENT
DTSTART;TZID=Europe/London:20250929T173000
DTEND;TZID=Europe/London:20250929T210000
DTSTAMP:20260422T232043
CREATED:20250922T154734Z
LAST-MODIFIED:20250922T154734Z
UID:10001529-1759167000-1759179600@www.tonbridgeschoolcentre.co.uk
SUMMARY:Sauna
DESCRIPTION:
URL:https://www.tonbridgeschoolcentre.co.uk/event/sauna-143/
CATEGORIES:Sauna
END:VEVENT
BEGIN:VEVENT
DTSTART;TZID=Europe/London:20250929T180000
DTEND;TZID=Europe/London:20250929T184500
DTSTAMP:20260422T232043
CREATED:20250923T074933Z
LAST-MODIFIED:20250923T074933Z
UID:10001590-1759168800-1759171500@www.tonbridgeschoolcentre.co.uk
SUMMARY:Class: Dance Fit
DESCRIPTION:Instructor: Monica.
URL:https://www.tonbridgeschoolcentre.co.uk/event/class-dance-fit-29/
CATEGORIES:Classes,Dance,Dance Fit
END:VEVENT
BEGIN:VEVENT
DTSTART;TZID=Europe/London:20250929T180000
DTEND;TZID=Europe/London:20250929T184500
DTSTAMP:20260422T232043
CREATED:20250923T074934Z
LAST-MODIFIED:20250923T074934Z
UID:10001591-1759168800-1759171500@www.tonbridgeschoolcentre.co.uk
SUMMARY:Class: Outdoor Fitness
DESCRIPTION:Instructor: Graham.
URL:https://www.tonbridgeschoolcentre.co.uk/event/class-outdoor-fitness-17/
CATEGORIES:Aerobic,Classes,Outdoor Fitness
END:VEVENT
BEGIN:VEVENT
DTSTART;TZID=Europe/London:20250929T180000
DTEND;TZID=Europe/London:20250929T210000
DTSTAMP:20260422T232043
CREATED:20250922T162637Z
LAST-MODIFIED:20250922T162637Z
UID:10001544-1759168800-1759179600@www.tonbridgeschoolcentre.co.uk
SUMMARY:Fitness Suite
DESCRIPTION:Please note on Tuesday morning 11:30am – 1:30pm the swimming pool and Fitness Suite is shared with Active Life Members.
URL:https://www.tonbridgeschoolcentre.co.uk/event/fitness-suite-156/
CATEGORIES:Fitness Suite
END:VEVENT
BEGIN:VEVENT
DTSTART;TZID=Europe/London:20250929T190000
DTEND;TZID=Europe/London:20250929T194500
DTSTAMP:20260422T232043
CREATED:20250923T075009Z
LAST-MODIFIED:20250923T075009Z
UID:10001592-1759172400-1759175100@www.tonbridgeschoolcentre.co.uk
SUMMARY:Class: Cycle
DESCRIPTION:Instructor: Jade.
URL:https://www.tonbridgeschoolcentre.co.uk/event/class-cycle-52/
CATEGORIES:Aerobic,Classes,Cycle
END:VEVENT
BEGIN:VEVENT
DTSTART;TZID=Europe/London:20250929T190000
DTEND;TZID=Europe/London:20250929T194500
DTSTAMP:20260422T232043
CREATED:20250923T075009Z
LAST-MODIFIED:20250923T075009Z
UID:10001593-1759172400-1759175100@www.tonbridgeschoolcentre.co.uk
SUMMARY:Class: Pure Strength
DESCRIPTION:Instructor: Graham.
URL:https://www.tonbridgeschoolcentre.co.uk/event/class-pure-strength-25/
CATEGORIES:Classes,Pure Strength,Strength
END:VEVENT
BEGIN:VEVENT
DTSTART;TZID=Europe/London:20250929T193000
DTEND;TZID=Europe/London:20250929T210000
DTSTAMP:20260422T232043
CREATED:20250922T152802Z
LAST-MODIFIED:20250922T152802Z
UID:10001495-1759174200-1759179600@www.tonbridgeschoolcentre.co.uk
SUMMARY:Adult Only Members Swim
DESCRIPTION:Lane Swimming in half the pool and casual swimming in half the pool\, for Adult Members only (aged 16+). \nPlease note on Tuesday morning 11:30am – 1:30pm the swimming pool and Fitness Suite is shared with Active Life Members.
URL:https://www.tonbridgeschoolcentre.co.uk/event/adult-only-members-swim-35/
CATEGORIES:Adult Only Members Swim,Swimming
END:VEVENT
BEGIN:VEVENT
DTSTART;TZID=Europe/London:20250929T200000
DTEND;TZID=Europe/London:20250929T210000
DTSTAMP:20260422T232043
CREATED:20250923T075010Z
LAST-MODIFIED:20250923T075010Z
UID:10001594-1759176000-1759179600@www.tonbridgeschoolcentre.co.uk
SUMMARY:Class: Mat Pilates
DESCRIPTION:Instructor: James.
URL:https://www.tonbridgeschoolcentre.co.uk/event/class-mat-pilates-22/
CATEGORIES:Classes,Flexibility & Core,Mat Pilates
END:VEVENT
BEGIN:VEVENT
DTSTART;TZID=Europe/London:20250929T201500
DTEND;TZID=Europe/London:20250929T210000
DTSTAMP:20260422T232043
CREATED:20250922T164143Z
LAST-MODIFIED:20250922T164143Z
UID:10001569-1759176900-1759179600@www.tonbridgeschoolcentre.co.uk
SUMMARY:Clay Tennis Courts
DESCRIPTION:Tennis courts can be booked online or via the TSC reception.
URL:https://www.tonbridgeschoolcentre.co.uk/event/clay-tennis-courts-130/
CATEGORIES:Clay Tennis Courts
END:VEVENT
BEGIN:VEVENT
DTSTART;TZID=Europe/London:20250930T060000
DTEND;TZID=Europe/London:20250930T073000
DTSTAMP:20260422T232043
CREATED:20250922T152802Z
LAST-MODIFIED:20250922T152802Z
UID:10001496-1759212000-1759217400@www.tonbridgeschoolcentre.co.uk
SUMMARY:Lane Swimming
DESCRIPTION:Lane Swimming in the pool for adults and children in a single lane with another activity in the other side of the pool. \nPlease note on Tuesday morning 11:30am – 1:30pm the swimming pool and Fitness Suite is shared with Active Life Members.
URL:https://www.tonbridgeschoolcentre.co.uk/event/lane-swimming-39/
CATEGORIES:Lane Swimming,Swimming
END:VEVENT
BEGIN:VEVENT
DTSTART;TZID=Europe/London:20250930T060000
DTEND;TZID=Europe/London:20250930T140000
DTSTAMP:20260422T232043
CREATED:20250922T162637Z
LAST-MODIFIED:20250922T162637Z
UID:10001545-1759212000-1759240800@www.tonbridgeschoolcentre.co.uk
SUMMARY:Fitness Suite
DESCRIPTION:Please note on Tuesday morning 11:30am – 1:30pm the swimming pool and Fitness Suite is shared with Active Life Members.
URL:https://www.tonbridgeschoolcentre.co.uk/event/fitness-suite-157/
CATEGORIES:Fitness Suite
END:VEVENT
BEGIN:VEVENT
DTSTART;TZID=Europe/London:20250930T061500
DTEND;TZID=Europe/London:20250930T070000
DTSTAMP:20260422T232043
CREATED:20250923T075011Z
LAST-MODIFIED:20250923T075011Z
UID:10001595-1759212900-1759215600@www.tonbridgeschoolcentre.co.uk
SUMMARY:Class: Cycle
DESCRIPTION:Instructor: Josh V.
URL:https://www.tonbridgeschoolcentre.co.uk/event/class-cycle-53/
CATEGORIES:Aerobic,Classes,Cycle
END:VEVENT
BEGIN:VEVENT
DTSTART;TZID=Europe/London:20250930T070000
DTEND;TZID=Europe/London:20250930T140000
DTSTAMP:20260422T232043
CREATED:20250922T154734Z
LAST-MODIFIED:20250922T154734Z
UID:10001530-1759215600-1759240800@www.tonbridgeschoolcentre.co.uk
SUMMARY:Sauna
DESCRIPTION:
URL:https://www.tonbridgeschoolcentre.co.uk/event/sauna-144/
CATEGORIES:Sauna
END:VEVENT
BEGIN:VEVENT
DTSTART;TZID=Europe/London:20250930T070000
DTEND;TZID=Europe/London:20250930T140000
DTSTAMP:20260422T232043
CREATED:20250922T163441Z
LAST-MODIFIED:20250922T163441Z
UID:10001561-1759215600-1759240800@www.tonbridgeschoolcentre.co.uk
SUMMARY:Athletics Track
DESCRIPTION:Inside two lanes of the Track are not to be used.
URL:https://www.tonbridgeschoolcentre.co.uk/event/athletics-track-87/
CATEGORIES:Athletics Track
END:VEVENT
BEGIN:VEVENT
DTSTART;TZID=Europe/London:20250930T070000
DTEND;TZID=Europe/London:20250930T140000
DTSTAMP:20260422T232043
CREATED:20250922T164143Z
LAST-MODIFIED:20250922T164143Z
UID:10001570-1759215600-1759240800@www.tonbridgeschoolcentre.co.uk
SUMMARY:Clay Tennis Courts
DESCRIPTION:Tennis courts can be booked online or via the TSC reception.
URL:https://www.tonbridgeschoolcentre.co.uk/event/clay-tennis-courts-131/
CATEGORIES:Clay Tennis Courts
END:VEVENT
BEGIN:VEVENT
DTSTART;TZID=Europe/London:20250930T073000
DTEND;TZID=Europe/London:20250930T084500
DTSTAMP:20260422T232043
CREATED:20250922T152802Z
LAST-MODIFIED:20250922T152802Z
UID:10001497-1759217400-1759221900@www.tonbridgeschoolcentre.co.uk
SUMMARY:Members Swim
DESCRIPTION:Lane Swimming in half the pool and casual swimming in half the pool\, for Adult and Children Members. \nPlease note on Tuesday morning 11:30am – 1:30pm the swimming pool and Fitness Suite is shared with Active Life Members.
URL:https://www.tonbridgeschoolcentre.co.uk/event/members-swim-166/
CATEGORIES:Members Swim,Swimming
END:VEVENT
BEGIN:VEVENT
DTSTART;TZID=Europe/London:20250930T084500
DTEND;TZID=Europe/London:20250930T093000
DTSTAMP:20260422T232043
CREATED:20250922T153003Z
LAST-MODIFIED:20250922T153003Z
UID:10001498-1759221900-1759224600@www.tonbridgeschoolcentre.co.uk
SUMMARY:Adult Only Lane Swimming
DESCRIPTION:Lane Swimming in the pool for Adult Members only (aged 16+) in a single lane with another activity in the other side of the pool. \nPlease note on Tuesday morning 11:30am – 1:30pm the swimming pool and Fitness Suite is shared with Active Life Members.
URL:https://www.tonbridgeschoolcentre.co.uk/event/adult-only-lane-swimming-74/
CATEGORIES:Adult Only Lane Swimming,Swimming
END:VEVENT
BEGIN:VEVENT
DTSTART;TZID=Europe/London:20250930T084500
DTEND;TZID=Europe/London:20250930T093000
DTSTAMP:20260422T232043
CREATED:20250923T075011Z
LAST-MODIFIED:20250923T075011Z
UID:10001596-1759221900-1759224600@www.tonbridgeschoolcentre.co.uk
SUMMARY:Class: Aqua
DESCRIPTION:Instructor: Monica.
URL:https://www.tonbridgeschoolcentre.co.uk/event/class-aqua-16/
CATEGORIES:Aqua,Classes,Water Based
END:VEVENT
BEGIN:VEVENT
DTSTART;TZID=Europe/London:20250930T084500
DTEND;TZID=Europe/London:20250930T093000
DTSTAMP:20260422T232043
CREATED:20250923T075133Z
LAST-MODIFIED:20250923T075133Z
UID:10001597-1759221900-1759224600@www.tonbridgeschoolcentre.co.uk
SUMMARY:Class: Cycle
DESCRIPTION:Instructor: Josh V.
URL:https://www.tonbridgeschoolcentre.co.uk/event/class-cycle-54/
CATEGORIES:Aerobic,Classes,Cycle
END:VEVENT
BEGIN:VEVENT
DTSTART;TZID=Europe/London:20250930T093000
DTEND;TZID=Europe/London:20250930T140000
DTSTAMP:20260422T232043
CREATED:20250922T153003Z
LAST-MODIFIED:20250922T153003Z
UID:10001499-1759224600-1759240800@www.tonbridgeschoolcentre.co.uk
SUMMARY:Members Swim
DESCRIPTION:Lane Swimming in half the pool and casual swimming in half the pool\, for Adult and Children Members. \nPlease note on Tuesday morning 11:30am – 1:30pm the swimming pool and Fitness Suite is shared with Active Life Members.
URL:https://www.tonbridgeschoolcentre.co.uk/event/members-swim-167/
CATEGORIES:Members Swim,Swimming
END:VEVENT
BEGIN:VEVENT
DTSTART;TZID=Europe/London:20250930T100000
DTEND;TZID=Europe/London:20250930T110000
DTSTAMP:20260422T232043
CREATED:20250923T075134Z
LAST-MODIFIED:20250923T075134Z
UID:10001598-1759226400-1759230000@www.tonbridgeschoolcentre.co.uk
SUMMARY:Class: Tai Chi
DESCRIPTION:Instructor: Angela.
URL:https://www.tonbridgeschoolcentre.co.uk/event/class-tai-chi-9/
CATEGORIES:Classes,Flexibility & Core,Tai Chi
END:VEVENT
BEGIN:VEVENT
DTSTART;TZID=Europe/London:20250930T113000
DTEND;TZID=Europe/London:20250930T123000
DTSTAMP:20260422T232043
CREATED:20250922T115937Z
LAST-MODIFIED:20250922T142402Z
UID:10001482-1759231800-1759235400@www.tonbridgeschoolcentre.co.uk
SUMMARY:Active Life: Yoga (Studio)
DESCRIPTION:Instructor: Angela
URL:https://www.tonbridgeschoolcentre.co.uk/event/active-life-yoga-studio-10/
CATEGORIES:Active Life
END:VEVENT
END:VCALENDAR