BEGIN:VCALENDAR
VERSION:2.0
PRODID:-//Tonbridge School Centre - ECPv6.15.18//NONSGML v1.0//EN
CALSCALE:GREGORIAN
METHOD:PUBLISH
X-WR-CALNAME:Tonbridge School Centre
X-ORIGINAL-URL:https://www.tonbridgeschoolcentre.co.uk
X-WR-CALDESC:Events for Tonbridge School Centre
REFRESH-INTERVAL;VALUE=DURATION:PT1H
X-Robots-Tag:noindex
X-PUBLISHED-TTL:PT1H
BEGIN:VTIMEZONE
TZID:Europe/London
BEGIN:DAYLIGHT
TZOFFSETFROM:+0000
TZOFFSETTO:+0100
TZNAME:BST
DTSTART:20240331T010000
END:DAYLIGHT
BEGIN:STANDARD
TZOFFSETFROM:+0100
TZOFFSETTO:+0000
TZNAME:GMT
DTSTART:20241027T010000
END:STANDARD
BEGIN:DAYLIGHT
TZOFFSETFROM:+0000
TZOFFSETTO:+0100
TZNAME:BST
DTSTART:20250330T010000
END:DAYLIGHT
BEGIN:STANDARD
TZOFFSETFROM:+0100
TZOFFSETTO:+0000
TZNAME:GMT
DTSTART:20251026T010000
END:STANDARD
BEGIN:DAYLIGHT
TZOFFSETFROM:+0000
TZOFFSETTO:+0100
TZNAME:BST
DTSTART:20260329T010000
END:DAYLIGHT
BEGIN:STANDARD
TZOFFSETFROM:+0100
TZOFFSETTO:+0000
TZNAME:GMT
DTSTART:20261025T010000
END:STANDARD
END:VTIMEZONE
BEGIN:VEVENT
DTSTART;TZID=Europe/London:20250919T084500
DTEND;TZID=Europe/London:20250919T094500
DTSTAMP:20260424T041305
CREATED:20250903T125447Z
LAST-MODIFIED:20250922T123845Z
UID:10001202-1758271500-1758275100@www.tonbridgeschoolcentre.co.uk
SUMMARY:Class: Triple Threat
DESCRIPTION:Instructor: Ellie  \nA great all-round class to give you a full body workout. As the classes are split into blocks of activity there’s something for everyone and it allows you to work at your own pace\, building to strength and stamina over time.
URL:https://www.tonbridgeschoolcentre.co.uk/event/class-triple-threat-20/
CATEGORIES:Aerobic,Classes,Triple Threat
END:VEVENT
BEGIN:VEVENT
DTSTART;TZID=Europe/London:20250919T073000
DTEND;TZID=Europe/London:20250919T103000
DTSTAMP:20260424T041305
CREATED:20250903T143931Z
LAST-MODIFIED:20250922T102617Z
UID:10001298-1758267000-1758277800@www.tonbridgeschoolcentre.co.uk
SUMMARY:Members Swim
DESCRIPTION:Lane Swimming in half the pool and casual swimming in half the pool\, for Adult and Children Members. \nPlease note on Tuesday morning 11:30am – 1:30pm the swimming pool and Fitness Suite is shared with Active Life Members.
URL:https://www.tonbridgeschoolcentre.co.uk/event/members-swim-136/
CATEGORIES:Members Swim,Swimming
END:VEVENT
BEGIN:VEVENT
DTSTART;TZID=Europe/London:20250919T070000
DTEND;TZID=Europe/London:20250919T160000
DTSTAMP:20260424T041305
CREATED:20250903T145115Z
LAST-MODIFIED:20250922T110607Z
UID:10001345-1758265200-1758297600@www.tonbridgeschoolcentre.co.uk
SUMMARY:Athletics Track
DESCRIPTION:Inside two lanes of the Track are not to be used.
URL:https://www.tonbridgeschoolcentre.co.uk/event/athletics-track-72/
CATEGORIES:Athletics Track
END:VEVENT
BEGIN:VEVENT
DTSTART;TZID=Europe/London:20250919T070000
DTEND;TZID=Europe/London:20250919T140000
DTSTAMP:20260424T041305
CREATED:20250903T145137Z
LAST-MODIFIED:20250922T111311Z
UID:10001357-1758265200-1758290400@www.tonbridgeschoolcentre.co.uk
SUMMARY:Clay Tennis Courts
DESCRIPTION:Tennis courts can be booked online or via the TSC reception.
URL:https://www.tonbridgeschoolcentre.co.uk/event/clay-tennis-courts-108/
CATEGORIES:Clay Tennis Courts
END:VEVENT
BEGIN:VEVENT
DTSTART;TZID=Europe/London:20250919T070000
DTEND;TZID=Europe/London:20250919T140000
DTSTAMP:20260424T041305
CREATED:20250903T144029Z
LAST-MODIFIED:20250922T104456Z
UID:10001320-1758265200-1758290400@www.tonbridgeschoolcentre.co.uk
SUMMARY:Sauna
DESCRIPTION:
URL:https://www.tonbridgeschoolcentre.co.uk/event/sauna-119/
CATEGORIES:Sauna
END:VEVENT
BEGIN:VEVENT
DTSTART;TZID=Europe/London:20250919T061500
DTEND;TZID=Europe/London:20250919T070000
DTSTAMP:20260424T041305
CREATED:20250903T125447Z
LAST-MODIFIED:20250922T123844Z
UID:10001201-1758262500-1758265200@www.tonbridgeschoolcentre.co.uk
SUMMARY:Class: Freestyle Fitness Yoga
DESCRIPTION:Instructor: Monica  \nA great all-round class to give you a full body workout. As the classes are split into blocks of activity there’s something for everyone and it allows you to work at your own pace\, building to strength and stamina over time.
URL:https://www.tonbridgeschoolcentre.co.uk/event/class-freestyle-fitness-yoga-6/
CATEGORIES:Classes,Freestyle Fitness Yoga,Mind & Body
END:VEVENT
BEGIN:VEVENT
DTSTART;TZID=Europe/London:20250919T060000
DTEND;TZID=Europe/London:20250919T163000
DTSTAMP:20260424T041305
CREATED:20250903T144132Z
LAST-MODIFIED:20250922T105601Z
UID:10001334-1758261600-1758299400@www.tonbridgeschoolcentre.co.uk
SUMMARY:Fitness Suite
DESCRIPTION:Please note on Tuesday morning 11:30am – 1:30pm the swimming pool and Fitness Suite is shared with Active Life Members.
URL:https://www.tonbridgeschoolcentre.co.uk/event/fitness-suite-126/
CATEGORIES:Fitness Suite
END:VEVENT
BEGIN:VEVENT
DTSTART;TZID=Europe/London:20250919T060000
DTEND;TZID=Europe/London:20250919T073000
DTSTAMP:20260424T041305
CREATED:20250903T143931Z
LAST-MODIFIED:20250922T102617Z
UID:10001297-1758261600-1758267000@www.tonbridgeschoolcentre.co.uk
SUMMARY:Lane Swimming
DESCRIPTION:Lane Swimming in the pool for adults and children in a single lane with another activity in the other side of the pool. \nPlease note on Tuesday morning 11:30am – 1:30pm the swimming pool and Fitness Suite is shared with Active Life Members.
URL:https://www.tonbridgeschoolcentre.co.uk/event/lane-swimming-33/
CATEGORIES:Lane Swimming,Swimming
END:VEVENT
BEGIN:VEVENT
DTSTART;TZID=Europe/London:20250918T201500
DTEND;TZID=Europe/London:20250918T210000
DTSTAMP:20260424T041305
CREATED:20250903T145136Z
LAST-MODIFIED:20250922T111110Z
UID:10001356-1758226500-1758229200@www.tonbridgeschoolcentre.co.uk
SUMMARY:Clay Tennis Courts
DESCRIPTION:Tennis courts can be booked online or via the TSC reception.
URL:https://www.tonbridgeschoolcentre.co.uk/event/clay-tennis-courts-107/
CATEGORIES:Clay Tennis Courts
END:VEVENT
BEGIN:VEVENT
DTSTART;TZID=Europe/London:20250918T190000
DTEND;TZID=Europe/London:20250918T200000
DTSTAMP:20260424T041305
CREATED:20250903T143931Z
LAST-MODIFIED:20250922T102500Z
UID:10001296-1758222000-1758225600@www.tonbridgeschoolcentre.co.uk
SUMMARY:Adult Only Members Swim
DESCRIPTION:Lane Swimming in half the pool and casual swimming in half the pool\, for Adult Members only (aged 16+). \nPlease note on Tuesday morning 11:30am – 1:30pm the swimming pool and Fitness Suite is shared with Active Life Members.
URL:https://www.tonbridgeschoolcentre.co.uk/event/adult-only-members-swim-28/
CATEGORIES:Adult Only Members Swim,Swimming
END:VEVENT
BEGIN:VEVENT
DTSTART;TZID=Europe/London:20250918T190000
DTEND;TZID=Europe/London:20250918T194500
DTSTAMP:20260424T041305
CREATED:20250903T125446Z
LAST-MODIFIED:20250922T123844Z
UID:10001200-1758222000-1758224700@www.tonbridgeschoolcentre.co.uk
SUMMARY:Class: Circuits
DESCRIPTION:Instructor: Simon  \nA great all-round class to give you a full body workout. As the classes are split into blocks of activity there’s something for everyone and it allows you to work at your own pace\, building to strength and stamina over time.
URL:https://www.tonbridgeschoolcentre.co.uk/event/class-circuits-13/
CATEGORIES:Circuits,Classes,Strength
END:VEVENT
BEGIN:VEVENT
DTSTART;TZID=Europe/London:20250918T180000
DTEND;TZID=Europe/London:20250918T210000
DTSTAMP:20260424T041305
CREATED:20250903T144132Z
LAST-MODIFIED:20250922T105601Z
UID:10001333-1758218400-1758229200@www.tonbridgeschoolcentre.co.uk
SUMMARY:Fitness Suite
DESCRIPTION:Please note on Tuesday morning 11:30am – 1:30pm the swimming pool and Fitness Suite is shared with Active Life Members.
URL:https://www.tonbridgeschoolcentre.co.uk/event/fitness-suite-125/
CATEGORIES:Fitness Suite
END:VEVENT
BEGIN:VEVENT
DTSTART;TZID=Europe/London:20250918T180000
DTEND;TZID=Europe/London:20250918T184500
DTSTAMP:20260424T041305
CREATED:20250903T125247Z
LAST-MODIFIED:20250922T123125Z
UID:10001198-1758218400-1758221100@www.tonbridgeschoolcentre.co.uk
SUMMARY:Class: Cycle
DESCRIPTION:Instructor: Marie  \nA great all-round class to give you a full body workout. As the classes are split into blocks of activity there’s something for everyone and it allows you to work at your own pace\, building to strength and stamina over time.
URL:https://www.tonbridgeschoolcentre.co.uk/event/class-cycle-42/
CATEGORIES:Aerobic,Classes,Cycle
END:VEVENT
BEGIN:VEVENT
DTSTART;TZID=Europe/London:20250918T180000
DTEND;TZID=Europe/London:20250918T184500
DTSTAMP:20260424T041305
CREATED:20250903T125247Z
LAST-MODIFIED:20250922T123125Z
UID:10001199-1758218400-1758221100@www.tonbridgeschoolcentre.co.uk
SUMMARY:Class: Remix
DESCRIPTION:Instructor: Sherry  \nA great all-round class to give you a full body workout. As the classes are split into blocks of activity there’s something for everyone and it allows you to work at your own pace\, building to strength and stamina over time.
URL:https://www.tonbridgeschoolcentre.co.uk/event/class-remix-7/
CATEGORIES:Classes,Dance,Remix
END:VEVENT
BEGIN:VEVENT
DTSTART;TZID=Europe/London:20250918T173000
DTEND;TZID=Europe/London:20250918T210000
DTSTAMP:20260424T041305
CREATED:20250903T144028Z
LAST-MODIFIED:20250922T104456Z
UID:10001319-1758216600-1758229200@www.tonbridgeschoolcentre.co.uk
SUMMARY:Sauna
DESCRIPTION:
URL:https://www.tonbridgeschoolcentre.co.uk/event/sauna-118/
CATEGORIES:Sauna
END:VEVENT
BEGIN:VEVENT
DTSTART;TZID=Europe/London:20250918T173000
DTEND;TZID=Europe/London:20250918T190000
DTSTAMP:20260424T041305
CREATED:20250903T143931Z
LAST-MODIFIED:20250922T102500Z
UID:10001295-1758216600-1758222000@www.tonbridgeschoolcentre.co.uk
SUMMARY:Members Swim
DESCRIPTION:Lane Swimming in half the pool and casual swimming in half the pool\, for Adult and Children Members. \nPlease note on Tuesday morning 11:30am – 1:30pm the swimming pool and Fitness Suite is shared with Active Life Members.
URL:https://www.tonbridgeschoolcentre.co.uk/event/members-swim-135/
CATEGORIES:Members Swim,Swimming
END:VEVENT
BEGIN:VEVENT
DTSTART;TZID=Europe/London:20250918T130000
DTEND;TZID=Europe/London:20250918T140000
DTSTAMP:20260424T041305
CREATED:20250903T144132Z
LAST-MODIFIED:20250922T105601Z
UID:10001332-1758200400-1758204000@www.tonbridgeschoolcentre.co.uk
SUMMARY:Fitness Suite
DESCRIPTION:Please note on Tuesday morning 11:30am – 1:30pm the swimming pool and Fitness Suite is shared with Active Life Members.
URL:https://www.tonbridgeschoolcentre.co.uk/event/fitness-suite-124/
CATEGORIES:Fitness Suite
END:VEVENT
BEGIN:VEVENT
DTSTART;TZID=Europe/London:20250918T114500
DTEND;TZID=Europe/London:20250918T140000
DTSTAMP:20260424T041305
CREATED:20250903T143731Z
LAST-MODIFIED:20250908T140648Z
UID:10001294-1758195900-1758204000@www.tonbridgeschoolcentre.co.uk
SUMMARY:Members Swim
DESCRIPTION:Lane Swimming in half the pool and casual swimming in half the pool\, for Adult and Children Members. \nPlease note on Tuesday morning 11:30am – 1:30pm the swimming pool and Fitness Suite is shared with Active Life Members.
URL:https://www.tonbridgeschoolcentre.co.uk/event/members-swim-134/
CATEGORIES:Members Swim,Swimming
END:VEVENT
BEGIN:VEVENT
DTSTART;TZID=Europe/London:20250918T114500
DTEND;TZID=Europe/London:20250918T124500
DTSTAMP:20260424T041305
CREATED:20250903T125247Z
LAST-MODIFIED:20250922T123125Z
UID:10001197-1758195900-1758199500@www.tonbridgeschoolcentre.co.uk
SUMMARY:Class: Strength & Stretch
DESCRIPTION:Instructor: Ellie  \nA great all-round class to give you a full body workout. As the classes are split into blocks of activity there’s something for everyone and it allows you to work at your own pace\, building to strength and stamina over time.
URL:https://www.tonbridgeschoolcentre.co.uk/event/class-strength-stretch-7/
CATEGORIES:Classes,Strength,Strength & Stretch
END:VEVENT
BEGIN:VEVENT
DTSTART;TZID=Europe/London:20250918T111500
DTEND;TZID=Europe/London:20250918T140000
DTSTAMP:20260424T041305
CREATED:20250922T102459Z
LAST-MODIFIED:20250922T102459Z
UID:10001465-1758194100-1758204000@www.tonbridgeschoolcentre.co.uk
SUMMARY:Members Swim
DESCRIPTION:Lane Swimming in half the pool and casual swimming in half the pool\, for Adult and Children Members. \nPlease note on Tuesday morning 11:30am – 1:30pm the swimming pool and Fitness Suite is shared with Active Life Members.
URL:https://www.tonbridgeschoolcentre.co.uk/event/members-swim-162/
CATEGORIES:Members Swim,Swimming
END:VEVENT
BEGIN:VEVENT
DTSTART;TZID=Europe/London:20250918T104500
DTEND;TZID=Europe/London:20250918T113000
DTSTAMP:20260424T041305
CREATED:20250903T125246Z
LAST-MODIFIED:20250922T123124Z
UID:10001196-1758192300-1758195000@www.tonbridgeschoolcentre.co.uk
SUMMARY:Class: Core Classics
DESCRIPTION:Instructor: Ellie  \nA great all-round class to give you a full body workout. As the classes are split into blocks of activity there’s something for everyone and it allows you to work at your own pace\, building to strength and stamina over time.
URL:https://www.tonbridgeschoolcentre.co.uk/event/class-core-classics-10/
CATEGORIES:Classes,Core Classics,Flexibility & Core
END:VEVENT
BEGIN:VEVENT
DTSTART;TZID=Europe/London:20250918T090000
DTEND;TZID=Europe/London:20250918T101500
DTSTAMP:20260424T041305
CREATED:20250903T125246Z
LAST-MODIFIED:20250922T123124Z
UID:10001195-1758186000-1758190500@www.tonbridgeschoolcentre.co.uk
SUMMARY:Class: Hatha Yoga
DESCRIPTION:Instructor: Leila  \nA great all-round class to give you a full body workout. As the classes are split into blocks of activity there’s something for everyone and it allows you to work at your own pace\, building to strength and stamina over time.
URL:https://www.tonbridgeschoolcentre.co.uk/event/class-hatha-yoga-13/
CATEGORIES:Classes,Hatha Yoga,Mind & Body
END:VEVENT
BEGIN:VEVENT
DTSTART;TZID=Europe/London:20250918T084500
DTEND;TZID=Europe/London:20250918T114500
DTSTAMP:20260424T041305
CREATED:20250903T143730Z
LAST-MODIFIED:20250922T102459Z
UID:10001293-1758185100-1758195900@www.tonbridgeschoolcentre.co.uk
SUMMARY:Adult Only Lane Swimming
DESCRIPTION:Lane Swimming in the pool for Adult Members only (aged 16+) in a single lane with another activity in the other side of the pool. \nPlease note on Tuesday morning 11:30am – 1:30pm the swimming pool and Fitness Suite is shared with Active Life Members.
URL:https://www.tonbridgeschoolcentre.co.uk/event/adult-only-lane-swimming-63/
CATEGORIES:Adult Only Lane Swimming,Swimming
END:VEVENT
BEGIN:VEVENT
DTSTART;TZID=Europe/London:20250918T084500
DTEND;TZID=Europe/London:20250918T093000
DTSTAMP:20260424T041305
CREATED:20250903T125145Z
LAST-MODIFIED:20250922T122924Z
UID:10001194-1758185100-1758187800@www.tonbridgeschoolcentre.co.uk
SUMMARY:Class: Aqua
DESCRIPTION:Instructor: Alex  \nA great all-round class to give you a full body workout. As the classes are split into blocks of activity there’s something for everyone and it allows you to work at your own pace\, building to strength and stamina over time.
URL:https://www.tonbridgeschoolcentre.co.uk/event/class-aqua-13/
CATEGORIES:Aqua,Classes,Water Based
END:VEVENT
BEGIN:VEVENT
DTSTART;TZID=Europe/London:20250918T070000
DTEND;TZID=Europe/London:20250918T140000
DTSTAMP:20260424T041305
CREATED:20250903T145136Z
LAST-MODIFIED:20250922T111110Z
UID:10001355-1758178800-1758204000@www.tonbridgeschoolcentre.co.uk
SUMMARY:Clay Tennis Courts
DESCRIPTION:Tennis courts can be booked online or via the TSC reception.
URL:https://www.tonbridgeschoolcentre.co.uk/event/clay-tennis-courts-106/
CATEGORIES:Clay Tennis Courts
END:VEVENT
BEGIN:VEVENT
DTSTART;TZID=Europe/London:20250918T070000
DTEND;TZID=Europe/London:20250918T140000
DTSTAMP:20260424T041305
CREATED:20250903T145112Z
LAST-MODIFIED:20250922T110407Z
UID:10001344-1758178800-1758204000@www.tonbridgeschoolcentre.co.uk
SUMMARY:Athletics Track
DESCRIPTION:Inside two lanes of the Track are not to be used.
URL:https://www.tonbridgeschoolcentre.co.uk/event/athletics-track-71/
CATEGORIES:Athletics Track
END:VEVENT
BEGIN:VEVENT
DTSTART;TZID=Europe/London:20250918T070000
DTEND;TZID=Europe/London:20250918T140000
DTSTAMP:20260424T041305
CREATED:20250903T144028Z
LAST-MODIFIED:20250922T104455Z
UID:10001318-1758178800-1758204000@www.tonbridgeschoolcentre.co.uk
SUMMARY:Sauna
DESCRIPTION:
URL:https://www.tonbridgeschoolcentre.co.uk/event/sauna-117/
CATEGORIES:Sauna
END:VEVENT
BEGIN:VEVENT
DTSTART;TZID=Europe/London:20250918T061500
DTEND;TZID=Europe/London:20250918T070000
DTSTAMP:20260424T041305
CREATED:20250903T125145Z
LAST-MODIFIED:20250922T122923Z
UID:10001193-1758176100-1758178800@www.tonbridgeschoolcentre.co.uk
SUMMARY:Class: Circuits
DESCRIPTION:Instructor: Ellie  \nA great all-round class to give you a full body workout. As the classes are split into blocks of activity there’s something for everyone and it allows you to work at your own pace\, building to strength and stamina over time.
URL:https://www.tonbridgeschoolcentre.co.uk/event/class-circuits-12/
CATEGORIES:Circuits,Classes,Strength
END:VEVENT
BEGIN:VEVENT
DTSTART;TZID=Europe/London:20250918T060000
DTEND;TZID=Europe/London:20250918T114500
DTSTAMP:20260424T041305
CREATED:20250903T144132Z
LAST-MODIFIED:20250922T105401Z
UID:10001331-1758175200-1758195900@www.tonbridgeschoolcentre.co.uk
SUMMARY:Fitness Suite
DESCRIPTION:Please note on Tuesday morning 11:30am – 1:30pm the swimming pool and Fitness Suite is shared with Active Life Members.
URL:https://www.tonbridgeschoolcentre.co.uk/event/fitness-suite-123/
CATEGORIES:Fitness Suite
END:VEVENT
BEGIN:VEVENT
DTSTART;TZID=Europe/London:20250918T060000
DTEND;TZID=Europe/London:20250918T084500
DTSTAMP:20260424T041305
CREATED:20250903T143730Z
LAST-MODIFIED:20250922T102459Z
UID:10001292-1758175200-1758185100@www.tonbridgeschoolcentre.co.uk
SUMMARY:Members Swim
DESCRIPTION:Lane Swimming in half the pool and casual swimming in half the pool\, for Adult and Children Members. \nPlease note on Tuesday morning 11:30am – 1:30pm the swimming pool and Fitness Suite is shared with Active Life Members.
URL:https://www.tonbridgeschoolcentre.co.uk/event/members-swim-133/
CATEGORIES:Members Swim,Swimming
END:VEVENT
END:VCALENDAR