BEGIN:VCALENDAR
VERSION:2.0
PRODID:-//Tonbridge School Centre - ECPv6.15.18//NONSGML v1.0//EN
CALSCALE:GREGORIAN
METHOD:PUBLISH
X-WR-CALNAME:Tonbridge School Centre
X-ORIGINAL-URL:https://www.tonbridgeschoolcentre.co.uk
X-WR-CALDESC:Events for Tonbridge School Centre
REFRESH-INTERVAL;VALUE=DURATION:PT1H
X-Robots-Tag:noindex
X-PUBLISHED-TTL:PT1H
BEGIN:VTIMEZONE
TZID:Europe/London
BEGIN:DAYLIGHT
TZOFFSETFROM:+0000
TZOFFSETTO:+0100
TZNAME:BST
DTSTART:20240331T010000
END:DAYLIGHT
BEGIN:STANDARD
TZOFFSETFROM:+0100
TZOFFSETTO:+0000
TZNAME:GMT
DTSTART:20241027T010000
END:STANDARD
BEGIN:DAYLIGHT
TZOFFSETFROM:+0000
TZOFFSETTO:+0100
TZNAME:BST
DTSTART:20250330T010000
END:DAYLIGHT
BEGIN:STANDARD
TZOFFSETFROM:+0100
TZOFFSETTO:+0000
TZNAME:GMT
DTSTART:20251026T010000
END:STANDARD
BEGIN:DAYLIGHT
TZOFFSETFROM:+0000
TZOFFSETTO:+0100
TZNAME:BST
DTSTART:20260329T010000
END:DAYLIGHT
BEGIN:STANDARD
TZOFFSETFROM:+0100
TZOFFSETTO:+0000
TZNAME:GMT
DTSTART:20261025T010000
END:STANDARD
END:VTIMEZONE
BEGIN:VEVENT
DTSTART;TZID=Europe/London:20250920T103000
DTEND;TZID=Europe/London:20250920T111500
DTSTAMP:20260424T011839
CREATED:20250903T125653Z
LAST-MODIFIED:20250922T124146Z
UID:10001211-1758364200-1758366900@www.tonbridgeschoolcentre.co.uk
SUMMARY:Class: Pure Pump
DESCRIPTION:Instructor: Charlotte  \nA great all-round class to give you a full body workout. As the classes are split into blocks of activity there’s something for everyone and it allows you to work at your own pace\, building to strength and stamina over time.
URL:https://www.tonbridgeschoolcentre.co.uk/event/class-pure-pump-6/
CATEGORIES:Aerobic,Classes,Pure Pump
END:VEVENT
BEGIN:VEVENT
DTSTART;TZID=Europe/London:20250920T100000
DTEND;TZID=Europe/London:20250920T140000
DTSTAMP:20260424T011839
CREATED:20250903T145116Z
LAST-MODIFIED:20250922T110607Z
UID:10001346-1758362400-1758376800@www.tonbridgeschoolcentre.co.uk
SUMMARY:Athletics Track
DESCRIPTION:Inside two lanes of the Track are not to be used.
URL:https://www.tonbridgeschoolcentre.co.uk/event/athletics-track-73/
CATEGORIES:Athletics Track
END:VEVENT
BEGIN:VEVENT
DTSTART;TZID=Europe/London:20250920T094500
DTEND;TZID=Europe/London:20250920T101500
DTSTAMP:20260424T011839
CREATED:20250903T125653Z
LAST-MODIFIED:20250922T124146Z
UID:10001210-1758361500-1758363300@www.tonbridgeschoolcentre.co.uk
SUMMARY:Class: Beginners/Family Cycle
DESCRIPTION:Instructor: Jade  \nA great all-round class to give you a full body workout. As the classes are split into blocks of activity there’s something for everyone and it allows you to work at your own pace\, building to strength and stamina over time.
URL:https://www.tonbridgeschoolcentre.co.uk/event/class-beginners-family-cycle-6/
CATEGORIES:Aerobic,Beginners/Family Cycle,Classes
END:VEVENT
BEGIN:VEVENT
DTSTART;TZID=Europe/London:20250920T093000
DTEND;TZID=Europe/London:20250920T110000
DTSTAMP:20260424T011839
CREATED:20250903T144008Z
LAST-MODIFIED:20250922T102718Z
UID:10001304-1758360600-1758366000@www.tonbridgeschoolcentre.co.uk
SUMMARY:Family Splash
DESCRIPTION:Sessions for families in half the pool with floats and Lane Swimming in the other half. (no sinkers are allowed in these sessions). \nPlease note on Tuesday morning 11:30am – 1:30pm the swimming pool and Fitness Suite is shared with Active Life Members.
URL:https://www.tonbridgeschoolcentre.co.uk/event/family-splash-16/
CATEGORIES:Family Splash,Swimming
END:VEVENT
BEGIN:VEVENT
DTSTART;TZID=Europe/London:20250920T090000
DTEND;TZID=Europe/London:20250920T140000
DTSTAMP:20260424T011839
CREATED:20250903T144030Z
LAST-MODIFIED:20250922T104656Z
UID:10001323-1758358800-1758376800@www.tonbridgeschoolcentre.co.uk
SUMMARY:Sauna
DESCRIPTION:
URL:https://www.tonbridgeschoolcentre.co.uk/event/sauna-122/
CATEGORIES:Sauna
END:VEVENT
BEGIN:VEVENT
DTSTART;TZID=Europe/London:20250920T084500
DTEND;TZID=Europe/London:20250920T093000
DTSTAMP:20260424T011839
CREATED:20250903T125553Z
LAST-MODIFIED:20250922T123945Z
UID:10001209-1758357900-1758360600@www.tonbridgeschoolcentre.co.uk
SUMMARY:Class: Cycle
DESCRIPTION:Instructor: Jade  \nA great all-round class to give you a full body workout. As the classes are split into blocks of activity there’s something for everyone and it allows you to work at your own pace\, building to strength and stamina over time.
URL:https://www.tonbridgeschoolcentre.co.uk/event/class-cycle-44/
CATEGORIES:Aerobic,Classes,Cycle
END:VEVENT
BEGIN:VEVENT
DTSTART;TZID=Europe/London:20250920T080000
DTEND;TZID=Europe/London:20250920T140000
DTSTAMP:20260424T011839
CREATED:20250903T144801Z
LAST-MODIFIED:20250922T105601Z
UID:10001336-1758355200-1758376800@www.tonbridgeschoolcentre.co.uk
SUMMARY:Fitness Suite
DESCRIPTION:Please note on Tuesday morning 11:30am – 1:30pm the swimming pool and Fitness Suite is shared with Active Life Members.
URL:https://www.tonbridgeschoolcentre.co.uk/event/fitness-suite-128/
CATEGORIES:Fitness Suite
END:VEVENT
BEGIN:VEVENT
DTSTART;TZID=Europe/London:20250920T080000
DTEND;TZID=Europe/London:20250920T130000
DTSTAMP:20260424T011839
CREATED:20250903T145137Z
LAST-MODIFIED:20250922T111312Z
UID:10001359-1758355200-1758373200@www.tonbridgeschoolcentre.co.uk
SUMMARY:Clay Tennis Courts
DESCRIPTION:Tennis courts can be booked online or via the TSC reception.
URL:https://www.tonbridgeschoolcentre.co.uk/event/clay-tennis-courts-110/
CATEGORIES:Clay Tennis Courts
END:VEVENT
BEGIN:VEVENT
DTSTART;TZID=Europe/London:20250920T080000
DTEND;TZID=Europe/London:20250920T093000
DTSTAMP:20260424T011839
CREATED:20250903T144007Z
LAST-MODIFIED:20250922T102718Z
UID:10001303-1758355200-1758360600@www.tonbridgeschoolcentre.co.uk
SUMMARY:Members Swim
DESCRIPTION:Lane Swimming in half the pool and casual swimming in half the pool\, for Adult and Children Members. \nPlease note on Tuesday morning 11:30am – 1:30pm the swimming pool and Fitness Suite is shared with Active Life Members.
URL:https://www.tonbridgeschoolcentre.co.uk/event/members-swim-140/
CATEGORIES:Members Swim,Swimming
END:VEVENT
BEGIN:VEVENT
DTSTART;TZID=Europe/London:20250919T181500
DTEND;TZID=Europe/London:20250919T210000
DTSTAMP:20260424T011839
CREATED:20250922T111312Z
LAST-MODIFIED:20250922T111312Z
UID:10001467-1758305700-1758315600@www.tonbridgeschoolcentre.co.uk
SUMMARY:Clay Tennis Courts
DESCRIPTION:Tennis courts can be booked online or via the TSC reception.
URL:https://www.tonbridgeschoolcentre.co.uk/event/clay-tennis-courts-128/
CATEGORIES:Clay Tennis Courts
END:VEVENT
BEGIN:VEVENT
DTSTART;TZID=Europe/London:20250919T181500
DTEND;TZID=Europe/London:20250919T191500
DTSTAMP:20260424T011839
CREATED:20250903T125553Z
LAST-MODIFIED:20250922T123945Z
UID:10001207-1758305700-1758309300@www.tonbridgeschoolcentre.co.uk
SUMMARY:Class: Mat Pilates
DESCRIPTION:Instructor: James  \nA great all-round class to give you a full body workout. As the classes are split into blocks of activity there’s something for everyone and it allows you to work at your own pace\, building to strength and stamina over time.
URL:https://www.tonbridgeschoolcentre.co.uk/event/class-mat-pilates-16/
CATEGORIES:Classes,Flexibility & Core,Mat Pilates
END:VEVENT
BEGIN:VEVENT
DTSTART;TZID=Europe/London:20250919T181500
DTEND;TZID=Europe/London:20250919T185500
DTSTAMP:20260424T011839
CREATED:20250903T125553Z
LAST-MODIFIED:20250922T123945Z
UID:10001208-1758305700-1758308100@www.tonbridgeschoolcentre.co.uk
SUMMARY:Class: HIIT
DESCRIPTION:Instructor: Jade  \nA great all-round class to give you a full body workout. As the classes are split into blocks of activity there’s something for everyone and it allows you to work at your own pace\, building to strength and stamina over time.
URL:https://www.tonbridgeschoolcentre.co.uk/event/class-hiit-12/
CATEGORIES:Aerobic,Classes,HIIT
END:VEVENT
BEGIN:VEVENT
DTSTART;TZID=Europe/London:20250919T180000
DTEND;TZID=Europe/London:20250919T210000
DTSTAMP:20260424T011839
CREATED:20250903T145137Z
LAST-MODIFIED:20250908T141007Z
UID:10001358-1758304800-1758315600@www.tonbridgeschoolcentre.co.uk
SUMMARY:Clay Tennis Courts
DESCRIPTION:Tennis courts can be booked online or via the TSC reception.
URL:https://www.tonbridgeschoolcentre.co.uk/event/clay-tennis-courts-109/
CATEGORIES:Clay Tennis Courts
END:VEVENT
BEGIN:VEVENT
DTSTART;TZID=Europe/London:20250919T180000
DTEND;TZID=Europe/London:20250919T210000
DTSTAMP:20260424T011839
CREATED:20250903T144801Z
LAST-MODIFIED:20250922T105601Z
UID:10001335-1758304800-1758315600@www.tonbridgeschoolcentre.co.uk
SUMMARY:Fitness Suite
DESCRIPTION:Please note on Tuesday morning 11:30am – 1:30pm the swimming pool and Fitness Suite is shared with Active Life Members.
URL:https://www.tonbridgeschoolcentre.co.uk/event/fitness-suite-127/
CATEGORIES:Fitness Suite
END:VEVENT
BEGIN:VEVENT
DTSTART;TZID=Europe/London:20250919T180000
DTEND;TZID=Europe/London:20250919T210000
DTSTAMP:20260424T011839
CREATED:20250903T144029Z
LAST-MODIFIED:20250922T104656Z
UID:10001322-1758304800-1758315600@www.tonbridgeschoolcentre.co.uk
SUMMARY:Sauna
DESCRIPTION:
URL:https://www.tonbridgeschoolcentre.co.uk/event/sauna-121/
CATEGORIES:Sauna
END:VEVENT
BEGIN:VEVENT
DTSTART;TZID=Europe/London:20250919T180000
DTEND;TZID=Europe/London:20250919T190000
DTSTAMP:20260424T011839
CREATED:20250903T144007Z
LAST-MODIFIED:20250922T102718Z
UID:10001302-1758304800-1758308400@www.tonbridgeschoolcentre.co.uk
SUMMARY:Members Swim
DESCRIPTION:Lane Swimming in half the pool and casual swimming in half the pool\, for Adult and Children Members. \nPlease note on Tuesday morning 11:30am – 1:30pm the swimming pool and Fitness Suite is shared with Active Life Members.
URL:https://www.tonbridgeschoolcentre.co.uk/event/members-swim-139/
CATEGORIES:Members Swim,Swimming
END:VEVENT
BEGIN:VEVENT
DTSTART;TZID=Europe/London:20250919T153000
DTEND;TZID=Europe/London:20250919T163000
DTSTAMP:20260424T011839
CREATED:20250903T144029Z
LAST-MODIFIED:20250922T104456Z
UID:10001321-1758295800-1758299400@www.tonbridgeschoolcentre.co.uk
SUMMARY:Sauna
DESCRIPTION:
URL:https://www.tonbridgeschoolcentre.co.uk/event/sauna-120/
CATEGORIES:Sauna
END:VEVENT
BEGIN:VEVENT
DTSTART;TZID=Europe/London:20250919T143000
DTEND;TZID=Europe/London:20250919T163000
DTSTAMP:20260424T011839
CREATED:20250903T144007Z
LAST-MODIFIED:20250922T102618Z
UID:10001301-1758292200-1758299400@www.tonbridgeschoolcentre.co.uk
SUMMARY:Members Swim
DESCRIPTION:Lane Swimming in half the pool and casual swimming in half the pool\, for Adult and Children Members. \nPlease note on Tuesday morning 11:30am – 1:30pm the swimming pool and Fitness Suite is shared with Active Life Members.
URL:https://www.tonbridgeschoolcentre.co.uk/event/members-swim-138/
CATEGORIES:Members Swim,Swimming
END:VEVENT
BEGIN:VEVENT
DTSTART;TZID=Europe/London:20250919T130000
DTEND;TZID=Europe/London:20250919T140000
DTSTAMP:20260424T011839
CREATED:20250903T125552Z
LAST-MODIFIED:20250922T123945Z
UID:10001205-1758286800-1758290400@www.tonbridgeschoolcentre.co.uk
SUMMARY:Class: Dance Fit
DESCRIPTION:Instructor: Monica  \nA great all-round class to give you a full body workout. As the classes are split into blocks of activity there’s something for everyone and it allows you to work at your own pace\, building to strength and stamina over time.
URL:https://www.tonbridgeschoolcentre.co.uk/event/class-dance-fit-23/
CATEGORIES:Classes,Dance,Dance Fit
END:VEVENT
BEGIN:VEVENT
DTSTART;TZID=Europe/London:20250919T130000
DTEND;TZID=Europe/London:20250919T134500
DTSTAMP:20260424T011839
CREATED:20250903T125552Z
LAST-MODIFIED:20250922T123945Z
UID:10001206-1758286800-1758289500@www.tonbridgeschoolcentre.co.uk
SUMMARY:Class: Cycle
DESCRIPTION:Instructor: Ellie  \nA great all-round class to give you a full body workout. As the classes are split into blocks of activity there’s something for everyone and it allows you to work at your own pace\, building to strength and stamina over time.
URL:https://www.tonbridgeschoolcentre.co.uk/event/class-cycle-43/
CATEGORIES:Aerobic,Classes,Cycle
END:VEVENT
BEGIN:VEVENT
DTSTART;TZID=Europe/London:20250919T123000
DTEND;TZID=Europe/London:20250919T133000
DTSTAMP:20260424T011839
CREATED:20250903T144007Z
LAST-MODIFIED:20250922T102618Z
UID:10001300-1758285000-1758288600@www.tonbridgeschoolcentre.co.uk
SUMMARY:Double Lane Swimming
DESCRIPTION:Lane swimming is for both adults and children in a double lane. Children must be competent swimmers who can confidently swim lengths. \nPlease note on Tuesday morning 11:30am – 1:30pm the swimming pool and Fitness Suite is shared with Active Life Members.
URL:https://www.tonbridgeschoolcentre.co.uk/event/double-lane-swimming-53/
CATEGORIES:Double Lane Swimming,Swimming
END:VEVENT
BEGIN:VEVENT
DTSTART;TZID=Europe/London:20250919T114500
DTEND;TZID=Europe/London:20250919T124500
DTSTAMP:20260424T011839
CREATED:20250903T125447Z
LAST-MODIFIED:20250922T123845Z
UID:10001204-1758282300-1758285900@www.tonbridgeschoolcentre.co.uk
SUMMARY:Class: Fitness Pilates
DESCRIPTION:Instructor: Chris  \nA great all-round class to give you a full body workout. As the classes are split into blocks of activity there’s something for everyone and it allows you to work at your own pace\, building to strength and stamina over time.
URL:https://www.tonbridgeschoolcentre.co.uk/event/class-fitness-pilates-6/
CATEGORIES:Classes,Fitness Pilates,Flexibility & Core
END:VEVENT
BEGIN:VEVENT
DTSTART;TZID=Europe/London:20250919T113000
DTEND;TZID=Europe/London:20250919T123000
DTSTAMP:20260424T011839
CREATED:20250903T143931Z
LAST-MODIFIED:20250922T102618Z
UID:10001299-1758281400-1758285000@www.tonbridgeschoolcentre.co.uk
SUMMARY:Members Swim
DESCRIPTION:Lane Swimming in half the pool and casual swimming in half the pool\, for Adult and Children Members. \nPlease note on Tuesday morning 11:30am – 1:30pm the swimming pool and Fitness Suite is shared with Active Life Members.
URL:https://www.tonbridgeschoolcentre.co.uk/event/members-swim-137/
CATEGORIES:Members Swim,Swimming
END:VEVENT
BEGIN:VEVENT
DTSTART;TZID=Europe/London:20250919T094500
DTEND;TZID=Europe/London:20250919T104500
DTSTAMP:20260424T011839
CREATED:20250903T125447Z
LAST-MODIFIED:20250922T123845Z
UID:10001203-1758275100-1758278700@www.tonbridgeschoolcentre.co.uk
SUMMARY:Class: Vinyasa Yoga
DESCRIPTION:Instructor: Sumiko  \nA great all-round class to give you a full body workout. As the classes are split into blocks of activity there’s something for everyone and it allows you to work at your own pace\, building to strength and stamina over time.
URL:https://www.tonbridgeschoolcentre.co.uk/event/class-vinyasa-yoga-39/
CATEGORIES:Classes,Mind & Body,Vinyasa Yoga
END:VEVENT
BEGIN:VEVENT
DTSTART;TZID=Europe/London:20250919T084500
DTEND;TZID=Europe/London:20250919T094500
DTSTAMP:20260424T011839
CREATED:20250903T125447Z
LAST-MODIFIED:20250922T123845Z
UID:10001202-1758271500-1758275100@www.tonbridgeschoolcentre.co.uk
SUMMARY:Class: Triple Threat
DESCRIPTION:Instructor: Ellie  \nA great all-round class to give you a full body workout. As the classes are split into blocks of activity there’s something for everyone and it allows you to work at your own pace\, building to strength and stamina over time.
URL:https://www.tonbridgeschoolcentre.co.uk/event/class-triple-threat-20/
CATEGORIES:Aerobic,Classes,Triple Threat
END:VEVENT
BEGIN:VEVENT
DTSTART;TZID=Europe/London:20250919T073000
DTEND;TZID=Europe/London:20250919T103000
DTSTAMP:20260424T011839
CREATED:20250903T143931Z
LAST-MODIFIED:20250922T102617Z
UID:10001298-1758267000-1758277800@www.tonbridgeschoolcentre.co.uk
SUMMARY:Members Swim
DESCRIPTION:Lane Swimming in half the pool and casual swimming in half the pool\, for Adult and Children Members. \nPlease note on Tuesday morning 11:30am – 1:30pm the swimming pool and Fitness Suite is shared with Active Life Members.
URL:https://www.tonbridgeschoolcentre.co.uk/event/members-swim-136/
CATEGORIES:Members Swim,Swimming
END:VEVENT
BEGIN:VEVENT
DTSTART;TZID=Europe/London:20250919T070000
DTEND;TZID=Europe/London:20250919T160000
DTSTAMP:20260424T011839
CREATED:20250903T145115Z
LAST-MODIFIED:20250922T110607Z
UID:10001345-1758265200-1758297600@www.tonbridgeschoolcentre.co.uk
SUMMARY:Athletics Track
DESCRIPTION:Inside two lanes of the Track are not to be used.
URL:https://www.tonbridgeschoolcentre.co.uk/event/athletics-track-72/
CATEGORIES:Athletics Track
END:VEVENT
BEGIN:VEVENT
DTSTART;TZID=Europe/London:20250919T070000
DTEND;TZID=Europe/London:20250919T140000
DTSTAMP:20260424T011839
CREATED:20250903T145137Z
LAST-MODIFIED:20250922T111311Z
UID:10001357-1758265200-1758290400@www.tonbridgeschoolcentre.co.uk
SUMMARY:Clay Tennis Courts
DESCRIPTION:Tennis courts can be booked online or via the TSC reception.
URL:https://www.tonbridgeschoolcentre.co.uk/event/clay-tennis-courts-108/
CATEGORIES:Clay Tennis Courts
END:VEVENT
BEGIN:VEVENT
DTSTART;TZID=Europe/London:20250919T070000
DTEND;TZID=Europe/London:20250919T140000
DTSTAMP:20260424T011839
CREATED:20250903T144029Z
LAST-MODIFIED:20250922T104456Z
UID:10001320-1758265200-1758290400@www.tonbridgeschoolcentre.co.uk
SUMMARY:Sauna
DESCRIPTION:
URL:https://www.tonbridgeschoolcentre.co.uk/event/sauna-119/
CATEGORIES:Sauna
END:VEVENT
BEGIN:VEVENT
DTSTART;TZID=Europe/London:20250919T061500
DTEND;TZID=Europe/London:20250919T070000
DTSTAMP:20260424T011839
CREATED:20250903T125447Z
LAST-MODIFIED:20250922T123844Z
UID:10001201-1758262500-1758265200@www.tonbridgeschoolcentre.co.uk
SUMMARY:Class: Freestyle Fitness Yoga
DESCRIPTION:Instructor: Monica  \nA great all-round class to give you a full body workout. As the classes are split into blocks of activity there’s something for everyone and it allows you to work at your own pace\, building to strength and stamina over time.
URL:https://www.tonbridgeschoolcentre.co.uk/event/class-freestyle-fitness-yoga-6/
CATEGORIES:Classes,Freestyle Fitness Yoga,Mind & Body
END:VEVENT
END:VCALENDAR