BEGIN:VCALENDAR
VERSION:2.0
PRODID:-//Tonbridge School Centre - ECPv6.15.18//NONSGML v1.0//EN
CALSCALE:GREGORIAN
METHOD:PUBLISH
X-WR-CALNAME:Tonbridge School Centre
X-ORIGINAL-URL:https://www.tonbridgeschoolcentre.co.uk
X-WR-CALDESC:Events for Tonbridge School Centre
REFRESH-INTERVAL;VALUE=DURATION:PT1H
X-Robots-Tag:noindex
X-PUBLISHED-TTL:PT1H
BEGIN:VTIMEZONE
TZID:Europe/London
BEGIN:DAYLIGHT
TZOFFSETFROM:+0000
TZOFFSETTO:+0100
TZNAME:BST
DTSTART:20240331T010000
END:DAYLIGHT
BEGIN:STANDARD
TZOFFSETFROM:+0100
TZOFFSETTO:+0000
TZNAME:GMT
DTSTART:20241027T010000
END:STANDARD
BEGIN:DAYLIGHT
TZOFFSETFROM:+0000
TZOFFSETTO:+0100
TZNAME:BST
DTSTART:20250330T010000
END:DAYLIGHT
BEGIN:STANDARD
TZOFFSETFROM:+0100
TZOFFSETTO:+0000
TZNAME:GMT
DTSTART:20251026T010000
END:STANDARD
BEGIN:DAYLIGHT
TZOFFSETFROM:+0000
TZOFFSETTO:+0100
TZNAME:BST
DTSTART:20260329T010000
END:DAYLIGHT
BEGIN:STANDARD
TZOFFSETFROM:+0100
TZOFFSETTO:+0000
TZNAME:GMT
DTSTART:20261025T010000
END:STANDARD
END:VTIMEZONE
BEGIN:VEVENT
DTSTART;TZID=Europe/London:20250922T130000
DTEND;TZID=Europe/London:20250922T134500
DTSTAMP:20260423T205517
CREATED:20250903T130055Z
LAST-MODIFIED:20250923T074249Z
UID:10001220-1758546000-1758548700@www.tonbridgeschoolcentre.co.uk
SUMMARY:Class: Cycle & Abs
DESCRIPTION:Instructor: Alex C.
URL:https://www.tonbridgeschoolcentre.co.uk/event/class-cycle-abs-8/
CATEGORIES:Aerobic,Classes,Cycle & Abs
END:VEVENT
BEGIN:VEVENT
DTSTART;TZID=Europe/London:20250922T123000
DTEND;TZID=Europe/London:20250922T140000
DTSTAMP:20260423T205517
CREATED:20250903T191336Z
LAST-MODIFIED:20250922T145858Z
UID:10001367-1758544200-1758549600@www.tonbridgeschoolcentre.co.uk
SUMMARY:Double Lane Swimming
DESCRIPTION:Lane swimming is for both adults and children in a double lane. Children must be competent swimmers who can confidently swim lengths. \nPlease note on Tuesday morning 11:30am – 1:30pm the swimming pool and Fitness Suite is shared with Active Life Members.
URL:https://www.tonbridgeschoolcentre.co.uk/event/double-lane-swimming-55/
CATEGORIES:Double Lane Swimming,Swimming
END:VEVENT
BEGIN:VEVENT
DTSTART;TZID=Europe/London:20250922T120000
DTEND;TZID=Europe/London:20250922T124500
DTSTAMP:20260423T205517
CREATED:20250903T125855Z
LAST-MODIFIED:20250923T074249Z
UID:10001219-1758542400-1758545100@www.tonbridgeschoolcentre.co.uk
SUMMARY:Class: Pure Stretch
DESCRIPTION:Instructor: Marie.
URL:https://www.tonbridgeschoolcentre.co.uk/event/class-pure-stretch-11/
CATEGORIES:Classes,Pure Stretch,Strength
END:VEVENT
BEGIN:VEVENT
DTSTART;TZID=Europe/London:20250922T110000
DTEND;TZID=Europe/London:20250922T123000
DTSTAMP:20260423T205517
CREATED:20250903T191335Z
LAST-MODIFIED:20250922T145858Z
UID:10001366-1758538800-1758544200@www.tonbridgeschoolcentre.co.uk
SUMMARY:Members Swim
DESCRIPTION:Lane Swimming in half the pool and casual swimming in half the pool\, for Adult and Children Members. \nPlease note on Tuesday morning 11:30am – 1:30pm the swimming pool and Fitness Suite is shared with Active Life Members.
URL:https://www.tonbridgeschoolcentre.co.uk/event/members-swim-144/
CATEGORIES:Members Swim,Swimming
END:VEVENT
BEGIN:VEVENT
DTSTART;TZID=Europe/London:20250922T110000
DTEND;TZID=Europe/London:20250922T114500
DTSTAMP:20260423T205517
CREATED:20250903T125855Z
LAST-MODIFIED:20250923T074249Z
UID:10001218-1758538800-1758541500@www.tonbridgeschoolcentre.co.uk
SUMMARY:Class: Dance Fit
DESCRIPTION:Instructor: Marie.
URL:https://www.tonbridgeschoolcentre.co.uk/event/class-dance-fit-24/
CATEGORIES:Classes,Dance,Dance Fit
END:VEVENT
BEGIN:VEVENT
DTSTART;TZID=Europe/London:20250922T100000
DTEND;TZID=Europe/London:20250922T105500
DTSTAMP:20260423T205517
CREATED:20250903T125855Z
LAST-MODIFIED:20250923T074249Z
UID:10001217-1758535200-1758538500@www.tonbridgeschoolcentre.co.uk
SUMMARY:Class: Active Movers
DESCRIPTION:Instructor: Monica.
URL:https://www.tonbridgeschoolcentre.co.uk/event/class-active-movers-4/
CATEGORIES:Active Movers,Classes
END:VEVENT
BEGIN:VEVENT
DTSTART;TZID=Europe/London:20250922T090000
DTEND;TZID=Europe/London:20250922T110000
DTSTAMP:20260423T205517
CREATED:20250903T191319Z
LAST-MODIFIED:20250922T145858Z
UID:10001365-1758531600-1758538800@www.tonbridgeschoolcentre.co.uk
SUMMARY:Adult Only Lane Swimming
DESCRIPTION:Lane Swimming in the pool for Adult Members only (aged 16+) in a single lane with another activity in the other side of the pool. \nPlease note on Tuesday morning 11:30am – 1:30pm the swimming pool and Fitness Suite is shared with Active Life Members.
URL:https://www.tonbridgeschoolcentre.co.uk/event/adult-only-lane-swimming-65/
CATEGORIES:Adult Only Lane Swimming,Swimming
END:VEVENT
BEGIN:VEVENT
DTSTART;TZID=Europe/London:20250922T084500
DTEND;TZID=Europe/London:20250922T094500
DTSTAMP:20260423T205517
CREATED:20250903T125855Z
LAST-MODIFIED:20250923T074249Z
UID:10001216-1758530700-1758534300@www.tonbridgeschoolcentre.co.uk
SUMMARY:Class: Triple Threat
DESCRIPTION:Instructor: Darren.
URL:https://www.tonbridgeschoolcentre.co.uk/event/class-triple-threat-21/
CATEGORIES:Aerobic,Classes,Triple Threat
END:VEVENT
BEGIN:VEVENT
DTSTART;TZID=Europe/London:20250922T073000
DTEND;TZID=Europe/London:20250922T090000
DTSTAMP:20260423T205517
CREATED:20250903T191319Z
LAST-MODIFIED:20250922T145857Z
UID:10001364-1758526200-1758531600@www.tonbridgeschoolcentre.co.uk
SUMMARY:Double Lane Swimming
DESCRIPTION:Lane swimming is for both adults and children in a double lane. Children must be competent swimmers who can confidently swim lengths. \nPlease note on Tuesday morning 11:30am – 1:30pm the swimming pool and Fitness Suite is shared with Active Life Members.
URL:https://www.tonbridgeschoolcentre.co.uk/event/double-lane-swimming-54/
CATEGORIES:Double Lane Swimming,Swimming
END:VEVENT
BEGIN:VEVENT
DTSTART;TZID=Europe/London:20250922T070000
DTEND;TZID=Europe/London:20250922T163000
DTSTAMP:20260423T205517
CREATED:20250904T100012Z
LAST-MODIFIED:20250922T154701Z
UID:10001403-1758524400-1758558600@www.tonbridgeschoolcentre.co.uk
SUMMARY:Sauna
DESCRIPTION:
URL:https://www.tonbridgeschoolcentre.co.uk/event/sauna-126/
CATEGORIES:Sauna
END:VEVENT
BEGIN:VEVENT
DTSTART;TZID=Europe/London:20250922T070000
DTEND;TZID=Europe/London:20250922T160000
DTSTAMP:20260423T205517
CREATED:20250904T100654Z
LAST-MODIFIED:20250922T163039Z
UID:10001435-1758524400-1758556800@www.tonbridgeschoolcentre.co.uk
SUMMARY:Athletics Track
DESCRIPTION:Inside two lanes of the Track are not to be used.
URL:https://www.tonbridgeschoolcentre.co.uk/event/athletics-track-76/
CATEGORIES:Athletics Track
END:VEVENT
BEGIN:VEVENT
DTSTART;TZID=Europe/London:20250922T070000
DTEND;TZID=Europe/London:20250922T154500
DTSTAMP:20260423T205517
CREATED:20250904T100949Z
LAST-MODIFIED:20250922T163639Z
UID:10001443-1758524400-1758555900@www.tonbridgeschoolcentre.co.uk
SUMMARY:Clay Tennis Courts
DESCRIPTION:Tennis courts can be booked online or via the TSC reception.
URL:https://www.tonbridgeschoolcentre.co.uk/event/clay-tennis-courts-114/
CATEGORIES:Clay Tennis Courts
END:VEVENT
BEGIN:VEVENT
DTSTART;TZID=Europe/London:20250922T060000
DTEND;TZID=Europe/London:20250922T163000
DTSTAMP:20260423T205517
CREATED:20250904T100603Z
LAST-MODIFIED:20250922T155318Z
UID:10001418-1758520800-1758558600@www.tonbridgeschoolcentre.co.uk
SUMMARY:Fitness Suite
DESCRIPTION:Please note on Tuesday morning 11:30am – 1:30pm the swimming pool and Fitness Suite is shared with Active Life Members.
URL:https://www.tonbridgeschoolcentre.co.uk/event/fitness-suite-132/
CATEGORIES:Fitness Suite
END:VEVENT
BEGIN:VEVENT
DTSTART;TZID=Europe/London:20250922T060000
DTEND;TZID=Europe/London:20250922T073000
DTSTAMP:20260423T205517
CREATED:20250903T191319Z
LAST-MODIFIED:20250922T145857Z
UID:10001363-1758520800-1758526200@www.tonbridgeschoolcentre.co.uk
SUMMARY:Lane Swimming
DESCRIPTION:Lane Swimming in the pool for adults and children in a single lane with another activity in the other side of the pool. \nPlease note on Tuesday morning 11:30am – 1:30pm the swimming pool and Fitness Suite is shared with Active Life Members.
URL:https://www.tonbridgeschoolcentre.co.uk/event/lane-swimming-34/
CATEGORIES:Lane Swimming,Swimming
END:VEVENT
BEGIN:VEVENT
DTSTART;TZID=Europe/London:20250921T160000
DTEND;TZID=Europe/London:20250921T193000
DTSTAMP:20260423T205517
CREATED:20250903T144802Z
LAST-MODIFIED:20250922T105702Z
UID:10001339-1758470400-1758483000@www.tonbridgeschoolcentre.co.uk
SUMMARY:Fitness Suite
DESCRIPTION:Please note on Tuesday morning 11:30am – 1:30pm the swimming pool and Fitness Suite is shared with Active Life Members.
URL:https://www.tonbridgeschoolcentre.co.uk/event/fitness-suite-131/
CATEGORIES:Fitness Suite
END:VEVENT
BEGIN:VEVENT
DTSTART;TZID=Europe/London:20250921T160000
DTEND;TZID=Europe/London:20250921T190000
DTSTAMP:20260423T205517
CREATED:20250903T145154Z
LAST-MODIFIED:20250922T111512Z
UID:10001362-1758470400-1758481200@www.tonbridgeschoolcentre.co.uk
SUMMARY:Clay Tennis Courts
DESCRIPTION:Tennis courts can be booked online or via the TSC reception.
URL:https://www.tonbridgeschoolcentre.co.uk/event/clay-tennis-courts-113/
CATEGORIES:Clay Tennis Courts
END:VEVENT
BEGIN:VEVENT
DTSTART;TZID=Europe/London:20250921T160000
DTEND;TZID=Europe/London:20250921T190000
DTSTAMP:20260423T205517
CREATED:20250903T144031Z
LAST-MODIFIED:20250922T104656Z
UID:10001326-1758470400-1758481200@www.tonbridgeschoolcentre.co.uk
SUMMARY:Sauna
DESCRIPTION:
URL:https://www.tonbridgeschoolcentre.co.uk/event/sauna-125/
CATEGORIES:Sauna
END:VEVENT
BEGIN:VEVENT
DTSTART;TZID=Europe/London:20250921T160000
DTEND;TZID=Europe/London:20250921T173000
DTSTAMP:20260423T205517
CREATED:20250903T144026Z
LAST-MODIFIED:20250922T102920Z
UID:10001311-1758470400-1758475800@www.tonbridgeschoolcentre.co.uk
SUMMARY:Members Swim
DESCRIPTION:Lane Swimming in half the pool and casual swimming in half the pool\, for Adult and Children Members. \nPlease note on Tuesday morning 11:30am – 1:30pm the swimming pool and Fitness Suite is shared with Active Life Members.
URL:https://www.tonbridgeschoolcentre.co.uk/event/members-swim-143/
CATEGORIES:Members Swim,Swimming
END:VEVENT
BEGIN:VEVENT
DTSTART;TZID=Europe/London:20250921T130000
DTEND;TZID=Europe/London:20250921T160000
DTSTAMP:20260423T205517
CREATED:20250903T145116Z
LAST-MODIFIED:20250922T110607Z
UID:10001348-1758459600-1758470400@www.tonbridgeschoolcentre.co.uk
SUMMARY:Athletics Track
DESCRIPTION:Inside two lanes of the Track are not to be used.
URL:https://www.tonbridgeschoolcentre.co.uk/event/athletics-track-75/
CATEGORIES:Athletics Track
END:VEVENT
BEGIN:VEVENT
DTSTART;TZID=Europe/London:20250921T123000
DTEND;TZID=Europe/London:20250921T133000
DTSTAMP:20260423T205517
CREATED:20250903T144025Z
LAST-MODIFIED:20250922T102919Z
UID:10001310-1758457800-1758461400@www.tonbridgeschoolcentre.co.uk
SUMMARY:Adult Only Members Swim
DESCRIPTION:Lane Swimming in half the pool and casual swimming in half the pool\, for Adult Members only (aged 16+). \nPlease note on Tuesday morning 11:30am – 1:30pm the swimming pool and Fitness Suite is shared with Active Life Members.
URL:https://www.tonbridgeschoolcentre.co.uk/event/adult-only-members-swim-30/
CATEGORIES:Adult Only Members Swim,Swimming
END:VEVENT
BEGIN:VEVENT
DTSTART;TZID=Europe/London:20250921T103000
DTEND;TZID=Europe/London:20250921T123000
DTSTAMP:20260423T205517
CREATED:20250903T144023Z
LAST-MODIFIED:20250922T102919Z
UID:10001309-1758450600-1758457800@www.tonbridgeschoolcentre.co.uk
SUMMARY:Family Splash
DESCRIPTION:Sessions for families in half the pool with floats and Lane Swimming in the other half. (no sinkers are allowed in these sessions). \nPlease note on Tuesday morning 11:30am – 1:30pm the swimming pool and Fitness Suite is shared with Active Life Members.
URL:https://www.tonbridgeschoolcentre.co.uk/event/family-splash-17/
CATEGORIES:Family Splash,Swimming
END:VEVENT
BEGIN:VEVENT
DTSTART;TZID=Europe/London:20250921T103000
DTEND;TZID=Europe/London:20250921T111500
DTSTAMP:20260423T205517
CREATED:20250903T125854Z
LAST-MODIFIED:20250922T124347Z
UID:10001215-1758450600-1758453300@www.tonbridgeschoolcentre.co.uk
SUMMARY:Class: Pure Strength
DESCRIPTION:Instructor: Dan  \nA great all-round class to give you a full body workout. As the classes are split into blocks of activity there’s something for everyone and it allows you to work at your own pace\, building to strength and stamina over time.
URL:https://www.tonbridgeschoolcentre.co.uk/event/class-pure-strength-21/
CATEGORIES:Classes,Pure Strength,Strength
END:VEVENT
BEGIN:VEVENT
DTSTART;TZID=Europe/London:20250921T100000
DTEND;TZID=Europe/London:20250921T150000
DTSTAMP:20260423T205517
CREATED:20250903T144031Z
LAST-MODIFIED:20250922T104656Z
UID:10001325-1758448800-1758466800@www.tonbridgeschoolcentre.co.uk
SUMMARY:Sauna
DESCRIPTION:
URL:https://www.tonbridgeschoolcentre.co.uk/event/sauna-124/
CATEGORIES:Sauna
END:VEVENT
BEGIN:VEVENT
DTSTART;TZID=Europe/London:20250921T093000
DTEND;TZID=Europe/London:20250921T101000
DTSTAMP:20260423T205517
CREATED:20250903T125654Z
LAST-MODIFIED:20250922T124146Z
UID:10001214-1758447000-1758449400@www.tonbridgeschoolcentre.co.uk
SUMMARY:Class: HIIT
DESCRIPTION:Instructor: Dan  \nA great all-round class to give you a full body workout. As the classes are split into blocks of activity there’s something for everyone and it allows you to work at your own pace\, building to strength and stamina over time.
URL:https://www.tonbridgeschoolcentre.co.uk/event/class-hiit-13/
CATEGORIES:Aerobic,Classes,HIIT
END:VEVENT
BEGIN:VEVENT
DTSTART;TZID=Europe/London:20250921T091500
DTEND;TZID=Europe/London:20250921T101500
DTSTAMP:20260423T205517
CREATED:20250903T125653Z
LAST-MODIFIED:20250922T124146Z
UID:10001213-1758446100-1758449700@www.tonbridgeschoolcentre.co.uk
SUMMARY:Class: Vinyasa Yoga
DESCRIPTION:Instructor: Monica  \nA great all-round class to give you a full body workout. As the classes are split into blocks of activity there’s something for everyone and it allows you to work at your own pace\, building to strength and stamina over time.
URL:https://www.tonbridgeschoolcentre.co.uk/event/class-vinyasa-yoga-41/
CATEGORIES:Classes,Mind & Body,Vinyasa Yoga
END:VEVENT
BEGIN:VEVENT
DTSTART;TZID=Europe/London:20250921T090000
DTEND;TZID=Europe/London:20250921T130000
DTSTAMP:20260423T205517
CREATED:20250903T144801Z
LAST-MODIFIED:20250922T105702Z
UID:10001338-1758445200-1758459600@www.tonbridgeschoolcentre.co.uk
SUMMARY:Fitness Suite
DESCRIPTION:Please note on Tuesday morning 11:30am – 1:30pm the swimming pool and Fitness Suite is shared with Active Life Members.
URL:https://www.tonbridgeschoolcentre.co.uk/event/fitness-suite-130/
CATEGORIES:Fitness Suite
END:VEVENT
BEGIN:VEVENT
DTSTART;TZID=Europe/London:20250921T090000
DTEND;TZID=Europe/London:20250921T103000
DTSTAMP:20260423T205517
CREATED:20250903T144023Z
LAST-MODIFIED:20250922T102919Z
UID:10001308-1758445200-1758450600@www.tonbridgeschoolcentre.co.uk
SUMMARY:Members Swim
DESCRIPTION:Lane Swimming in half the pool and casual swimming in half the pool\, for Adult and Children Members. \nPlease note on Tuesday morning 11:30am – 1:30pm the swimming pool and Fitness Suite is shared with Active Life Members.
URL:https://www.tonbridgeschoolcentre.co.uk/event/members-swim-142/
CATEGORIES:Members Swim,Swimming
END:VEVENT
BEGIN:VEVENT
DTSTART;TZID=Europe/London:20250921T090000
DTEND;TZID=Europe/London:20250921T100000
DTSTAMP:20260423T205517
CREATED:20250903T145153Z
LAST-MODIFIED:20250922T111312Z
UID:10001361-1758445200-1758448800@www.tonbridgeschoolcentre.co.uk
SUMMARY:Clay Tennis Courts
DESCRIPTION:Tennis courts can be booked online or via the TSC reception.
URL:https://www.tonbridgeschoolcentre.co.uk/event/clay-tennis-courts-112/
CATEGORIES:Clay Tennis Courts
END:VEVENT
BEGIN:VEVENT
DTSTART;TZID=Europe/London:20250920T190000
DTEND;TZID=Europe/London:20250920T200000
DTSTAMP:20260423T205517
CREATED:20250903T144023Z
LAST-MODIFIED:20250922T102919Z
UID:10001307-1758394800-1758398400@www.tonbridgeschoolcentre.co.uk
SUMMARY:Adult Only Members Swim
DESCRIPTION:Lane Swimming in half the pool and casual swimming in half the pool\, for Adult Members only (aged 16+). \nPlease note on Tuesday morning 11:30am – 1:30pm the swimming pool and Fitness Suite is shared with Active Life Members.
URL:https://www.tonbridgeschoolcentre.co.uk/event/adult-only-members-swim-29/
CATEGORIES:Adult Only Members Swim,Swimming
END:VEVENT
BEGIN:VEVENT
DTSTART;TZID=Europe/London:20250920T170000
DTEND;TZID=Europe/London:20250920T200000
DTSTAMP:20260423T205517
CREATED:20250903T145153Z
LAST-MODIFIED:20250922T111312Z
UID:10001360-1758387600-1758398400@www.tonbridgeschoolcentre.co.uk
SUMMARY:Clay Tennis Courts
DESCRIPTION:Tennis courts can be booked online or via the TSC reception.
URL:https://www.tonbridgeschoolcentre.co.uk/event/clay-tennis-courts-111/
CATEGORIES:Clay Tennis Courts
END:VEVENT
END:VCALENDAR