BEGIN:VCALENDAR
VERSION:2.0
PRODID:-//Tonbridge School Centre - ECPv6.15.18//NONSGML v1.0//EN
CALSCALE:GREGORIAN
METHOD:PUBLISH
X-WR-CALNAME:Tonbridge School Centre
X-ORIGINAL-URL:https://www.tonbridgeschoolcentre.co.uk
X-WR-CALDESC:Events for Tonbridge School Centre
REFRESH-INTERVAL;VALUE=DURATION:PT1H
X-Robots-Tag:noindex
X-PUBLISHED-TTL:PT1H
BEGIN:VTIMEZONE
TZID:Europe/London
BEGIN:DAYLIGHT
TZOFFSETFROM:+0000
TZOFFSETTO:+0100
TZNAME:BST
DTSTART:20240331T010000
END:DAYLIGHT
BEGIN:STANDARD
TZOFFSETFROM:+0100
TZOFFSETTO:+0000
TZNAME:GMT
DTSTART:20241027T010000
END:STANDARD
BEGIN:DAYLIGHT
TZOFFSETFROM:+0000
TZOFFSETTO:+0100
TZNAME:BST
DTSTART:20250330T010000
END:DAYLIGHT
BEGIN:STANDARD
TZOFFSETFROM:+0100
TZOFFSETTO:+0000
TZNAME:GMT
DTSTART:20251026T010000
END:STANDARD
BEGIN:DAYLIGHT
TZOFFSETFROM:+0000
TZOFFSETTO:+0100
TZNAME:BST
DTSTART:20260329T010000
END:DAYLIGHT
BEGIN:STANDARD
TZOFFSETFROM:+0100
TZOFFSETTO:+0000
TZNAME:GMT
DTSTART:20261025T010000
END:STANDARD
END:VTIMEZONE
BEGIN:VEVENT
DTSTART;TZID=Europe/London:20251007T113000
DTEND;TZID=Europe/London:20251007T133000
DTSTAMP:20260423T104553
CREATED:20250922T142403Z
LAST-MODIFIED:20251020T154858Z
UID:10001485-1759836600-1759843800@www.tonbridgeschoolcentre.co.uk
SUMMARY:Active Life: Clay Tennis Courts
DESCRIPTION:Instructor: Angela
URL:https://www.tonbridgeschoolcentre.co.uk/event/active-life-clay-tennis-courts-11/
CATEGORIES:Active Life
END:VEVENT
BEGIN:VEVENT
DTSTART;TZID=Europe/London:20251007T113000
DTEND;TZID=Europe/London:20251007T133000
DTSTAMP:20260423T104553
CREATED:20250922T142403Z
LAST-MODIFIED:20251020T154858Z
UID:10001486-1759836600-1759843800@www.tonbridgeschoolcentre.co.uk
SUMMARY:Active Life: Gym
DESCRIPTION:Instructor: Angela
URL:https://www.tonbridgeschoolcentre.co.uk/event/active-life-gym-11/
CATEGORIES:Active Life
END:VEVENT
BEGIN:VEVENT
DTSTART;TZID=Europe/London:20251007T113000
DTEND;TZID=Europe/London:20251007T133000
DTSTAMP:20260423T104553
CREATED:20250922T142402Z
LAST-MODIFIED:20251020T154857Z
UID:10001483-1759836600-1759843800@www.tonbridgeschoolcentre.co.uk
SUMMARY:Active Life: Sports Hall (Badminton & Table Tennis)
DESCRIPTION:Instructor: Angela
URL:https://www.tonbridgeschoolcentre.co.uk/event/active-life-sports-hall-badminton-table-tennis-11/
CATEGORIES:Active Life
END:VEVENT
BEGIN:VEVENT
DTSTART;TZID=Europe/London:20251007T113000
DTEND;TZID=Europe/London:20251007T133000
DTSTAMP:20260423T104553
CREATED:20250922T142402Z
LAST-MODIFIED:20251020T154858Z
UID:10001484-1759836600-1759843800@www.tonbridgeschoolcentre.co.uk
SUMMARY:Active Life: Whole Pool & Sauna
DESCRIPTION:Instructor: Angela
URL:https://www.tonbridgeschoolcentre.co.uk/event/active-life-whole-pool-sauna-11/
CATEGORIES:Active Life
END:VEVENT
BEGIN:VEVENT
DTSTART;TZID=Europe/London:20251007T113000
DTEND;TZID=Europe/London:20251007T123000
DTSTAMP:20260423T104553
CREATED:20250922T142403Z
LAST-MODIFIED:20251020T154958Z
UID:10001487-1759836600-1759840200@www.tonbridgeschoolcentre.co.uk
SUMMARY:Active Life: Yoga (Studio)
DESCRIPTION:Instructor: Angela
URL:https://www.tonbridgeschoolcentre.co.uk/event/active-life-yoga-studio-11/
CATEGORIES:Active Life
END:VEVENT
BEGIN:VEVENT
DTSTART;TZID=Europe/London:20251007T100000
DTEND;TZID=Europe/London:20251007T110000
DTSTAMP:20260423T104553
CREATED:20250923T080229Z
LAST-MODIFIED:20251020T155501Z
UID:10001654-1759831200-1759834800@www.tonbridgeschoolcentre.co.uk
SUMMARY:Class: Tai Chi
DESCRIPTION:Instructor: Angela.  \nTai Chi is a gentle\, flowing practice that combines slow\, deliberate movements with deep breathing and mindfulness. This ancient martial art promotes balance\, flexibility\, and relaxation while improving overall strength and mental focus. Suitable for all ages and fitness levels\, Tai Chi offers a calming way to enhance physical and mental well-being.
URL:https://www.tonbridgeschoolcentre.co.uk/event/class-tai-chi-10/
CATEGORIES:Classes,Flexibility & Core,Tai Chi
END:VEVENT
BEGIN:VEVENT
DTSTART;TZID=Europe/London:20251007T093000
DTEND;TZID=Europe/London:20251007T140000
DTSTAMP:20260423T104553
CREATED:20251003T140906Z
LAST-MODIFIED:20251020T142546Z
UID:10001693-1759829400-1759845600@www.tonbridgeschoolcentre.co.uk
SUMMARY:Members Swim
DESCRIPTION:Lane Swimming in half the pool and casual swimming in half the pool\, for Adult and Children Members. \nPlease note on Tuesday morning 11:30am – 1:30pm the swimming pool and Fitness Suite is shared with Active Life Members.
URL:https://www.tonbridgeschoolcentre.co.uk/event/members-swim-185/
CATEGORIES:Members Swim,Swimming
END:VEVENT
BEGIN:VEVENT
DTSTART;TZID=Europe/London:20251007T084500
DTEND;TZID=Europe/London:20251007T093000
DTSTAMP:20260423T104553
CREATED:20251003T140905Z
LAST-MODIFIED:20251020T142546Z
UID:10001692-1759826700-1759829400@www.tonbridgeschoolcentre.co.uk
SUMMARY:Adult Only Lane Swimming
DESCRIPTION:Lane Swimming in the pool for Adult Members only (aged 16+) in a single lane with another activity in the other side of the pool. \nPlease note on Tuesday morning 11:30am – 1:30pm the swimming pool and Fitness Suite is shared with Active Life Members.
URL:https://www.tonbridgeschoolcentre.co.uk/event/adult-only-lane-swimming-82/
CATEGORIES:Adult Only Lane Swimming,Swimming
END:VEVENT
BEGIN:VEVENT
DTSTART;TZID=Europe/London:20251007T084500
DTEND;TZID=Europe/London:20251007T093000
DTSTAMP:20260423T104553
CREATED:20250923T080229Z
LAST-MODIFIED:20251020T155301Z
UID:10001652-1759826700-1759829400@www.tonbridgeschoolcentre.co.uk
SUMMARY:Class: Aqua
DESCRIPTION:Instructor: Monica.  \nAqua is a low-impact workout performed in the water that combines cardio\, strength\, and flexibility training. The water’s natural resistance helps tone muscles while reducing stress on joints\, making it suitable for all fitness levels. This refreshing and fun class improves endurance\, balance\, and overall fitness.
URL:https://www.tonbridgeschoolcentre.co.uk/event/class-aqua-18/
CATEGORIES:Aqua,Classes,Water Based
END:VEVENT
BEGIN:VEVENT
DTSTART;TZID=Europe/London:20251007T084500
DTEND;TZID=Europe/London:20251007T093000
DTSTAMP:20260423T104553
CREATED:20250923T080229Z
LAST-MODIFIED:20251020T155501Z
UID:10001653-1759826700-1759829400@www.tonbridgeschoolcentre.co.uk
SUMMARY:Class: Cycle
DESCRIPTION:Instructor: Darren.  \nThis low-impact\, high-energy indoor cycling workout is set to motivating music and designed to boost cardiovascular fitness and endurance. Choose from a 45-minute endurance ride\, a Beginner/Family Cycle for newcomers\, or Cycle & Abs\, which adds core exercises for extra strength.
URL:https://www.tonbridgeschoolcentre.co.uk/event/class-cycle-61/
CATEGORIES:Aerobic,Classes,Cycle
END:VEVENT
BEGIN:VEVENT
DTSTART;TZID=Europe/London:20251007T073000
DTEND;TZID=Europe/London:20251007T084500
DTSTAMP:20260423T104553
CREATED:20251003T140806Z
LAST-MODIFIED:20251020T142546Z
UID:10001691-1759822200-1759826700@www.tonbridgeschoolcentre.co.uk
SUMMARY:Members Swim
DESCRIPTION:Lane Swimming in half the pool and casual swimming in half the pool\, for Adult and Children Members. \nPlease note on Tuesday morning 11:30am – 1:30pm the swimming pool and Fitness Suite is shared with Active Life Members.
URL:https://www.tonbridgeschoolcentre.co.uk/event/members-swim-184/
CATEGORIES:Members Swim,Swimming
END:VEVENT
BEGIN:VEVENT
DTSTART;TZID=Europe/London:20251007T070000
DTEND;TZID=Europe/London:20251007T140000
DTSTAMP:20260423T104553
CREATED:20251003T145525Z
LAST-MODIFIED:20251024T113156Z
UID:10001838-1759820400-1759845600@www.tonbridgeschoolcentre.co.uk
SUMMARY:Clay Tennis Courts
DESCRIPTION:Tennis courts can be booked online or via the TSC reception.
URL:https://www.tonbridgeschoolcentre.co.uk/event/clay-tennis-courts-145/
CATEGORIES:Clay Tennis Courts
END:VEVENT
BEGIN:VEVENT
DTSTART;TZID=Europe/London:20251007T070000
DTEND;TZID=Europe/London:20251007T140000
DTSTAMP:20260423T104553
CREATED:20251003T145126Z
LAST-MODIFIED:20251024T112348Z
UID:10001820-1759820400-1759845600@www.tonbridgeschoolcentre.co.uk
SUMMARY:Athletics Track
DESCRIPTION:Inside two lanes of the Track are not to be used.
URL:https://www.tonbridgeschoolcentre.co.uk/event/athletics-track-95/
CATEGORIES:Athletics Track
END:VEVENT
BEGIN:VEVENT
DTSTART;TZID=Europe/London:20251007T070000
DTEND;TZID=Europe/London:20251007T140000
DTSTAMP:20260423T104553
CREATED:20251003T144025Z
LAST-MODIFIED:20251020T150802Z
UID:10001763-1759820400-1759845600@www.tonbridgeschoolcentre.co.uk
SUMMARY:Sauna
DESCRIPTION:
URL:https://www.tonbridgeschoolcentre.co.uk/event/sauna-159/
CATEGORIES:Sauna
END:VEVENT
BEGIN:VEVENT
DTSTART;TZID=Europe/London:20251007T061500
DTEND;TZID=Europe/London:20251007T070000
DTSTAMP:20260423T104553
CREATED:20250923T080129Z
LAST-MODIFIED:20251020T155301Z
UID:10001651-1759817700-1759820400@www.tonbridgeschoolcentre.co.uk
SUMMARY:Class: Cycle
DESCRIPTION:Instructor: Darren.  \nThis low-impact\, high-energy indoor cycling workout is set to motivating music and designed to boost cardiovascular fitness and endurance. Choose from a 45-minute endurance ride\, a Beginner/Family Cycle for newcomers\, or Cycle & Abs\, which adds core exercises for extra strength.
URL:https://www.tonbridgeschoolcentre.co.uk/event/class-cycle-60/
CATEGORIES:Aerobic,Classes,Cycle
END:VEVENT
BEGIN:VEVENT
DTSTART;TZID=Europe/London:20251007T060000
DTEND;TZID=Europe/London:20251007T140000
DTSTAMP:20260423T104553
CREATED:20251003T144526Z
LAST-MODIFIED:20251020T151702Z
UID:10001791-1759816800-1759845600@www.tonbridgeschoolcentre.co.uk
SUMMARY:Fitness Suite
DESCRIPTION:Please note on Tuesday morning 11:30am – 1:30pm the swimming pool and Fitness Suite is shared with Active Life Members.
URL:https://www.tonbridgeschoolcentre.co.uk/event/fitness-suite-173/
CATEGORIES:Fitness Suite
END:VEVENT
BEGIN:VEVENT
DTSTART;TZID=Europe/London:20251007T060000
DTEND;TZID=Europe/London:20251007T073000
DTSTAMP:20260423T104553
CREATED:20251003T140805Z
LAST-MODIFIED:20251020T142546Z
UID:10001690-1759816800-1759822200@www.tonbridgeschoolcentre.co.uk
SUMMARY:Lane Swimming
DESCRIPTION:Lane Swimming in the pool for adults and children in a single lane with another activity in the other side of the pool. \nPlease note on Tuesday morning 11:30am – 1:30pm the swimming pool and Fitness Suite is shared with Active Life Members.
URL:https://www.tonbridgeschoolcentre.co.uk/event/lane-swimming-43/
CATEGORIES:Lane Swimming,Swimming
END:VEVENT
BEGIN:VEVENT
DTSTART;TZID=Europe/London:20251006T201500
DTEND;TZID=Europe/London:20251006T210000
DTSTAMP:20260423T104553
CREATED:20251003T145525Z
LAST-MODIFIED:20251024T113156Z
UID:10001837-1759781700-1759784400@www.tonbridgeschoolcentre.co.uk
SUMMARY:Clay Tennis Courts
DESCRIPTION:Tennis courts can be booked online or via the TSC reception.
URL:https://www.tonbridgeschoolcentre.co.uk/event/clay-tennis-courts-144/
CATEGORIES:Clay Tennis Courts
END:VEVENT
BEGIN:VEVENT
DTSTART;TZID=Europe/London:20251006T200000
DTEND;TZID=Europe/London:20251006T210000
DTSTAMP:20260423T104553
CREATED:20250923T080129Z
LAST-MODIFIED:20251020T155301Z
UID:10001650-1759780800-1759784400@www.tonbridgeschoolcentre.co.uk
SUMMARY:Class: Mat Pilates
DESCRIPTION:Instructor: James.  \nA low-impact workout performed on a mat that focuses on strengthening the core\, improving flexibility\, and enhancing posture through controlled\, precise movements. Using your body weight\, this class helps build stability\, balance\, and overall body awareness\, making it suitable for all fitness levels.
URL:https://www.tonbridgeschoolcentre.co.uk/event/class-mat-pilates-25/
CATEGORIES:Classes,Flexibility & Core,Mat Pilates
END:VEVENT
BEGIN:VEVENT
DTSTART;TZID=Europe/London:20251006T193000
DTEND;TZID=Europe/London:20251006T210000
DTSTAMP:20260423T104553
CREATED:20251003T140805Z
LAST-MODIFIED:20251020T142546Z
UID:10001689-1759779000-1759784400@www.tonbridgeschoolcentre.co.uk
SUMMARY:Adult Only Members Swim
DESCRIPTION:Lane Swimming in half the pool and casual swimming in half the pool\, for Adult Members only (aged 16+). \nPlease note on Tuesday morning 11:30am – 1:30pm the swimming pool and Fitness Suite is shared with Active Life Members.
URL:https://www.tonbridgeschoolcentre.co.uk/event/adult-only-members-swim-39/
CATEGORIES:Adult Only Members Swim,Swimming
END:VEVENT
BEGIN:VEVENT
DTSTART;TZID=Europe/London:20251006T190000
DTEND;TZID=Europe/London:20251006T194500
DTSTAMP:20260423T104553
CREATED:20250923T080129Z
LAST-MODIFIED:20251020T155301Z
UID:10001649-1759777200-1759779900@www.tonbridgeschoolcentre.co.uk
SUMMARY:Class: Pure Strength
DESCRIPTION:Instructor: Josh G.  \nThis class focuses on building muscular strength and endurance through a variety of resistance exercises. Using weights\, bodyweight movements\, and functional training techniques\, you’ll target all major muscle groups to improve overall power\, tone\, and stability. Suitable for all fitness levels\, this workout helps enhance everyday performance and boost metabolism.
URL:https://www.tonbridgeschoolcentre.co.uk/event/class-pure-strength-28/
CATEGORIES:Classes,Pure Strength,Strength
END:VEVENT
BEGIN:VEVENT
DTSTART;TZID=Europe/London:20251006T190000
DTEND;TZID=Europe/London:20251006T194500
DTSTAMP:20260423T104553
CREATED:20250923T080128Z
LAST-MODIFIED:20251020T155301Z
UID:10001648-1759777200-1759779900@www.tonbridgeschoolcentre.co.uk
SUMMARY:Class: Cycle
DESCRIPTION:Instructor: Jade.  \nThis low-impact\, high-energy indoor cycling workout is set to motivating music and designed to boost cardiovascular fitness and endurance. Choose from a 45-minute endurance ride\, a Beginner/Family Cycle for newcomers\, or Cycle & Abs\, which adds core exercises for extra strength.
URL:https://www.tonbridgeschoolcentre.co.uk/event/class-cycle-59/
CATEGORIES:Aerobic,Classes,Cycle
END:VEVENT
BEGIN:VEVENT
DTSTART;TZID=Europe/London:20251006T180000
DTEND;TZID=Europe/London:20251006T210000
DTSTAMP:20260423T104553
CREATED:20251003T144526Z
LAST-MODIFIED:20251020T151603Z
UID:10001790-1759773600-1759784400@www.tonbridgeschoolcentre.co.uk
SUMMARY:Fitness Suite
DESCRIPTION:Please note on Tuesday morning 11:30am – 1:30pm the swimming pool and Fitness Suite is shared with Active Life Members.
URL:https://www.tonbridgeschoolcentre.co.uk/event/fitness-suite-172/
CATEGORIES:Fitness Suite
END:VEVENT
BEGIN:VEVENT
DTSTART;TZID=Europe/London:20251006T180000
DTEND;TZID=Europe/London:20251006T184500
DTSTAMP:20260423T104553
CREATED:20250923T080128Z
LAST-MODIFIED:20251020T155100Z
UID:10001647-1759773600-1759776300@www.tonbridgeschoolcentre.co.uk
SUMMARY:Class: Outdoor Fitness
DESCRIPTION:Instructor: Josh G.  \nThis intense cardio workout takes place outdoors\, no matter the weather\, pushing you to improve your agility\, endurance\, and strength through a variety of dynamic drills and exercises. Embrace the elements while challenging your body and building overall fitness in a fresh\, motivating environment.
URL:https://www.tonbridgeschoolcentre.co.uk/event/class-outdoor-fitness-19/
CATEGORIES:Aerobic,Classes,Outdoor Fitness
END:VEVENT
BEGIN:VEVENT
DTSTART;TZID=Europe/London:20251006T180000
DTEND;TZID=Europe/London:20251006T184500
DTSTAMP:20260423T104553
CREATED:20250923T080030Z
LAST-MODIFIED:20251020T155100Z
UID:10001646-1759773600-1759776300@www.tonbridgeschoolcentre.co.uk
SUMMARY:Class: Dance Fit
DESCRIPTION:Instructor: Marie.  \nChannel your love for dance into a dynamic fitness workout featuring fast-paced moves and steps. This class blends various dance styles to boost cardiovascular endurance through a series of tracks that alternate between high and low intensity\, keeping your energy up and your heart pumping.
URL:https://www.tonbridgeschoolcentre.co.uk/event/class-dance-fit-33/
CATEGORIES:Classes,Dance,Dance Fit
END:VEVENT
BEGIN:VEVENT
DTSTART;TZID=Europe/London:20251006T173000
DTEND;TZID=Europe/London:20251006T210000
DTSTAMP:20260423T104553
CREATED:20251003T144025Z
LAST-MODIFIED:20251020T150801Z
UID:10001762-1759771800-1759784400@www.tonbridgeschoolcentre.co.uk
SUMMARY:Sauna
DESCRIPTION:
URL:https://www.tonbridgeschoolcentre.co.uk/event/sauna-158/
CATEGORIES:Sauna
END:VEVENT
BEGIN:VEVENT
DTSTART;TZID=Europe/London:20251006T173000
DTEND;TZID=Europe/London:20251006T193000
DTSTAMP:20260423T104553
CREATED:20251003T140805Z
LAST-MODIFIED:20251020T142545Z
UID:10001688-1759771800-1759779000@www.tonbridgeschoolcentre.co.uk
SUMMARY:Adult Only Lane Swimming
DESCRIPTION:Lane Swimming in the pool for Adult Members only (aged 16+) in a single lane with another activity in the other side of the pool. \nPlease note on Tuesday morning 11:30am – 1:30pm the swimming pool and Fitness Suite is shared with Active Life Members.
URL:https://www.tonbridgeschoolcentre.co.uk/event/adult-only-lane-swimming-81/
CATEGORIES:Adult Only Lane Swimming,Swimming
END:VEVENT
BEGIN:VEVENT
DTSTART;TZID=Europe/London:20251006T150000
DTEND;TZID=Europe/London:20251006T160000
DTSTAMP:20260423T104553
CREATED:20251003T140805Z
LAST-MODIFIED:20251020T142545Z
UID:10001687-1759762800-1759766400@www.tonbridgeschoolcentre.co.uk
SUMMARY:Members Swim
DESCRIPTION:Lane Swimming in half the pool and casual swimming in half the pool\, for Adult and Children Members. \nPlease note on Tuesday morning 11:30am – 1:30pm the swimming pool and Fitness Suite is shared with Active Life Members.
URL:https://www.tonbridgeschoolcentre.co.uk/event/members-swim-183/
CATEGORIES:Members Swim,Swimming
END:VEVENT
BEGIN:VEVENT
DTSTART;TZID=Europe/London:20251006T140000
DTEND;TZID=Europe/London:20251006T150000
DTSTAMP:20260423T104553
CREATED:20250923T080029Z
LAST-MODIFIED:20251020T155059Z
UID:10001645-1759759200-1759762800@www.tonbridgeschoolcentre.co.uk
SUMMARY:Class: Mat Pilates
DESCRIPTION:Instructor: Chris.  \nA low-impact workout performed on a mat that focuses on strengthening the core\, improving flexibility\, and enhancing posture through controlled\, precise movements. Using your body weight\, this class helps build stability\, balance\, and overall body awareness\, making it suitable for all fitness levels.
URL:https://www.tonbridgeschoolcentre.co.uk/event/class-mat-pilates-24/
CATEGORIES:Classes,Flexibility & Core,Mat Pilates
END:VEVENT
BEGIN:VEVENT
DTSTART;TZID=Europe/London:20251006T130000
DTEND;TZID=Europe/London:20251006T140000
DTSTAMP:20260423T104553
CREATED:20251003T140804Z
LAST-MODIFIED:20251020T142545Z
UID:10001686-1759755600-1759759200@www.tonbridgeschoolcentre.co.uk
SUMMARY:Adult Only Lane Swimming
DESCRIPTION:Lane Swimming in the pool for Adult Members only (aged 16+) in a single lane with another activity in the other side of the pool. \nPlease note on Tuesday morning 11:30am – 1:30pm the swimming pool and Fitness Suite is shared with Active Life Members.
URL:https://www.tonbridgeschoolcentre.co.uk/event/adult-only-lane-swimming-80/
CATEGORIES:Adult Only Lane Swimming,Swimming
END:VEVENT
END:VCALENDAR