BEGIN:VCALENDAR
VERSION:2.0
PRODID:-//Tonbridge School Centre - ECPv6.15.18//NONSGML v1.0//EN
CALSCALE:GREGORIAN
METHOD:PUBLISH
X-ORIGINAL-URL:https://www.tonbridgeschoolcentre.co.uk
X-WR-CALDESC:Events for Tonbridge School Centre
REFRESH-INTERVAL;VALUE=DURATION:PT1H
X-Robots-Tag:noindex
X-PUBLISHED-TTL:PT1H
BEGIN:VTIMEZONE
TZID:Europe/London
BEGIN:DAYLIGHT
TZOFFSETFROM:+0000
TZOFFSETTO:+0100
TZNAME:BST
DTSTART:20250330T010000
END:DAYLIGHT
BEGIN:STANDARD
TZOFFSETFROM:+0100
TZOFFSETTO:+0000
TZNAME:GMT
DTSTART:20251026T010000
END:STANDARD
BEGIN:DAYLIGHT
TZOFFSETFROM:+0000
TZOFFSETTO:+0100
TZNAME:BST
DTSTART:20260329T010000
END:DAYLIGHT
BEGIN:STANDARD
TZOFFSETFROM:+0100
TZOFFSETTO:+0000
TZNAME:GMT
DTSTART:20261025T010000
END:STANDARD
BEGIN:DAYLIGHT
TZOFFSETFROM:+0000
TZOFFSETTO:+0100
TZNAME:BST
DTSTART:20270328T010000
END:DAYLIGHT
BEGIN:STANDARD
TZOFFSETFROM:+0100
TZOFFSETTO:+0000
TZNAME:GMT
DTSTART:20271031T010000
END:STANDARD
END:VTIMEZONE
BEGIN:VEVENT
DTSTART;TZID=Europe/London:20260311T113000
DTEND;TZID=Europe/London:20260311T123000
DTSTAMP:20260425T190532
CREATED:20260217T132324Z
LAST-MODIFIED:20260217T132324Z
UID:10004665-1773228600-1773232200@www.tonbridgeschoolcentre.co.uk
SUMMARY:Members Swim
DESCRIPTION:Lane Swimming in half the pool and casual swimming in half the pool\, for Adult and Children Members. \nPlease note on Tuesday morning 11:30am – 1:30pm the swimming pool and Fitness Suite is shared with Active Life Members.
URL:https://www.tonbridgeschoolcentre.co.uk/event/members-swim-555/
CATEGORIES:Members Swim,Swimming
END:VEVENT
BEGIN:VEVENT
DTSTART;TZID=Europe/London:20260310T173000
DTEND;TZID=Europe/London:20260310T193000
DTSTAMP:20260425T190532
CREATED:20260217T132123Z
LAST-MODIFIED:20260217T132123Z
UID:10004661-1773163800-1773171000@www.tonbridgeschoolcentre.co.uk
SUMMARY:Members Swim
DESCRIPTION:Lane Swimming in half the pool and casual swimming in half the pool\, for Adult and Children Members. \nPlease note on Tuesday morning 11:30am – 1:30pm the swimming pool and Fitness Suite is shared with Active Life Members.
URL:https://www.tonbridgeschoolcentre.co.uk/event/members-swim-554/
CATEGORIES:Members Swim,Swimming
END:VEVENT
BEGIN:VEVENT
DTSTART;TZID=Europe/London:20260310T093000
DTEND;TZID=Europe/London:20260310T140000
DTSTAMP:20260425T190532
CREATED:20260217T132123Z
LAST-MODIFIED:20260217T132123Z
UID:10004660-1773135000-1773151200@www.tonbridgeschoolcentre.co.uk
SUMMARY:Members Swim
DESCRIPTION:Lane Swimming in half the pool and casual swimming in half the pool\, for Adult and Children Members. \nPlease note on Tuesday morning 11:30am – 1:30pm the swimming pool and Fitness Suite is shared with Active Life Members.
URL:https://www.tonbridgeschoolcentre.co.uk/event/members-swim-553/
CATEGORIES:Members Swim,Swimming
END:VEVENT
BEGIN:VEVENT
DTSTART;TZID=Europe/London:20260310T073000
DTEND;TZID=Europe/London:20260310T084500
DTSTAMP:20260425T190532
CREATED:20260217T131922Z
LAST-MODIFIED:20260217T131922Z
UID:10004658-1773127800-1773132300@www.tonbridgeschoolcentre.co.uk
SUMMARY:Members Swim
DESCRIPTION:Lane Swimming in half the pool and casual swimming in half the pool\, for Adult and Children Members. \nPlease note on Tuesday morning 11:30am – 1:30pm the swimming pool and Fitness Suite is shared with Active Life Members.
URL:https://www.tonbridgeschoolcentre.co.uk/event/members-swim-552/
CATEGORIES:Members Swim,Swimming
END:VEVENT
BEGIN:VEVENT
DTSTART;TZID=Europe/London:20260309T150000
DTEND;TZID=Europe/London:20260309T160000
DTSTAMP:20260425T190532
CREATED:20260217T131922Z
LAST-MODIFIED:20260217T131922Z
UID:10004654-1773068400-1773072000@www.tonbridgeschoolcentre.co.uk
SUMMARY:Members Swim
DESCRIPTION:Lane Swimming in half the pool and casual swimming in half the pool\, for Adult and Children Members. \nPlease note on Tuesday morning 11:30am – 1:30pm the swimming pool and Fitness Suite is shared with Active Life Members.
URL:https://www.tonbridgeschoolcentre.co.uk/event/members-swim-551/
CATEGORIES:Members Swim,Swimming
END:VEVENT
BEGIN:VEVENT
DTSTART;TZID=Europe/London:20260309T110000
DTEND;TZID=Europe/London:20260309T130000
DTSTAMP:20260425T190532
CREATED:20260217T131721Z
LAST-MODIFIED:20260217T131721Z
UID:10004652-1773054000-1773061200@www.tonbridgeschoolcentre.co.uk
SUMMARY:Members Swim
DESCRIPTION:Lane Swimming in half the pool and casual swimming in half the pool\, for Adult and Children Members. \nPlease note on Tuesday morning 11:30am – 1:30pm the swimming pool and Fitness Suite is shared with Active Life Members.
URL:https://www.tonbridgeschoolcentre.co.uk/event/members-swim-550/
CATEGORIES:Members Swim,Swimming
END:VEVENT
BEGIN:VEVENT
DTSTART;TZID=Europe/London:20260308T160000
DTEND;TZID=Europe/London:20260308T173000
DTSTAMP:20260425T190532
CREATED:20260217T131520Z
LAST-MODIFIED:20260217T131520Z
UID:10004648-1772985600-1772991000@www.tonbridgeschoolcentre.co.uk
SUMMARY:Members Swim
DESCRIPTION:Lane Swimming in half the pool and casual swimming in half the pool\, for Adult and Children Members. \nPlease note on Tuesday morning 11:30am – 1:30pm the swimming pool and Fitness Suite is shared with Active Life Members.
URL:https://www.tonbridgeschoolcentre.co.uk/event/members-swim-549/
CATEGORIES:Members Swim,Swimming
END:VEVENT
BEGIN:VEVENT
DTSTART;TZID=Europe/London:20260308T090000
DTEND;TZID=Europe/London:20260308T103000
DTSTAMP:20260425T190532
CREATED:20260217T131520Z
LAST-MODIFIED:20260217T131520Z
UID:10004645-1772960400-1772965800@www.tonbridgeschoolcentre.co.uk
SUMMARY:Members Swim
DESCRIPTION:Lane Swimming in half the pool and casual swimming in half the pool\, for Adult and Children Members. \nPlease note on Tuesday morning 11:30am – 1:30pm the swimming pool and Fitness Suite is shared with Active Life Members.
URL:https://www.tonbridgeschoolcentre.co.uk/event/members-swim-548/
CATEGORIES:Members Swim,Swimming
END:VEVENT
BEGIN:VEVENT
DTSTART;TZID=Europe/London:20260307T170000
DTEND;TZID=Europe/London:20260307T190000
DTSTAMP:20260425T190532
CREATED:20260217T131320Z
LAST-MODIFIED:20260217T131320Z
UID:10004643-1772902800-1772910000@www.tonbridgeschoolcentre.co.uk
SUMMARY:Members Swim
DESCRIPTION:Lane Swimming in half the pool and casual swimming in half the pool\, for Adult and Children Members. \nPlease note on Tuesday morning 11:30am – 1:30pm the swimming pool and Fitness Suite is shared with Active Life Members.
URL:https://www.tonbridgeschoolcentre.co.uk/event/members-swim-547/
CATEGORIES:Members Swim,Swimming
END:VEVENT
BEGIN:VEVENT
DTSTART;TZID=Europe/London:20260307T080000
DTEND;TZID=Europe/London:20260307T093000
DTSTAMP:20260425T190532
CREATED:20260217T131319Z
LAST-MODIFIED:20260217T131319Z
UID:10004640-1772870400-1772875800@www.tonbridgeschoolcentre.co.uk
SUMMARY:Members Swim
DESCRIPTION:Lane Swimming in half the pool and casual swimming in half the pool\, for Adult and Children Members. \nPlease note on Tuesday morning 11:30am – 1:30pm the swimming pool and Fitness Suite is shared with Active Life Members.
URL:https://www.tonbridgeschoolcentre.co.uk/event/members-swim-546/
CATEGORIES:Members Swim,Swimming
END:VEVENT
BEGIN:VEVENT
DTSTART;TZID=Europe/London:20260306T180000
DTEND;TZID=Europe/London:20260306T190000
DTSTAMP:20260425T190532
CREATED:20260217T131319Z
LAST-MODIFIED:20260217T131319Z
UID:10004639-1772820000-1772823600@www.tonbridgeschoolcentre.co.uk
SUMMARY:Members Swim
DESCRIPTION:Lane Swimming in half the pool and casual swimming in half the pool\, for Adult and Children Members. \nPlease note on Tuesday morning 11:30am – 1:30pm the swimming pool and Fitness Suite is shared with Active Life Members.
URL:https://www.tonbridgeschoolcentre.co.uk/event/members-swim-545/
CATEGORIES:Members Swim,Swimming
END:VEVENT
BEGIN:VEVENT
DTSTART;TZID=Europe/London:20260306T150000
DTEND;TZID=Europe/London:20260306T163000
DTSTAMP:20260425T190532
CREATED:20260217T131220Z
LAST-MODIFIED:20260217T131220Z
UID:10004638-1772809200-1772814600@www.tonbridgeschoolcentre.co.uk
SUMMARY:Members Swim
DESCRIPTION:Lane Swimming in half the pool and casual swimming in half the pool\, for Adult and Children Members. \nPlease note on Tuesday morning 11:30am – 1:30pm the swimming pool and Fitness Suite is shared with Active Life Members.
URL:https://www.tonbridgeschoolcentre.co.uk/event/members-swim-544/
CATEGORIES:Members Swim,Swimming
END:VEVENT
BEGIN:VEVENT
DTSTART;TZID=Europe/London:20260306T113000
DTEND;TZID=Europe/London:20260306T123000
DTSTAMP:20260425T190532
CREATED:20260217T131219Z
LAST-MODIFIED:20260217T131219Z
UID:10004636-1772796600-1772800200@www.tonbridgeschoolcentre.co.uk
SUMMARY:Members Swim
DESCRIPTION:Lane Swimming in half the pool and casual swimming in half the pool\, for Adult and Children Members. \nPlease note on Tuesday morning 11:30am – 1:30pm the swimming pool and Fitness Suite is shared with Active Life Members.
URL:https://www.tonbridgeschoolcentre.co.uk/event/members-swim-543/
CATEGORIES:Members Swim,Swimming
END:VEVENT
BEGIN:VEVENT
DTSTART;TZID=Europe/London:20260306T073000
DTEND;TZID=Europe/London:20260306T103000
DTSTAMP:20260425T190532
CREATED:20260217T131219Z
LAST-MODIFIED:20260217T131219Z
UID:10004635-1772782200-1772793000@www.tonbridgeschoolcentre.co.uk
SUMMARY:Members Swim
DESCRIPTION:Lane Swimming in half the pool and casual swimming in half the pool\, for Adult and Children Members. \nPlease note on Tuesday morning 11:30am – 1:30pm the swimming pool and Fitness Suite is shared with Active Life Members.
URL:https://www.tonbridgeschoolcentre.co.uk/event/members-swim-542/
CATEGORIES:Members Swim,Swimming
END:VEVENT
BEGIN:VEVENT
DTSTART;TZID=Europe/London:20260305T173000
DTEND;TZID=Europe/London:20260305T190000
DTSTAMP:20260425T190532
CREATED:20260217T131120Z
LAST-MODIFIED:20260217T131120Z
UID:10004632-1772731800-1772737200@www.tonbridgeschoolcentre.co.uk
SUMMARY:Members Swim
DESCRIPTION:Lane Swimming in half the pool and casual swimming in half the pool\, for Adult and Children Members. \nPlease note on Tuesday morning 11:30am – 1:30pm the swimming pool and Fitness Suite is shared with Active Life Members.
URL:https://www.tonbridgeschoolcentre.co.uk/event/members-swim-541/
CATEGORIES:Members Swim,Swimming
END:VEVENT
BEGIN:VEVENT
DTSTART;TZID=Europe/London:20260305T114500
DTEND;TZID=Europe/London:20260305T140000
DTSTAMP:20260425T190532
CREATED:20260217T131119Z
LAST-MODIFIED:20260217T131119Z
UID:10004631-1772711100-1772719200@www.tonbridgeschoolcentre.co.uk
SUMMARY:Members Swim
DESCRIPTION:Lane Swimming in half the pool and casual swimming in half the pool\, for Adult and Children Members. \nPlease note on Tuesday morning 11:30am – 1:30pm the swimming pool and Fitness Suite is shared with Active Life Members.
URL:https://www.tonbridgeschoolcentre.co.uk/event/members-swim-540/
CATEGORIES:Members Swim,Swimming
END:VEVENT
BEGIN:VEVENT
DTSTART;TZID=Europe/London:20260305T060000
DTEND;TZID=Europe/London:20260305T084500
DTSTAMP:20260425T190532
CREATED:20260217T131119Z
LAST-MODIFIED:20260217T131119Z
UID:10004629-1772690400-1772700300@www.tonbridgeschoolcentre.co.uk
SUMMARY:Members Swim
DESCRIPTION:Lane swimming is for both adults and children in a double lane. Children must be competent swimmers who can confidently swim lengths. \nPlease note on Tuesday morning 11:30am – 1:30pm the swimming pool and Fitness Suite is shared with Active Life Members.
URL:https://www.tonbridgeschoolcentre.co.uk/event/members-swim-539/
CATEGORIES:Members Swim,Swimming
END:VEVENT
BEGIN:VEVENT
DTSTART;TZID=Europe/London:20260304T180000
DTEND;TZID=Europe/London:20260304T193000
DTSTAMP:20260425T190532
CREATED:20260217T130918Z
LAST-MODIFIED:20260217T130918Z
UID:10004628-1772647200-1772652600@www.tonbridgeschoolcentre.co.uk
SUMMARY:Members Swim
DESCRIPTION:Lane Swimming in half the pool and casual swimming in half the pool\, for Adult and Children Members. \nPlease note on Tuesday morning 11:30am – 1:30pm the swimming pool and Fitness Suite is shared with Active Life Members.
URL:https://www.tonbridgeschoolcentre.co.uk/event/members-swim-538/
CATEGORIES:Members Swim,Swimming
END:VEVENT
BEGIN:VEVENT
DTSTART;TZID=Europe/London:20260304T113000
DTEND;TZID=Europe/London:20260304T123000
DTSTAMP:20260425T190532
CREATED:20260217T130918Z
LAST-MODIFIED:20260217T130918Z
UID:10004625-1772623800-1772627400@www.tonbridgeschoolcentre.co.uk
SUMMARY:Members Swim
DESCRIPTION:Lane Swimming in half the pool and casual swimming in half the pool\, for Adult and Children Members. \nPlease note on Tuesday morning 11:30am – 1:30pm the swimming pool and Fitness Suite is shared with Active Life Members.
URL:https://www.tonbridgeschoolcentre.co.uk/event/members-swim-537/
CATEGORIES:Members Swim,Swimming
END:VEVENT
BEGIN:VEVENT
DTSTART;TZID=Europe/London:20260303T173000
DTEND;TZID=Europe/London:20260303T193000
DTSTAMP:20260425T190532
CREATED:20260217T130718Z
LAST-MODIFIED:20260224T124406Z
UID:10004621-1772559000-1772566200@www.tonbridgeschoolcentre.co.uk
SUMMARY:Members Swim
DESCRIPTION:Lane Swimming in half the pool and casual swimming in half the pool\, for Adult and Children Members. \nPlease note on Tuesday morning 11:30am – 1:30pm the swimming pool and Fitness Suite is shared with Active Life Members.
URL:https://www.tonbridgeschoolcentre.co.uk/event/members-swim-536/
CATEGORIES:Members Swim,Swimming
END:VEVENT
BEGIN:VEVENT
DTSTART;TZID=Europe/London:20260303T093000
DTEND;TZID=Europe/London:20260303T140000
DTSTAMP:20260425T190532
CREATED:20260217T130717Z
LAST-MODIFIED:20260217T130717Z
UID:10004620-1772530200-1772546400@www.tonbridgeschoolcentre.co.uk
SUMMARY:Members Swim
DESCRIPTION:Lane Swimming in half the pool and casual swimming in half the pool\, for Adult and Children Members. \nPlease note on Tuesday morning 11:30am – 1:30pm the swimming pool and Fitness Suite is shared with Active Life Members.
URL:https://www.tonbridgeschoolcentre.co.uk/event/members-swim-535/
CATEGORIES:Members Swim,Swimming
END:VEVENT
BEGIN:VEVENT
DTSTART;TZID=Europe/London:20260303T073000
DTEND;TZID=Europe/London:20260303T084500
DTSTAMP:20260425T190532
CREATED:20260217T130616Z
LAST-MODIFIED:20260217T130616Z
UID:10004618-1772523000-1772527500@www.tonbridgeschoolcentre.co.uk
SUMMARY:Members Swim
DESCRIPTION:Lane Swimming in half the pool and casual swimming in half the pool\, for Adult and Children Members. \nPlease note on Tuesday morning 11:30am – 1:30pm the swimming pool and Fitness Suite is shared with Active Life Members.
URL:https://www.tonbridgeschoolcentre.co.uk/event/members-swim-534/
CATEGORIES:Members Swim,Swimming
END:VEVENT
BEGIN:VEVENT
DTSTART;TZID=Europe/London:20260302T150000
DTEND;TZID=Europe/London:20260302T160000
DTSTAMP:20260425T190532
CREATED:20260217T130615Z
LAST-MODIFIED:20260217T130615Z
UID:10004614-1772463600-1772467200@www.tonbridgeschoolcentre.co.uk
SUMMARY:Members Swim
DESCRIPTION:Lane Swimming in half the pool and casual swimming in half the pool\, for Adult and Children Members. \nPlease note on Tuesday morning 11:30am – 1:30pm the swimming pool and Fitness Suite is shared with Active Life Members.
URL:https://www.tonbridgeschoolcentre.co.uk/event/members-swim-533/
CATEGORIES:Members Swim,Swimming
END:VEVENT
BEGIN:VEVENT
DTSTART;TZID=Europe/London:20260302T110000
DTEND;TZID=Europe/London:20260302T123000
DTSTAMP:20260425T190532
CREATED:20260217T130614Z
LAST-MODIFIED:20260217T130614Z
UID:10004612-1772449200-1772454600@www.tonbridgeschoolcentre.co.uk
SUMMARY:Members Swim
DESCRIPTION:Lane Swimming in half the pool and casual swimming in half the pool\, for Adult and Children Members. \nPlease note on Tuesday morning 11:30am – 1:30pm the swimming pool and Fitness Suite is shared with Active Life Members.
URL:https://www.tonbridgeschoolcentre.co.uk/event/members-swim-532/
CATEGORIES:Members Swim,Swimming
END:VEVENT
BEGIN:VEVENT
DTSTART;TZID=Europe/London:20260301T160000
DTEND;TZID=Europe/London:20260301T173000
DTSTAMP:20260425T190532
CREATED:20260210T110321Z
LAST-MODIFIED:20260210T110321Z
UID:10004360-1772380800-1772386200@www.tonbridgeschoolcentre.co.uk
SUMMARY:Members Swim
DESCRIPTION:Lane Swimming in half the pool and casual swimming in half the pool\, for Adult and Children Members. \nPlease note on Tuesday morning 11:30am – 1:30pm the swimming pool and Fitness Suite is shared with Active Life Members.
URL:https://www.tonbridgeschoolcentre.co.uk/event/members-swim-531/
CATEGORIES:Members Swim,Swimming
END:VEVENT
BEGIN:VEVENT
DTSTART;TZID=Europe/London:20260301T090000
DTEND;TZID=Europe/London:20260301T103000
DTSTAMP:20260425T190532
CREATED:20260210T110222Z
LAST-MODIFIED:20260210T110222Z
UID:10004357-1772355600-1772361000@www.tonbridgeschoolcentre.co.uk
SUMMARY:Members Swim
DESCRIPTION:Lane Swimming in half the pool and casual swimming in half the pool\, for Adult and Children Members. \nPlease note on Tuesday morning 11:30am – 1:30pm the swimming pool and Fitness Suite is shared with Active Life Members.
URL:https://www.tonbridgeschoolcentre.co.uk/event/members-swim-530/
CATEGORIES:Members Swim,Swimming
END:VEVENT
BEGIN:VEVENT
DTSTART;TZID=Europe/London:20260228T170000
DTEND;TZID=Europe/London:20260228T190000
DTSTAMP:20260425T190532
CREATED:20260210T110221Z
LAST-MODIFIED:20260210T110221Z
UID:10004355-1772298000-1772305200@www.tonbridgeschoolcentre.co.uk
SUMMARY:Members Swim
DESCRIPTION:Lane Swimming in half the pool and casual swimming in half the pool\, for Adult and Children Members. \nPlease note on Tuesday morning 11:30am – 1:30pm the swimming pool and Fitness Suite is shared with Active Life Members.
URL:https://www.tonbridgeschoolcentre.co.uk/event/members-swim-529/
CATEGORIES:Members Swim,Swimming
END:VEVENT
BEGIN:VEVENT
DTSTART;TZID=Europe/London:20260228T080000
DTEND;TZID=Europe/London:20260228T093000
DTSTAMP:20260425T190532
CREATED:20260210T110024Z
LAST-MODIFIED:20260210T110024Z
UID:10004352-1772265600-1772271000@www.tonbridgeschoolcentre.co.uk
SUMMARY:Members Swim
DESCRIPTION:Lane Swimming in half the pool and casual swimming in half the pool\, for Adult and Children Members. \nPlease note on Tuesday morning 11:30am – 1:30pm the swimming pool and Fitness Suite is shared with Active Life Members.
URL:https://www.tonbridgeschoolcentre.co.uk/event/members-swim-528/
CATEGORIES:Members Swim,Swimming
END:VEVENT
BEGIN:VEVENT
DTSTART;TZID=Europe/London:20260227T180000
DTEND;TZID=Europe/London:20260227T190000
DTSTAMP:20260425T190532
CREATED:20260210T110023Z
LAST-MODIFIED:20260210T110023Z
UID:10004351-1772215200-1772218800@www.tonbridgeschoolcentre.co.uk
SUMMARY:Members Swim
DESCRIPTION:Lane Swimming in half the pool and casual swimming in half the pool\, for Adult and Children Members. \nPlease note on Tuesday morning 11:30am – 1:30pm the swimming pool and Fitness Suite is shared with Active Life Members.
URL:https://www.tonbridgeschoolcentre.co.uk/event/members-swim-527/
CATEGORIES:Members Swim,Swimming
END:VEVENT
BEGIN:VEVENT
DTSTART;TZID=Europe/London:20260227T150000
DTEND;TZID=Europe/London:20260227T163000
DTSTAMP:20260425T190532
CREATED:20260210T110023Z
LAST-MODIFIED:20260210T110023Z
UID:10004350-1772204400-1772209800@www.tonbridgeschoolcentre.co.uk
SUMMARY:Members Swim
DESCRIPTION:Lane Swimming in half the pool and casual swimming in half the pool\, for Adult and Children Members. \nPlease note on Tuesday morning 11:30am – 1:30pm the swimming pool and Fitness Suite is shared with Active Life Members.
URL:https://www.tonbridgeschoolcentre.co.uk/event/members-swim-526/
CATEGORIES:Members Swim,Swimming
END:VEVENT
END:VCALENDAR