BEGIN:VCALENDAR
VERSION:2.0
PRODID:-//Tonbridge School Centre - ECPv6.15.18//NONSGML v1.0//EN
CALSCALE:GREGORIAN
METHOD:PUBLISH
X-ORIGINAL-URL:https://www.tonbridgeschoolcentre.co.uk
X-WR-CALDESC:Events for Tonbridge School Centre
REFRESH-INTERVAL;VALUE=DURATION:PT1H
X-Robots-Tag:noindex
X-PUBLISHED-TTL:PT1H
BEGIN:VTIMEZONE
TZID:Europe/London
BEGIN:DAYLIGHT
TZOFFSETFROM:+0000
TZOFFSETTO:+0100
TZNAME:BST
DTSTART:20240331T010000
END:DAYLIGHT
BEGIN:STANDARD
TZOFFSETFROM:+0100
TZOFFSETTO:+0000
TZNAME:GMT
DTSTART:20241027T010000
END:STANDARD
BEGIN:DAYLIGHT
TZOFFSETFROM:+0000
TZOFFSETTO:+0100
TZNAME:BST
DTSTART:20250330T010000
END:DAYLIGHT
BEGIN:STANDARD
TZOFFSETFROM:+0100
TZOFFSETTO:+0000
TZNAME:GMT
DTSTART:20251026T010000
END:STANDARD
BEGIN:DAYLIGHT
TZOFFSETFROM:+0000
TZOFFSETTO:+0100
TZNAME:BST
DTSTART:20260329T010000
END:DAYLIGHT
BEGIN:STANDARD
TZOFFSETFROM:+0100
TZOFFSETTO:+0000
TZNAME:GMT
DTSTART:20261025T010000
END:STANDARD
END:VTIMEZONE
BEGIN:VEVENT
DTSTART;TZID=Europe/London:20251016T090000
DTEND;TZID=Europe/London:20251016T101500
DTSTAMP:20260425T165006
CREATED:20251003T152303Z
LAST-MODIFIED:20251020T161745Z
UID:10001920-1760605200-1760609700@www.tonbridgeschoolcentre.co.uk
SUMMARY:Class: Hatha Yoga
DESCRIPTION:Instructor: Leila.  \nA gentle yet energising practice that combines physical postures (asanas)\, breath control (pranayama)\, and meditation to cultivate balance\, flexibility\, and inner calm. Suitable for all levels\, this class helps build strength\, improve posture\, and reduce stress\, providing a holistic approach to both physical and mental well-being.
URL:https://www.tonbridgeschoolcentre.co.uk/event/class-hatha-yoga-21/
CATEGORIES:Classes,Hatha Yoga,Mind & Body
END:VEVENT
BEGIN:VEVENT
DTSTART;TZID=Europe/London:20251015T150000
DTEND;TZID=Europe/London:20251015T163000
DTSTAMP:20260425T165006
CREATED:20251003T152104Z
LAST-MODIFIED:20251020T161445Z
UID:10001913-1760540400-1760545800@www.tonbridgeschoolcentre.co.uk
SUMMARY:Class: Hatha Yoga
DESCRIPTION:Instructor: Leila.  \nA gentle yet energising practice that combines physical postures (asanas)\, breath control (pranayama)\, and meditation to cultivate balance\, flexibility\, and inner calm. Suitable for all levels\, this class helps build strength\, improve posture\, and reduce stress\, providing a holistic approach to both physical and mental well-being.
URL:https://www.tonbridgeschoolcentre.co.uk/event/class-hatha-yoga-20/
CATEGORIES:Classes,Hatha Yoga,Mind & Body
END:VEVENT
BEGIN:VEVENT
DTSTART;TZID=Europe/London:20251009T090000
DTEND;TZID=Europe/London:20251009T101500
DTSTAMP:20260425T165006
CREATED:20250923T080632Z
LAST-MODIFIED:20251020T160059Z
UID:10001674-1760000400-1760004900@www.tonbridgeschoolcentre.co.uk
SUMMARY:Class: Hatha Yoga
DESCRIPTION:Instructor: Sumiko.  \nA gentle yet energising practice that combines physical postures (asanas)\, breath control (pranayama)\, and meditation to cultivate balance\, flexibility\, and inner calm. Suitable for all levels\, this class helps build strength\, improve posture\, and reduce stress\, providing a holistic approach to both physical and mental well-being.
URL:https://www.tonbridgeschoolcentre.co.uk/event/class-hatha-yoga-19/
CATEGORIES:Classes,Hatha Yoga,Mind & Body
END:VEVENT
BEGIN:VEVENT
DTSTART;TZID=Europe/London:20251008T150000
DTEND;TZID=Europe/London:20251008T163000
DTSTAMP:20260425T165006
CREATED:20250923T080530Z
LAST-MODIFIED:20251020T155859Z
UID:10001667-1759935600-1759941000@www.tonbridgeschoolcentre.co.uk
SUMMARY:Class: Hatha Yoga
DESCRIPTION:Instructor: Leila.  \nA gentle yet energising practice that combines physical postures (asanas)\, breath control (pranayama)\, and meditation to cultivate balance\, flexibility\, and inner calm. Suitable for all levels\, this class helps build strength\, improve posture\, and reduce stress\, providing a holistic approach to both physical and mental well-being.
URL:https://www.tonbridgeschoolcentre.co.uk/event/class-hatha-yoga-18/
CATEGORIES:Classes,Hatha Yoga,Mind & Body
END:VEVENT
BEGIN:VEVENT
DTSTART;TZID=Europe/London:20251002T090000
DTEND;TZID=Europe/London:20251002T101500
DTSTAMP:20260425T165006
CREATED:20250923T075536Z
LAST-MODIFIED:20250923T075536Z
UID:10001618-1759395600-1759400100@www.tonbridgeschoolcentre.co.uk
SUMMARY:Class: Hatha Yoga
DESCRIPTION:Instructor: Leila.
URL:https://www.tonbridgeschoolcentre.co.uk/event/class-hatha-yoga-17/
CATEGORIES:Classes,Hatha Yoga,Mind & Body
END:VEVENT
BEGIN:VEVENT
DTSTART;TZID=Europe/London:20251001T150000
DTEND;TZID=Europe/London:20251001T163000
DTSTAMP:20260425T165006
CREATED:20250923T075335Z
LAST-MODIFIED:20250923T075335Z
UID:10001611-1759330800-1759336200@www.tonbridgeschoolcentre.co.uk
SUMMARY:Class: Hatha Yoga
DESCRIPTION:Instructor: Leila.
URL:https://www.tonbridgeschoolcentre.co.uk/event/class-hatha-yoga-16/
CATEGORIES:Classes,Hatha Yoga,Mind & Body
END:VEVENT
BEGIN:VEVENT
DTSTART;TZID=Europe/London:20250925T090000
DTEND;TZID=Europe/London:20250925T101500
DTSTAMP:20260425T165006
CREATED:20250903T130858Z
LAST-MODIFIED:20250923T074552Z
UID:10001251-1758790800-1758795300@www.tonbridgeschoolcentre.co.uk
SUMMARY:Class: Hatha Yoga
DESCRIPTION:Instructor: Leila.
URL:https://www.tonbridgeschoolcentre.co.uk/event/class-hatha-yoga-15/
CATEGORIES:Classes,Hatha Yoga,Mind & Body
END:VEVENT
BEGIN:VEVENT
DTSTART;TZID=Europe/London:20250924T150000
DTEND;TZID=Europe/London:20250924T163000
DTSTAMP:20260425T165006
CREATED:20250903T130612Z
LAST-MODIFIED:20250923T074352Z
UID:10001244-1758726000-1758731400@www.tonbridgeschoolcentre.co.uk
SUMMARY:Class: Hatha Yoga
DESCRIPTION:Instructor: Leila.
URL:https://www.tonbridgeschoolcentre.co.uk/event/class-hatha-yoga-14/
CATEGORIES:Classes,Hatha Yoga,Mind & Body
END:VEVENT
BEGIN:VEVENT
DTSTART;TZID=Europe/London:20250918T090000
DTEND;TZID=Europe/London:20250918T101500
DTSTAMP:20260425T165006
CREATED:20250903T125246Z
LAST-MODIFIED:20250922T123124Z
UID:10001195-1758186000-1758190500@www.tonbridgeschoolcentre.co.uk
SUMMARY:Class: Hatha Yoga
DESCRIPTION:Instructor: Leila  \nA great all-round class to give you a full body workout. As the classes are split into blocks of activity there’s something for everyone and it allows you to work at your own pace\, building to strength and stamina over time.
URL:https://www.tonbridgeschoolcentre.co.uk/event/class-hatha-yoga-13/
CATEGORIES:Classes,Hatha Yoga,Mind & Body
END:VEVENT
BEGIN:VEVENT
DTSTART;TZID=Europe/London:20250917T150000
DTEND;TZID=Europe/London:20250917T163000
DTSTAMP:20260425T165006
CREATED:20250903T125046Z
LAST-MODIFIED:20250922T122723Z
UID:10001188-1758121200-1758126600@www.tonbridgeschoolcentre.co.uk
SUMMARY:Class: Hatha Yoga
DESCRIPTION:Instructor: Leila  \nA great all-round class to give you a full body workout. As the classes are split into blocks of activity there’s something for everyone and it allows you to work at your own pace\, building to strength and stamina over time.
URL:https://www.tonbridgeschoolcentre.co.uk/event/class-hatha-yoga-12/
CATEGORIES:Classes,Hatha Yoga,Mind & Body
END:VEVENT
BEGIN:VEVENT
DTSTART;TZID=Europe/London:20250911T090000
DTEND;TZID=Europe/London:20250911T101500
DTSTAMP:20260425T165006
CREATED:20250812T110049Z
LAST-MODIFIED:20250820T125228Z
UID:10001038-1757581200-1757585700@www.tonbridgeschoolcentre.co.uk
SUMMARY:Class: Hatha Yoga
DESCRIPTION:Instructor: Leila \nA great all-round class to give you a full body workout. As the classes are split into blocks of activity there’s something for everyone and it allows you to work at your own pace\, building to strength and stamina over time.
URL:https://www.tonbridgeschoolcentre.co.uk/event/class-hatha-yoga-11/
CATEGORIES:Classes,Hatha Yoga,Mind & Body
END:VEVENT
BEGIN:VEVENT
DTSTART;TZID=Europe/London:20250910T150000
DTEND;TZID=Europe/London:20250910T163000
DTSTAMP:20260425T165006
CREATED:20250812T110044Z
LAST-MODIFIED:20250820T125224Z
UID:10001031-1757516400-1757521800@www.tonbridgeschoolcentre.co.uk
SUMMARY:Class: Hatha Yoga
DESCRIPTION:Instructor: Leila \nA great all-round class to give you a full body workout. As the classes are split into blocks of activity there’s something for everyone and it allows you to work at your own pace\, building to strength and stamina over time.
URL:https://www.tonbridgeschoolcentre.co.uk/event/class-hatha-yoga-10/
CATEGORIES:Classes,Hatha Yoga,Mind & Body
END:VEVENT
BEGIN:VEVENT
DTSTART;TZID=Europe/London:20250904T090000
DTEND;TZID=Europe/London:20250904T101500
DTSTAMP:20260425T165006
CREATED:20250812T105856Z
LAST-MODIFIED:20250820T125124Z
UID:10000982-1756976400-1756980900@www.tonbridgeschoolcentre.co.uk
SUMMARY:Class: Hatha Yoga
DESCRIPTION:Instructor: Leila \nA great all-round class to give you a full body workout. As the classes are split into blocks of activity there’s something for everyone and it allows you to work at your own pace\, building to strength and stamina over time.
URL:https://www.tonbridgeschoolcentre.co.uk/event/class-hatha-yoga-9/
CATEGORIES:Classes,Hatha Yoga,Mind & Body
END:VEVENT
BEGIN:VEVENT
DTSTART;TZID=Europe/London:20250903T150000
DTEND;TZID=Europe/London:20250903T163000
DTSTAMP:20260425T165006
CREATED:20250812T105822Z
LAST-MODIFIED:20250820T125118Z
UID:10000975-1756911600-1756917000@www.tonbridgeschoolcentre.co.uk
SUMMARY:Class: Hatha Yoga
DESCRIPTION:Instructor: Leila \nGentle yoga\, perfect for beginners. You’ll be coached into precise poses\, holding them until your stretch deepens and your body unwinds. You’ll also learn breathing techniques and meditation so your mind is as relaxed as your body.
URL:https://www.tonbridgeschoolcentre.co.uk/event/class-hatha-yoga-8/
CATEGORIES:Classes,Hatha Yoga,Mind & Body
END:VEVENT
BEGIN:VEVENT
DTSTART;TZID=Europe/London:20250807T090000
DTEND;TZID=Europe/London:20250807T101500
DTSTAMP:20260425T165006
CREATED:20250805T080655Z
LAST-MODIFIED:20250805T080655Z
UID:10000837-1754557200-1754561700@www.tonbridgeschoolcentre.co.uk
SUMMARY:Class: Hatha Yoga
DESCRIPTION:Instructor: Leila \nImportant Information\n\nClasses are for Members age 14+ unless otherwise stated\nPlease arrive just before the class starts to sign in with the Instructor. You may be refused entry if you are late.\nMembers can book up to eight days in advance by telephone or online. Please email Reception if you did not receive your login details.\nClass numbers are limited. In the event that you can no longer attend a class\, please make every effort to cancel online or by telephone.\nNon-members may attend classes for £13 if accompanied by a Member but may only book the day before.\nPlease inform your Instructor if you are new to TSC or if you have any injury/illness that may affect your workout\nPlease bring a bottle of water and a towel to classes and wear suitable footwear. We recommend sun protection and extra layers for outdoor classes.\nPlease also bring your own mat to mat-based classes such as Pilates and Yoga.
URL:https://www.tonbridgeschoolcentre.co.uk/event/class-hatha-yoga-7/
CATEGORIES:Classes,Hatha Yoga,Mind & Body
END:VEVENT
BEGIN:VEVENT
DTSTART;TZID=Europe/London:20250806T150000
DTEND;TZID=Europe/London:20250806T163000
DTSTAMP:20260425T165006
CREATED:20250805T080354Z
LAST-MODIFIED:20250805T080354Z
UID:10000830-1754492400-1754497800@www.tonbridgeschoolcentre.co.uk
SUMMARY:Class: Hatha Yoga
DESCRIPTION:Instructor: Leila \nImportant Information\n\nClasses are for Members age 14+ unless otherwise stated\nPlease arrive just before the class starts to sign in with the Instructor. You may be refused entry if you are late.\nMembers can book up to eight days in advance by telephone or online. Please email Reception if you did not receive your login details.\nClass numbers are limited. In the event that you can no longer attend a class\, please make every effort to cancel online or by telephone.\nNon-members may attend classes for £13 if accompanied by a Member but may only book the day before.\nPlease inform your Instructor if you are new to TSC or if you have any injury/illness that may affect your workout\nPlease bring a bottle of water and a towel to classes and wear suitable footwear. We recommend sun protection and extra layers for outdoor classes.\nPlease also bring your own mat to mat-based classes such as Pilates and Yoga.
URL:https://www.tonbridgeschoolcentre.co.uk/event/class-hatha-yoga-6/
CATEGORIES:Classes,Hatha Yoga,Mind & Body
END:VEVENT
END:VCALENDAR