BEGIN:VCALENDAR
VERSION:2.0
PRODID:-//Tonbridge School Centre - ECPv6.15.18//NONSGML v1.0//EN
CALSCALE:GREGORIAN
METHOD:PUBLISH
X-WR-CALNAME:Tonbridge School Centre
X-ORIGINAL-URL:https://www.tonbridgeschoolcentre.co.uk
X-WR-CALDESC:Events for Tonbridge School Centre
REFRESH-INTERVAL;VALUE=DURATION:PT1H
X-Robots-Tag:noindex
X-PUBLISHED-TTL:PT1H
BEGIN:VTIMEZONE
TZID:Europe/London
BEGIN:DAYLIGHT
TZOFFSETFROM:+0000
TZOFFSETTO:+0100
TZNAME:BST
DTSTART:20240331T010000
END:DAYLIGHT
BEGIN:STANDARD
TZOFFSETFROM:+0100
TZOFFSETTO:+0000
TZNAME:GMT
DTSTART:20241027T010000
END:STANDARD
BEGIN:DAYLIGHT
TZOFFSETFROM:+0000
TZOFFSETTO:+0100
TZNAME:BST
DTSTART:20250330T010000
END:DAYLIGHT
BEGIN:STANDARD
TZOFFSETFROM:+0100
TZOFFSETTO:+0000
TZNAME:GMT
DTSTART:20251026T010000
END:STANDARD
BEGIN:DAYLIGHT
TZOFFSETFROM:+0000
TZOFFSETTO:+0100
TZNAME:BST
DTSTART:20260329T010000
END:DAYLIGHT
BEGIN:STANDARD
TZOFFSETFROM:+0100
TZOFFSETTO:+0000
TZNAME:GMT
DTSTART:20261025T010000
END:STANDARD
BEGIN:DAYLIGHT
TZOFFSETFROM:+0000
TZOFFSETTO:+0100
TZNAME:BST
DTSTART:20270328T010000
END:DAYLIGHT
BEGIN:STANDARD
TZOFFSETFROM:+0100
TZOFFSETTO:+0000
TZNAME:GMT
DTSTART:20271031T010000
END:STANDARD
END:VTIMEZONE
BEGIN:VEVENT
DTSTART;TZID=Europe/London:20251203T150000
DTEND;TZID=Europe/London:20251203T163000
DTSTAMP:20260421T195431
CREATED:20251117T162314Z
LAST-MODIFIED:20251117T162314Z
UID:10002928-1764774000-1764779400@www.tonbridgeschoolcentre.co.uk
SUMMARY:Class: Hatha Yoga
DESCRIPTION:Instructor: Leila.  \nA gentle yet energising practice that combines physical postures (asanas)\, breath control (pranayama)\, and meditation to cultivate balance\, flexibility\, and inner calm. Suitable for all levels\, this class helps build strength\, improve posture\, and reduce stress\, providing a holistic approach to both physical and mental well-being.
URL:https://www.tonbridgeschoolcentre.co.uk/event/class-hatha-yoga-34/
CATEGORIES:Classes,Hatha Yoga,Mind & Body
END:VEVENT
BEGIN:VEVENT
DTSTART;TZID=Europe/London:20251204T091500
DTEND;TZID=Europe/London:20251204T103000
DTSTAMP:20260421T195431
CREATED:20251117T162713Z
LAST-MODIFIED:20251202T113446Z
UID:10002935-1764839700-1764844200@www.tonbridgeschoolcentre.co.uk
SUMMARY:Class: Hatha Yoga
DESCRIPTION:Instructor: Leila. \nA gentle yet energising practice that combines physical postures (asanas)\, breath control (pranayama)\, and meditation to cultivate balance\, flexibility\, and inner calm. Suitable for all levels\, this class helps build strength\, improve posture\, and reduce stress\, providing a holistic approach to both physical and mental well-being.
URL:https://www.tonbridgeschoolcentre.co.uk/event/class-hatha-yoga-35/
CATEGORIES:Classes,Hatha Yoga,Mind & Body
END:VEVENT
BEGIN:VEVENT
DTSTART;TZID=Europe/London:20251210T150000
DTEND;TZID=Europe/London:20251210T163000
DTSTAMP:20260421T195431
CREATED:20251201T122727Z
LAST-MODIFIED:20251201T122727Z
UID:10002982-1765378800-1765384200@www.tonbridgeschoolcentre.co.uk
SUMMARY:Class: Hatha Yoga
DESCRIPTION:Instructor: Leila.  \nA gentle yet energising practice that combines physical postures (asanas)\, breath control (pranayama)\, and meditation to cultivate balance\, flexibility\, and inner calm. Suitable for all levels\, this class helps build strength\, improve posture\, and reduce stress\, providing a holistic approach to both physical and mental well-being.
URL:https://www.tonbridgeschoolcentre.co.uk/event/class-hatha-yoga-36/
CATEGORIES:Classes,Hatha Yoga,Mind & Body
END:VEVENT
BEGIN:VEVENT
DTSTART;TZID=Europe/London:20251211T091500
DTEND;TZID=Europe/London:20251211T103000
DTSTAMP:20260421T195431
CREATED:20251201T123129Z
LAST-MODIFIED:20251202T113655Z
UID:10002989-1765444500-1765449000@www.tonbridgeschoolcentre.co.uk
SUMMARY:Class: Hatha Yoga
DESCRIPTION:Instructor: Leila. \nA gentle yet energising practice that combines physical postures (asanas)\, breath control (pranayama)\, and meditation to cultivate balance\, flexibility\, and inner calm. Suitable for all levels\, this class helps build strength\, improve posture\, and reduce stress\, providing a holistic approach to both physical and mental well-being.
URL:https://www.tonbridgeschoolcentre.co.uk/event/class-hatha-yoga-37/
CATEGORIES:Classes,Hatha Yoga,Mind & Body
END:VEVENT
BEGIN:VEVENT
DTSTART;TZID=Europe/London:20251217T150000
DTEND;TZID=Europe/London:20251217T163000
DTSTAMP:20260421T195431
CREATED:20251202T110152Z
LAST-MODIFIED:20251202T111307Z
UID:10003178-1765983600-1765989000@www.tonbridgeschoolcentre.co.uk
SUMMARY:Class: Hatha Yoga
DESCRIPTION:Instructor: Leila.  \nA gentle yet energising practice that combines physical postures (asanas)\, breath control (pranayama)\, and meditation to cultivate balance\, flexibility\, and inner calm. Suitable for all levels\, this class helps build strength\, improve posture\, and reduce stress\, providing a holistic approach to both physical and mental well-being.
URL:https://www.tonbridgeschoolcentre.co.uk/event/class-hatha-yoga-38/
CATEGORIES:Classes,Hatha Yoga,Mind & Body
END:VEVENT
BEGIN:VEVENT
DTSTART;TZID=Europe/London:20251218T090000
DTEND;TZID=Europe/London:20251218T101500
DTSTAMP:20260421T195431
CREATED:20251202T110351Z
LAST-MODIFIED:20251202T111508Z
UID:10003185-1766048400-1766052900@www.tonbridgeschoolcentre.co.uk
SUMMARY:Class: Hatha Yoga
DESCRIPTION:Instructor: Leila.  \nA gentle yet energising practice that combines physical postures (asanas)\, breath control (pranayama)\, and meditation to cultivate balance\, flexibility\, and inner calm. Suitable for all levels\, this class helps build strength\, improve posture\, and reduce stress\, providing a holistic approach to both physical and mental well-being.
URL:https://www.tonbridgeschoolcentre.co.uk/event/class-hatha-yoga-39/
CATEGORIES:Classes,Hatha Yoga,Mind & Body
END:VEVENT
BEGIN:VEVENT
DTSTART;TZID=Europe/London:20260107T150000
DTEND;TZID=Europe/London:20260107T163000
DTSTAMP:20260421T195431
CREATED:20251218T124510Z
LAST-MODIFIED:20251218T124510Z
UID:10003483-1767798000-1767803400@www.tonbridgeschoolcentre.co.uk
SUMMARY:Class: Hatha Yoga
DESCRIPTION:Instructor: TBC.  \nA gentle yet energising practice that combines physical postures (asanas)\, breath control (pranayama)\, and meditation to cultivate balance\, flexibility\, and inner calm. Suitable for all levels\, this class helps build strength\, improve posture\, and reduce stress\, providing a holistic approach to both physical and mental well-being.
URL:https://www.tonbridgeschoolcentre.co.uk/event/class-hatha-yoga-40/
CATEGORIES:Classes,Hatha Yoga,Mind & Body
END:VEVENT
BEGIN:VEVENT
DTSTART;TZID=Europe/London:20260108T091500
DTEND;TZID=Europe/London:20260108T103000
DTSTAMP:20260421T195431
CREATED:20251218T124709Z
LAST-MODIFIED:20251218T124709Z
UID:10003490-1767863700-1767868200@www.tonbridgeschoolcentre.co.uk
SUMMARY:Class: Hatha Yoga
DESCRIPTION:Instructor: TBC.  \nA gentle yet energising practice that combines physical postures (asanas)\, breath control (pranayama)\, and meditation to cultivate balance\, flexibility\, and inner calm. Suitable for all levels\, this class helps build strength\, improve posture\, and reduce stress\, providing a holistic approach to both physical and mental well-being.
URL:https://www.tonbridgeschoolcentre.co.uk/event/class-hatha-yoga-41/
CATEGORIES:Classes,Hatha Yoga,Mind & Body
END:VEVENT
BEGIN:VEVENT
DTSTART;TZID=Europe/London:20260114T150000
DTEND;TZID=Europe/London:20260114T163000
DTSTAMP:20260421T195431
CREATED:20251218T163433Z
LAST-MODIFIED:20251218T163433Z
UID:10003660-1768402800-1768408200@www.tonbridgeschoolcentre.co.uk
SUMMARY:Class: Hatha Yoga
DESCRIPTION:Instructor: Leila.  \nA gentle yet energising practice that combines physical postures (asanas)\, breath control (pranayama)\, and meditation to cultivate balance\, flexibility\, and inner calm. Suitable for all levels\, this class helps build strength\, improve posture\, and reduce stress\, providing a holistic approach to both physical and mental well-being.
URL:https://www.tonbridgeschoolcentre.co.uk/event/class-hatha-yoga-42/
CATEGORIES:Classes,Hatha Yoga,Mind & Body
END:VEVENT
BEGIN:VEVENT
DTSTART;TZID=Europe/London:20260115T091500
DTEND;TZID=Europe/London:20260115T103000
DTSTAMP:20260421T195431
CREATED:20251218T163442Z
LAST-MODIFIED:20251218T163442Z
UID:10003667-1768468500-1768473000@www.tonbridgeschoolcentre.co.uk
SUMMARY:Class: Hatha Yoga
DESCRIPTION:Instructor: Leila.  \nA gentle yet energising practice that combines physical postures (asanas)\, breath control (pranayama)\, and meditation to cultivate balance\, flexibility\, and inner calm. Suitable for all levels\, this class helps build strength\, improve posture\, and reduce stress\, providing a holistic approach to both physical and mental well-being.
URL:https://www.tonbridgeschoolcentre.co.uk/event/class-hatha-yoga-43/
CATEGORIES:Classes,Hatha Yoga,Mind & Body
END:VEVENT
BEGIN:VEVENT
DTSTART;TZID=Europe/London:20260121T150000
DTEND;TZID=Europe/London:20260121T163000
DTSTAMP:20260421T195431
CREATED:20251223T165825Z
LAST-MODIFIED:20251223T165825Z
UID:10003743-1769007600-1769013000@www.tonbridgeschoolcentre.co.uk
SUMMARY:Class: Hatha Yoga
DESCRIPTION:Instructor: Leila.  \nA gentle yet energising practice that combines physical postures (asanas)\, breath control (pranayama)\, and meditation to cultivate balance\, flexibility\, and inner calm. Suitable for all levels\, this class helps build strength\, improve posture\, and reduce stress\, providing a holistic approach to both physical and mental well-being.
URL:https://www.tonbridgeschoolcentre.co.uk/event/class-hatha-yoga-44/
CATEGORIES:Classes,Hatha Yoga,Mind & Body
END:VEVENT
BEGIN:VEVENT
DTSTART;TZID=Europe/London:20260122T091500
DTEND;TZID=Europe/London:20260122T103000
DTSTAMP:20260421T195431
CREATED:20251223T170125Z
LAST-MODIFIED:20251223T170125Z
UID:10003750-1769073300-1769077800@www.tonbridgeschoolcentre.co.uk
SUMMARY:Class: Hatha Yoga
DESCRIPTION:Instructor: Leila.  \nA gentle yet energising practice that combines physical postures (asanas)\, breath control (pranayama)\, and meditation to cultivate balance\, flexibility\, and inner calm. Suitable for all levels\, this class helps build strength\, improve posture\, and reduce stress\, providing a holistic approach to both physical and mental well-being.
URL:https://www.tonbridgeschoolcentre.co.uk/event/class-hatha-yoga-45/
CATEGORIES:Classes,Hatha Yoga,Mind & Body
END:VEVENT
BEGIN:VEVENT
DTSTART;TZID=Europe/London:20260204T150000
DTEND;TZID=Europe/London:20260204T163000
DTSTAMP:20260421T195431
CREATED:20260204T113657Z
LAST-MODIFIED:20260204T134009Z
UID:10003973-1770217200-1770222600@www.tonbridgeschoolcentre.co.uk
SUMMARY:Class: Hatha Yoga
DESCRIPTION:Instructor: Leila.  \nA gentle yet energising practice that combines physical postures (asanas)\, breath control (pranayama)\, and meditation to cultivate balance\, flexibility\, and inner calm. Suitable for all levels\, this class helps build strength\, improve posture\, and reduce stress\, providing a holistic approach to both physical and mental well-being.
URL:https://www.tonbridgeschoolcentre.co.uk/event/class-hatha-yoga-46/
CATEGORIES:Classes,Hatha Yoga,Mind & Body
END:VEVENT
BEGIN:VEVENT
DTSTART;TZID=Europe/London:20260205T091500
DTEND;TZID=Europe/London:20260205T103000
DTSTAMP:20260421T195431
CREATED:20260204T134209Z
LAST-MODIFIED:20260204T134209Z
UID:10004203-1770282900-1770287400@www.tonbridgeschoolcentre.co.uk
SUMMARY:Class: Hatha Yoga
DESCRIPTION:Instructor: Leila.  \nA gentle yet energising practice that combines physical postures (asanas)\, breath control (pranayama)\, and meditation to cultivate balance\, flexibility\, and inner calm. Suitable for all levels\, this class helps build strength\, improve posture\, and reduce stress\, providing a holistic approach to both physical and mental well-being.
URL:https://www.tonbridgeschoolcentre.co.uk/event/class-hatha-yoga-49/
CATEGORIES:Classes,Hatha Yoga,Mind & Body
END:VEVENT
BEGIN:VEVENT
DTSTART;TZID=Europe/London:20260211T150000
DTEND;TZID=Europe/London:20260211T163000
DTSTAMP:20260421T195431
CREATED:20260204T114223Z
LAST-MODIFIED:20260204T130515Z
UID:10004008-1770822000-1770827400@www.tonbridgeschoolcentre.co.uk
SUMMARY:Class: Hatha Yoga
DESCRIPTION:Instructor: Leila.  \nA gentle yet energising practice that combines physical postures (asanas)\, breath control (pranayama)\, and meditation to cultivate balance\, flexibility\, and inner calm. Suitable for all levels\, this class helps build strength\, improve posture\, and reduce stress\, providing a holistic approach to both physical and mental well-being.
URL:https://www.tonbridgeschoolcentre.co.uk/event/class-hatha-yoga-47/
CATEGORIES:Classes,Hatha Yoga,Mind & Body
END:VEVENT
BEGIN:VEVENT
DTSTART;TZID=Europe/London:20260212T091500
DTEND;TZID=Europe/London:20260212T103000
DTSTAMP:20260421T195431
CREATED:20260204T114505Z
LAST-MODIFIED:20260204T130840Z
UID:10004015-1770887700-1770892200@www.tonbridgeschoolcentre.co.uk
SUMMARY:Class: Hatha Yoga
DESCRIPTION:Instructor: Leila.  \nA gentle yet energising practice that combines physical postures (asanas)\, breath control (pranayama)\, and meditation to cultivate balance\, flexibility\, and inner calm. Suitable for all levels\, this class helps build strength\, improve posture\, and reduce stress\, providing a holistic approach to both physical and mental well-being.
URL:https://www.tonbridgeschoolcentre.co.uk/event/class-hatha-yoga-48/
CATEGORIES:Classes,Hatha Yoga,Mind & Body
END:VEVENT
BEGIN:VEVENT
DTSTART;TZID=Europe/London:20260218T150000
DTEND;TZID=Europe/London:20260218T163000
DTSTAMP:20260421T195431
CREATED:20260210T094753Z
LAST-MODIFIED:20260210T094753Z
UID:10004252-1771426800-1771432200@www.tonbridgeschoolcentre.co.uk
SUMMARY:Class: Hatha Yoga
DESCRIPTION:Instructor: Leila.  \nA gentle yet energising practice that combines physical postures (asanas)\, breath control (pranayama)\, and meditation to cultivate balance\, flexibility\, and inner calm. Suitable for all levels\, this class helps build strength\, improve posture\, and reduce stress\, providing a holistic approach to both physical and mental well-being.
URL:https://www.tonbridgeschoolcentre.co.uk/event/class-hatha-yoga-50/
CATEGORIES:Classes,Hatha Yoga,Mind & Body
END:VEVENT
BEGIN:VEVENT
DTSTART;TZID=Europe/London:20260219T091500
DTEND;TZID=Europe/London:20260219T103000
DTSTAMP:20260421T195431
CREATED:20260210T095154Z
LAST-MODIFIED:20260210T095154Z
UID:10004259-1771492500-1771497000@www.tonbridgeschoolcentre.co.uk
SUMMARY:Class: Hatha Yoga
DESCRIPTION:Instructor: Leila.  \nA gentle yet energising practice that combines physical postures (asanas)\, breath control (pranayama)\, and meditation to cultivate balance\, flexibility\, and inner calm. Suitable for all levels\, this class helps build strength\, improve posture\, and reduce stress\, providing a holistic approach to both physical and mental well-being.
URL:https://www.tonbridgeschoolcentre.co.uk/event/class-hatha-yoga-51/
CATEGORIES:Classes,Hatha Yoga,Mind & Body
END:VEVENT
BEGIN:VEVENT
DTSTART;TZID=Europe/London:20260225T150000
DTEND;TZID=Europe/London:20260225T163000
DTSTAMP:20260421T195431
CREATED:20260217T095959Z
LAST-MODIFIED:20260217T095959Z
UID:10004527-1772031600-1772037000@www.tonbridgeschoolcentre.co.uk
SUMMARY:Class: Hatha Yoga
DESCRIPTION:Instructor: Leila.  \nA gentle yet energising practice that combines physical postures (asanas)\, breath control (pranayama)\, and meditation to cultivate balance\, flexibility\, and inner calm. Suitable for all levels\, this class helps build strength\, improve posture\, and reduce stress\, providing a holistic approach to both physical and mental well-being.
URL:https://www.tonbridgeschoolcentre.co.uk/event/class-hatha-yoga-52/
CATEGORIES:Classes,Hatha Yoga,Mind & Body
END:VEVENT
BEGIN:VEVENT
DTSTART;TZID=Europe/London:20260226T091500
DTEND;TZID=Europe/London:20260226T103000
DTSTAMP:20260421T195431
CREATED:20260217T100400Z
LAST-MODIFIED:20260217T100400Z
UID:10004534-1772097300-1772101800@www.tonbridgeschoolcentre.co.uk
SUMMARY:Class: Hatha Yoga
DESCRIPTION:Instructor: Leila.  \nA gentle yet energising practice that combines physical postures (asanas)\, breath control (pranayama)\, and meditation to cultivate balance\, flexibility\, and inner calm. Suitable for all levels\, this class helps build strength\, improve posture\, and reduce stress\, providing a holistic approach to both physical and mental well-being.
URL:https://www.tonbridgeschoolcentre.co.uk/event/class-hatha-yoga-53/
CATEGORIES:Classes,Hatha Yoga,Mind & Body
END:VEVENT
BEGIN:VEVENT
DTSTART;TZID=Europe/London:20260304T150000
DTEND;TZID=Europe/London:20260304T163000
DTSTAMP:20260421T195431
CREATED:20260217T105920Z
LAST-MODIFIED:20260217T105920Z
UID:10004582-1772636400-1772641800@www.tonbridgeschoolcentre.co.uk
SUMMARY:Class: Hatha Yoga
DESCRIPTION:Instructor: Leila.  \nA gentle yet energising practice that combines physical postures (asanas)\, breath control (pranayama)\, and meditation to cultivate balance\, flexibility\, and inner calm. Suitable for all levels\, this class helps build strength\, improve posture\, and reduce stress\, providing a holistic approach to both physical and mental well-being.
URL:https://www.tonbridgeschoolcentre.co.uk/event/class-hatha-yoga-54/
CATEGORIES:Classes,Hatha Yoga,Mind & Body
END:VEVENT
BEGIN:VEVENT
DTSTART;TZID=Europe/London:20260305T091500
DTEND;TZID=Europe/London:20260305T103000
DTSTAMP:20260421T195431
CREATED:20260217T110322Z
LAST-MODIFIED:20260217T110322Z
UID:10004589-1772702100-1772706600@www.tonbridgeschoolcentre.co.uk
SUMMARY:Class: Hatha Yoga
DESCRIPTION:Instructor: Leila.  \nA gentle yet energising practice that combines physical postures (asanas)\, breath control (pranayama)\, and meditation to cultivate balance\, flexibility\, and inner calm. Suitable for all levels\, this class helps build strength\, improve posture\, and reduce stress\, providing a holistic approach to both physical and mental well-being.
URL:https://www.tonbridgeschoolcentre.co.uk/event/class-hatha-yoga-55/
CATEGORIES:Classes,Hatha Yoga,Mind & Body
END:VEVENT
BEGIN:VEVENT
DTSTART;TZID=Europe/London:20260311T150000
DTEND;TZID=Europe/London:20260311T163000
DTSTAMP:20260421T195431
CREATED:20260224T122343Z
LAST-MODIFIED:20260224T122343Z
UID:10004831-1773241200-1773246600@www.tonbridgeschoolcentre.co.uk
SUMMARY:Class: Hatha Yoga
DESCRIPTION:Instructor: Leila.  \nA gentle yet energising practice that combines physical postures (asanas)\, breath control (pranayama)\, and meditation to cultivate balance\, flexibility\, and inner calm. Suitable for all levels\, this class helps build strength\, improve posture\, and reduce stress\, providing a holistic approach to both physical and mental well-being.
URL:https://www.tonbridgeschoolcentre.co.uk/event/class-hatha-yoga-56/
CATEGORIES:Classes,Hatha Yoga,Mind & Body
END:VEVENT
BEGIN:VEVENT
DTSTART;TZID=Europe/London:20260312T091500
DTEND;TZID=Europe/London:20260312T103000
DTSTAMP:20260421T195431
CREATED:20260224T122543Z
LAST-MODIFIED:20260224T122543Z
UID:10004838-1773306900-1773311400@www.tonbridgeschoolcentre.co.uk
SUMMARY:Class: Hatha Yoga
DESCRIPTION:Instructor: Leila.  \nA gentle yet energising practice that combines physical postures (asanas)\, breath control (pranayama)\, and meditation to cultivate balance\, flexibility\, and inner calm. Suitable for all levels\, this class helps build strength\, improve posture\, and reduce stress\, providing a holistic approach to both physical and mental well-being.
URL:https://www.tonbridgeschoolcentre.co.uk/event/class-hatha-yoga-57/
CATEGORIES:Classes,Hatha Yoga,Mind & Body
END:VEVENT
BEGIN:VEVENT
DTSTART;TZID=Europe/London:20260318T150000
DTEND;TZID=Europe/London:20260318T163000
DTSTAMP:20260421T195431
CREATED:20260305T120701Z
LAST-MODIFIED:20260305T120701Z
UID:10005072-1773846000-1773851400@www.tonbridgeschoolcentre.co.uk
SUMMARY:Class: Hatha Yoga
DESCRIPTION:Instructor: Leila.  \nA gentle yet energising practice that combines physical postures (asanas)\, breath control (pranayama)\, and meditation to cultivate balance\, flexibility\, and inner calm. Suitable for all levels\, this class helps build strength\, improve posture\, and reduce stress\, providing a holistic approach to both physical and mental well-being.
URL:https://www.tonbridgeschoolcentre.co.uk/event/class-hatha-yoga-58/
CATEGORIES:Classes,Hatha Yoga,Mind & Body
END:VEVENT
BEGIN:VEVENT
DTSTART;TZID=Europe/London:20260319T091500
DTEND;TZID=Europe/London:20260319T103000
DTSTAMP:20260421T195431
CREATED:20260305T120901Z
LAST-MODIFIED:20260305T120901Z
UID:10005079-1773911700-1773916200@www.tonbridgeschoolcentre.co.uk
SUMMARY:Class: Hatha Yoga
DESCRIPTION:Instructor: Leila.  \nA gentle yet energising practice that combines physical postures (asanas)\, breath control (pranayama)\, and meditation to cultivate balance\, flexibility\, and inner calm. Suitable for all levels\, this class helps build strength\, improve posture\, and reduce stress\, providing a holistic approach to both physical and mental well-being.
URL:https://www.tonbridgeschoolcentre.co.uk/event/class-hatha-yoga-59/
CATEGORIES:Classes,Hatha Yoga,Mind & Body
END:VEVENT
BEGIN:VEVENT
DTSTART;TZID=Europe/London:20260325T150000
DTEND;TZID=Europe/London:20260325T163000
DTSTAMP:20260421T195431
CREATED:20260305T122028Z
LAST-MODIFIED:20260305T122028Z
UID:10005127-1774450800-1774456200@www.tonbridgeschoolcentre.co.uk
SUMMARY:Class: Hatha Yoga
DESCRIPTION:Instructor: Leila.  \nA gentle yet energising practice that combines physical postures (asanas)\, breath control (pranayama)\, and meditation to cultivate balance\, flexibility\, and inner calm. Suitable for all levels\, this class helps build strength\, improve posture\, and reduce stress\, providing a holistic approach to both physical and mental well-being.
URL:https://www.tonbridgeschoolcentre.co.uk/event/class-hatha-yoga-60/
CATEGORIES:Classes,Hatha Yoga,Mind & Body
END:VEVENT
BEGIN:VEVENT
DTSTART;TZID=Europe/London:20260326T091500
DTEND;TZID=Europe/London:20260326T103000
DTSTAMP:20260421T195431
CREATED:20260305T122310Z
LAST-MODIFIED:20260305T122310Z
UID:10005134-1774516500-1774521000@www.tonbridgeschoolcentre.co.uk
SUMMARY:Class: Hatha Yoga
DESCRIPTION:Instructor: Leila.  \nA gentle yet energising practice that combines physical postures (asanas)\, breath control (pranayama)\, and meditation to cultivate balance\, flexibility\, and inner calm. Suitable for all levels\, this class helps build strength\, improve posture\, and reduce stress\, providing a holistic approach to both physical and mental well-being.
URL:https://www.tonbridgeschoolcentre.co.uk/event/class-hatha-yoga-61/
CATEGORIES:Classes,Hatha Yoga,Mind & Body
END:VEVENT
BEGIN:VEVENT
DTSTART;TZID=Europe/London:20260401T150000
DTEND;TZID=Europe/London:20260401T163000
DTSTAMP:20260421T195431
CREATED:20260323T120456Z
LAST-MODIFIED:20260323T120456Z
UID:10005182-1775055600-1775061000@www.tonbridgeschoolcentre.co.uk
SUMMARY:Class: Hatha Yoga
DESCRIPTION:Instructor: Leila.  \nA gentle yet energising practice that combines physical postures (asanas)\, breath control (pranayama)\, and meditation to cultivate balance\, flexibility\, and inner calm. Suitable for all levels\, this class helps build strength\, improve posture\, and reduce stress\, providing a holistic approach to both physical and mental well-being.
URL:https://www.tonbridgeschoolcentre.co.uk/event/class-hatha-yoga-62/
CATEGORIES:Classes,Hatha Yoga,Mind & Body
END:VEVENT
BEGIN:VEVENT
DTSTART;TZID=Europe/London:20260402T091500
DTEND;TZID=Europe/London:20260402T103000
DTSTAMP:20260421T195431
CREATED:20260323T120657Z
LAST-MODIFIED:20260323T120657Z
UID:10005189-1775121300-1775125800@www.tonbridgeschoolcentre.co.uk
SUMMARY:Class: Hatha Yoga
DESCRIPTION:Instructor: Leila.  \nA gentle yet energising practice that combines physical postures (asanas)\, breath control (pranayama)\, and meditation to cultivate balance\, flexibility\, and inner calm. Suitable for all levels\, this class helps build strength\, improve posture\, and reduce stress\, providing a holistic approach to both physical and mental well-being.
URL:https://www.tonbridgeschoolcentre.co.uk/event/class-hatha-yoga-63/
CATEGORIES:Classes,Hatha Yoga,Mind & Body
END:VEVENT
END:VCALENDAR