BEGIN:VCALENDAR
VERSION:2.0
PRODID:-//Tonbridge School Centre - ECPv6.15.18//NONSGML v1.0//EN
CALSCALE:GREGORIAN
METHOD:PUBLISH
X-WR-CALNAME:Tonbridge School Centre
X-ORIGINAL-URL:https://www.tonbridgeschoolcentre.co.uk
X-WR-CALDESC:Events for Tonbridge School Centre
REFRESH-INTERVAL;VALUE=DURATION:PT1H
X-Robots-Tag:noindex
X-PUBLISHED-TTL:PT1H
BEGIN:VTIMEZONE
TZID:Europe/London
BEGIN:DAYLIGHT
TZOFFSETFROM:+0000
TZOFFSETTO:+0100
TZNAME:BST
DTSTART:20250330T010000
END:DAYLIGHT
BEGIN:STANDARD
TZOFFSETFROM:+0100
TZOFFSETTO:+0000
TZNAME:GMT
DTSTART:20251026T010000
END:STANDARD
BEGIN:DAYLIGHT
TZOFFSETFROM:+0000
TZOFFSETTO:+0100
TZNAME:BST
DTSTART:20260329T010000
END:DAYLIGHT
BEGIN:STANDARD
TZOFFSETFROM:+0100
TZOFFSETTO:+0000
TZNAME:GMT
DTSTART:20261025T010000
END:STANDARD
BEGIN:DAYLIGHT
TZOFFSETFROM:+0000
TZOFFSETTO:+0100
TZNAME:BST
DTSTART:20270328T010000
END:DAYLIGHT
BEGIN:STANDARD
TZOFFSETFROM:+0100
TZOFFSETTO:+0000
TZNAME:GMT
DTSTART:20271031T010000
END:STANDARD
END:VTIMEZONE
BEGIN:VEVENT
DTSTART;TZID=Europe/London:20260407T084500
DTEND;TZID=Europe/London:20260407T093000
DTSTAMP:20260421T165801
CREATED:20260401T170411Z
LAST-MODIFIED:20260401T170411Z
UID:10005415-1775551500-1775554200@www.tonbridgeschoolcentre.co.uk
SUMMARY:Class: Aqua
DESCRIPTION:Instructor: Monica.  \nAqua is a low-impact workout performed in the water that combines cardio\, strength\, and flexibility training. The water’s natural resistance helps tone muscles while reducing stress on joints\, making it suitable for all fitness levels. This refreshing and fun class improves endurance\, balance\, and overall fitness.
URL:https://www.tonbridgeschoolcentre.co.uk/event/class-aqua-66/
CATEGORIES:Aqua,Classes,Water Based
END:VEVENT
BEGIN:VEVENT
DTSTART;TZID=Europe/London:20260409T084500
DTEND;TZID=Europe/London:20260409T093000
DTSTAMP:20260421T165801
CREATED:20260401T170811Z
LAST-MODIFIED:20260401T170811Z
UID:10005436-1775724300-1775727000@www.tonbridgeschoolcentre.co.uk
SUMMARY:Class: Aqua
DESCRIPTION:Instructor: Monica.  \nAqua is a low-impact workout performed in the water that combines cardio\, strength\, and flexibility training. The water’s natural resistance helps tone muscles while reducing stress on joints\, making it suitable for all fitness levels. This refreshing and fun class improves endurance\, balance\, and overall fitness.
URL:https://www.tonbridgeschoolcentre.co.uk/event/class-aqua-67/
CATEGORIES:Aqua,Classes,Water Based
END:VEVENT
BEGIN:VEVENT
DTSTART;TZID=Europe/London:20260414T084500
DTEND;TZID=Europe/London:20260414T093000
DTSTAMP:20260421T165801
CREATED:20260408T154044Z
LAST-MODIFIED:20260408T154044Z
UID:10005465-1776156300-1776159000@www.tonbridgeschoolcentre.co.uk
SUMMARY:Class: Aqua
DESCRIPTION:Instructor: Monica.  \nAqua is a low-impact workout performed in the water that combines cardio\, strength\, and flexibility training. The water’s natural resistance helps tone muscles while reducing stress on joints\, making it suitable for all fitness levels. This refreshing and fun class improves endurance\, balance\, and overall fitness.
URL:https://www.tonbridgeschoolcentre.co.uk/event/class-aqua-68/
CATEGORIES:Aqua,Classes,Water Based
END:VEVENT
BEGIN:VEVENT
DTSTART;TZID=Europe/London:20260416T084500
DTEND;TZID=Europe/London:20260416T093000
DTSTAMP:20260421T165801
CREATED:20260408T154647Z
LAST-MODIFIED:20260408T154647Z
UID:10005486-1776329100-1776331800@www.tonbridgeschoolcentre.co.uk
SUMMARY:Class: Aqua
DESCRIPTION:Instructor: Alex.  \nAqua is a low-impact workout performed in the water that combines cardio\, strength\, and flexibility training. The water’s natural resistance helps tone muscles while reducing stress on joints\, making it suitable for all fitness levels. This refreshing and fun class improves endurance\, balance\, and overall fitness.
URL:https://www.tonbridgeschoolcentre.co.uk/event/class-aqua-69/
CATEGORIES:Aqua,Classes,Water Based
END:VEVENT
BEGIN:VEVENT
DTSTART;TZID=Europe/London:20260421T084500
DTEND;TZID=Europe/London:20260421T093000
DTSTAMP:20260421T165801
CREATED:20260415T100906Z
LAST-MODIFIED:20260415T100906Z
UID:10005709-1776761100-1776763800@www.tonbridgeschoolcentre.co.uk
SUMMARY:Class: Aqua
DESCRIPTION:Instructor: Monica.  \nAqua is a low-impact workout performed in the water that combines cardio\, strength\, and flexibility training. The water’s natural resistance helps tone muscles while reducing stress on joints\, making it suitable for all fitness levels. This refreshing and fun class improves endurance\, balance\, and overall fitness.
URL:https://www.tonbridgeschoolcentre.co.uk/event/class-aqua-70/
CATEGORIES:Aqua,Classes,Water Based
END:VEVENT
BEGIN:VEVENT
DTSTART;TZID=Europe/London:20260423T084500
DTEND;TZID=Europe/London:20260423T093000
DTSTAMP:20260421T165801
CREATED:20260415T101553Z
LAST-MODIFIED:20260415T101553Z
UID:10005730-1776933900-1776936600@www.tonbridgeschoolcentre.co.uk
SUMMARY:Class: Aqua
DESCRIPTION:Instructor: Alex.  \nAqua is a low-impact workout performed in the water that combines cardio\, strength\, and flexibility training. The water’s natural resistance helps tone muscles while reducing stress on joints\, making it suitable for all fitness levels. This refreshing and fun class improves endurance\, balance\, and overall fitness.
URL:https://www.tonbridgeschoolcentre.co.uk/event/class-aqua-71/
CATEGORIES:Aqua,Classes,Water Based
END:VEVENT
BEGIN:VEVENT
DTSTART;TZID=Europe/London:20260505T084500
DTEND;TZID=Europe/London:20260505T093000
DTSTAMP:20260421T165801
CREATED:20260420T115335Z
LAST-MODIFIED:20260420T115335Z
UID:10005894-1777970700-1777973400@www.tonbridgeschoolcentre.co.uk
SUMMARY:Class: Aqua
DESCRIPTION:Instructor: Monica.  \nAqua is a low-impact workout performed in the water that combines cardio\, strength\, and flexibility training. The water’s natural resistance helps tone muscles while reducing stress on joints\, making it suitable for all fitness levels. This refreshing and fun class improves endurance\, balance\, and overall fitness.
URL:https://www.tonbridgeschoolcentre.co.uk/event/class-aqua-72/
CATEGORIES:Aqua,Classes,Water Based
END:VEVENT
BEGIN:VEVENT
DTSTART;TZID=Europe/London:20260507T084500
DTEND;TZID=Europe/London:20260507T093000
DTSTAMP:20260421T165801
CREATED:20260420T115939Z
LAST-MODIFIED:20260420T115939Z
UID:10005915-1778143500-1778146200@www.tonbridgeschoolcentre.co.uk
SUMMARY:Class: Aqua
DESCRIPTION:Instructor: Alex.  \nAqua is a low-impact workout performed in the water that combines cardio\, strength\, and flexibility training. The water’s natural resistance helps tone muscles while reducing stress on joints\, making it suitable for all fitness levels. This refreshing and fun class improves endurance\, balance\, and overall fitness.
URL:https://www.tonbridgeschoolcentre.co.uk/event/class-aqua-73/
CATEGORIES:Aqua,Classes,Water Based
END:VEVENT
END:VCALENDAR